| Back to Multiple platform build/check report for BioC 3.18: simplified long | 
 | 
This page was generated on 2024-04-17 11:35:56 -0400 (Wed, 17 Apr 2024).
| Hostname | OS | Arch (*) | R version | Installed pkgs | 
|---|---|---|---|---|
| nebbiolo2 | Linux (Ubuntu 22.04.3 LTS) | x86_64 | 4.3.3 (2024-02-29) -- "Angel Food Cake" | 4676 | 
| palomino4 | Windows Server 2022 Datacenter | x64 | 4.3.3 (2024-02-29 ucrt) -- "Angel Food Cake" | 4414 | 
| merida1 | macOS 12.7.1 Monterey | x86_64 | 4.3.3 (2024-02-29) -- "Angel Food Cake" | 4437 | 
| Click on any hostname to see more info about the system (e.g. compilers) (*) as reported by 'uname -p', except on Windows and Mac OS X | ||||
| Package 684/2266 | Hostname | OS / Arch | INSTALL | BUILD | CHECK | BUILD BIN | ||||||||
| extraChIPs 1.6.1  (landing page) Stephen Pederson 
 | nebbiolo2 | Linux (Ubuntu 22.04.3 LTS) / x86_64 | OK | OK | OK |  | ||||||||
| palomino4 | Windows Server 2022 Datacenter / x64 | OK | OK | OK | OK |  | ||||||||
| merida1 | macOS 12.7.1 Monterey / x86_64 | OK | OK | OK | OK |  | ||||||||
| kjohnson1 | macOS 13.6.1 Ventura / arm64 | see weekly results here | ||||||||||||
| To the developers/maintainers of the extraChIPs package: - Allow up to 24 hours (and sometimes 48 hours) for your latest push to git@git.bioconductor.org:packages/extraChIPs.git to reflect on this report. See Troubleshooting Build Report for more information. - Use the following Renviron settings to reproduce errors and warnings. - If 'R CMD check' started to fail recently on the Linux builder(s) over a missing dependency, add the missing dependency to 'Suggests:' in your DESCRIPTION file. See Renviron.bioc for more information. | 
| Package: extraChIPs | 
| Version: 1.6.1 | 
| Command: /home/biocbuild/bbs-3.18-bioc/R/bin/R CMD check --install=check:extraChIPs.install-out.txt --library=/home/biocbuild/bbs-3.18-bioc/R/site-library --timings extraChIPs_1.6.1.tar.gz | 
| StartedAt: 2024-04-15 22:42:45 -0400 (Mon, 15 Apr 2024) | 
| EndedAt: 2024-04-15 22:54:00 -0400 (Mon, 15 Apr 2024) | 
| EllapsedTime: 675.6 seconds | 
| RetCode: 0 | 
| Status: OK | 
| CheckDir: extraChIPs.Rcheck | 
| Warnings: 0 | 
##############################################################################
##############################################################################
###
### Running command:
###
###   /home/biocbuild/bbs-3.18-bioc/R/bin/R CMD check --install=check:extraChIPs.install-out.txt --library=/home/biocbuild/bbs-3.18-bioc/R/site-library --timings extraChIPs_1.6.1.tar.gz
###
##############################################################################
##############################################################################
* using log directory ‘/home/biocbuild/bbs-3.18-bioc/meat/extraChIPs.Rcheck’
* using R version 4.3.3 (2024-02-29)
* using platform: x86_64-pc-linux-gnu (64-bit)
* R was compiled by
    gcc (Ubuntu 11.4.0-1ubuntu1~22.04) 11.4.0
    GNU Fortran (Ubuntu 11.4.0-1ubuntu1~22.04) 11.4.0
* running under: Ubuntu 22.04.4 LTS
* using session charset: UTF-8
* checking for file ‘extraChIPs/DESCRIPTION’ ... OK
* this is package ‘extraChIPs’ version ‘1.6.1’
* package encoding: UTF-8
* checking package namespace information ... OK
* checking package dependencies ... NOTE
Depends: includes the non-default packages:
  'BiocParallel', 'GenomicRanges', 'ggplot2', 'ggside',
  'SummarizedExperiment', 'tibble'
Adding so many packages to the search path is excessive and importing
selectively is preferable.
* checking if this is a source package ... OK
* checking if there is a namespace ... OK
* checking for hidden files and directories ... NOTE
Found the following hidden files and directories:
  .BBSoptions
These were most likely included in error. See section ‘Package
structure’ in the ‘Writing R Extensions’ manual.
* checking for portable file names ... OK
* checking for sufficient/correct file permissions ... OK
* checking whether package ‘extraChIPs’ can be installed ... OK
* used C compiler: ‘gcc (Ubuntu 11.4.0-1ubuntu1~22.04) 11.4.0’
* checking installed package size ... OK
* checking package directory ... OK
* checking ‘build’ directory ... OK
* checking DESCRIPTION meta-information ... OK
* checking top-level files ... OK
* checking for left-over files ... OK
* checking index information ... OK
* checking package subdirectories ... OK
* checking R files for non-ASCII characters ... OK
* checking R files for syntax errors ... OK
* checking whether the package can be loaded ... OK
* checking whether the package can be loaded with stated dependencies ... OK
* checking whether the package can be unloaded cleanly ... OK
* checking whether the namespace can be loaded with stated dependencies ... OK
* checking whether the namespace can be unloaded cleanly ... OK
* checking loading without being on the library search path ... OK
* checking dependencies in R code ... OK
* checking S3 generic/method consistency ... OK
* checking replacement functions ... OK
* checking foreign function calls ... OK
* checking R code for possible problems ... OK
* checking Rd files ... OK
* checking Rd metadata ... OK
* checking Rd cross-references ... OK
* checking for missing documentation entries ... OK
* checking for code/documentation mismatches ... OK
* checking Rd \usage sections ... OK
* checking Rd contents ... OK
* checking for unstated dependencies in examples ... OK
* checking contents of ‘data’ directory ... OK
* checking data for non-ASCII characters ... OK
* checking data for ASCII and uncompressed saves ... OK
* checking line endings in C/C++/Fortran sources/headers ... OK
* checking compiled code ... NOTE
Note: information on .o files is not available
* checking files in ‘vignettes’ ... OK
* checking examples ... OK
* checking for unstated dependencies in ‘tests’ ... OK
* checking tests ...
  Running ‘testthat.R’
 OK
* checking for unstated dependencies in vignettes ... OK
* checking package vignettes in ‘inst/doc’ ... OK
* checking running R code from vignettes ...
  ‘differential_signal_fixed.Rmd’ using ‘UTF-8’... OK
  ‘differential_signal_sliding.Rmd’ using ‘UTF-8’... OK
  ‘range_based_functions.Rmd’ using ‘UTF-8’... OK
 OK
* checking re-building of vignette outputs ... OK
* checking PDF version of manual ... OK
* DONE
Status: 3 NOTEs
See
  ‘/home/biocbuild/bbs-3.18-bioc/meat/extraChIPs.Rcheck/00check.log’
for details.
extraChIPs.Rcheck/00install.out
##############################################################################
##############################################################################
###
### Running command:
###
###   /home/biocbuild/bbs-3.18-bioc/R/bin/R CMD INSTALL extraChIPs
###
##############################################################################
##############################################################################
* installing to library ‘/home/biocbuild/bbs-3.18-bioc/R/site-library’
* installing *source* package ‘extraChIPs’ ...
** using staged installation
** libs
using C compiler: ‘gcc (Ubuntu 11.4.0-1ubuntu1~22.04) 11.4.0’
gcc -I"/home/biocbuild/bbs-3.18-bioc/R/include" -DNDEBUG   -I/usr/local/include    -fpic  -g -O2  -Wall -c FMStable.c -o FMStable.o
FMStable.c: In function ‘setalpha’:
FMStable.c:4835:22: warning: unused variable ‘sinhalfangle’ [-Wunused-variable]
 4835 |     double sinangle, sinhalfangle;
      |                      ^~~~~~~~~~~~
FMStable.c: In function ‘tailsMSS’:
FMStable.c:4924:21: warning: unused variable ‘temp’ [-Wunused-variable]
 4924 |     double z,y,dy,t,temp,scale;
      |                     ^~~~
At top level:
FMStable.c:231:35: warning: ‘alphalarge’ defined but not used [-Wunused-variable]
  231 | static int distributiontabulated, alphalarge;
      |                                   ^~~~~~~~~~
FMStable.c:227:52: warning: ‘C4’ defined but not used [-Wunused-variable]
  227 | static double Clogd,alphastar,ratio,angle,C1,C2,C3,C4,eta;
      |                                                    ^~
FMStable.c:227:49: warning: ‘C3’ defined but not used [-Wunused-variable]
  227 | static double Clogd,alphastar,ratio,angle,C1,C2,C3,C4,eta;
      |                                                 ^~
FMStable.c:227:46: warning: ‘C2’ defined but not used [-Wunused-variable]
  227 | static double Clogd,alphastar,ratio,angle,C1,C2,C3,C4,eta;
      |                                              ^~
FMStable.c:227:43: warning: ‘C1’ defined but not used [-Wunused-variable]
  227 | static double Clogd,alphastar,ratio,angle,C1,C2,C3,C4,eta;
      |                                           ^~
FMStable.c:227:37: warning: ‘angle’ defined but not used [-Wunused-variable]
  227 | static double Clogd,alphastar,ratio,angle,C1,C2,C3,C4,eta;
      |                                     ^~~~~
FMStable.c:227:31: warning: ‘ratio’ defined but not used [-Wunused-variable]
  227 | static double Clogd,alphastar,ratio,angle,C1,C2,C3,C4,eta;
      |                               ^~~~~
gcc -I"/home/biocbuild/bbs-3.18-bioc/R/include" -DNDEBUG   -I/usr/local/include    -fpic  -g -O2  -Wall -c init.c -o init.o
gcc -shared -L/home/biocbuild/bbs-3.18-bioc/R/lib -L/usr/local/lib -o extraChIPs.so FMStable.o init.o -L/home/biocbuild/bbs-3.18-bioc/R/lib -lR
installing to /home/biocbuild/bbs-3.18-bioc/R/site-library/00LOCK-extraChIPs/00new/extraChIPs/libs
** R
** data
** inst
** byte-compile and prepare package for lazy loading
** help
*** installing help indices
*** copying figures
** building package indices
** installing vignettes
** testing if installed package can be loaded from temporary location
** checking absolute paths in shared objects and dynamic libraries
** testing if installed package can be loaded from final location
** testing if installed package keeps a record of temporary installation path
* DONE (extraChIPs)
extraChIPs.Rcheck/tests/testthat.Rout
R version 4.3.3 (2024-02-29) -- "Angel Food Cake"
Copyright (C) 2024 The R Foundation for Statistical Computing
Platform: x86_64-pc-linux-gnu (64-bit)
R is free software and comes with ABSOLUTELY NO WARRANTY.
You are welcome to redistribute it under certain conditions.
Type 'license()' or 'licence()' for distribution details.
R is a collaborative project with many contributors.
Type 'contributors()' for more information and
'citation()' on how to cite R or R packages in publications.
Type 'demo()' for some demos, 'help()' for on-line help, or
'help.start()' for an HTML browser interface to help.
Type 'q()' to quit R.
> library(testthat)
> library(extraChIPs)
Loading required package: BiocParallel
Loading required package: GenomicRanges
Loading required package: stats4
Loading required package: BiocGenerics
Attaching package: 'BiocGenerics'
The following objects are masked from 'package:stats':
    IQR, mad, sd, var, xtabs
The following objects are masked from 'package:base':
    Filter, Find, Map, Position, Reduce, anyDuplicated, aperm, append,
    as.data.frame, basename, cbind, colnames, dirname, do.call,
    duplicated, eval, evalq, get, grep, grepl, intersect, is.unsorted,
    lapply, mapply, match, mget, order, paste, pmax, pmax.int, pmin,
    pmin.int, rank, rbind, rownames, sapply, setdiff, sort, table,
    tapply, union, unique, unsplit, which.max, which.min
Loading required package: S4Vectors
Attaching package: 'S4Vectors'
The following object is masked from 'package:utils':
    findMatches
The following objects are masked from 'package:base':
    I, expand.grid, unname
Loading required package: IRanges
Loading required package: GenomeInfoDb
Loading required package: ggplot2
Loading required package: ggside
Loading required package: SummarizedExperiment
Loading required package: MatrixGenerics
Loading required package: matrixStats
Attaching package: 'MatrixGenerics'
The following objects are masked from 'package:matrixStats':
    colAlls, colAnyNAs, colAnys, colAvgsPerRowSet, colCollapse,
    colCounts, colCummaxs, colCummins, colCumprods, colCumsums,
    colDiffs, colIQRDiffs, colIQRs, colLogSumExps, colMadDiffs,
    colMads, colMaxs, colMeans2, colMedians, colMins, colOrderStats,
    colProds, colQuantiles, colRanges, colRanks, colSdDiffs, colSds,
    colSums2, colTabulates, colVarDiffs, colVars, colWeightedMads,
    colWeightedMeans, colWeightedMedians, colWeightedSds,
    colWeightedVars, rowAlls, rowAnyNAs, rowAnys, rowAvgsPerColSet,
    rowCollapse, rowCounts, rowCummaxs, rowCummins, rowCumprods,
    rowCumsums, rowDiffs, rowIQRDiffs, rowIQRs, rowLogSumExps,
    rowMadDiffs, rowMads, rowMaxs, rowMeans2, rowMedians, rowMins,
    rowOrderStats, rowProds, rowQuantiles, rowRanges, rowRanks,
    rowSdDiffs, rowSds, rowSums2, rowTabulates, rowVarDiffs, rowVars,
    rowWeightedMads, rowWeightedMeans, rowWeightedMedians,
    rowWeightedSds, rowWeightedVars
Loading required package: Biobase
Welcome to Bioconductor
    Vignettes contain introductory material; view with
    'browseVignettes()'. To cite Bioconductor, see
    'citation("Biobase")', and for packages 'citation("pkgname")'.
Attaching package: 'Biobase'
The following object is masked from 'package:MatrixGenerics':
    rowMedians
The following objects are masked from 'package:matrixStats':
    anyMissing, rowMedians
Loading required package: tibble
> 
> test_check("extraChIPs")
Creating DGE list...
Calculating experiment-wide normalisation factors...
Estimating dispersions...
Running glmQLFit...
Creating DGE list...
Calculating experiment-wide normalisation factors...
Estimating dispersions...
Running glmQLFit...
[ FAIL 0 | WARN 0 | SKIP 0 | PASS 575 ]
> 
> proc.time()
   user  system elapsed 
 67.111   1.809  68.910 
extraChIPs.Rcheck/extraChIPs-Ex.timings
| name | user | system | elapsed | |
| addDiffStatus-methods | 0.220 | 0.004 | 0.224 | |
| as_tibble | 0.476 | 0.032 | 0.508 | |
| bestOverlap-methods | 0.951 | 0.076 | 1.027 | |
| chopMC | 0.156 | 0.016 | 0.171 | |
| colToRanges-methods | 0.213 | 0.004 | 0.217 | |
| collapseGenes | 0.003 | 0.000 | 0.003 | |
| cytobands | 0.012 | 0.000 | 0.012 | |
| defineRegions | 3.635 | 0.076 | 3.711 | |
| defineSeqinfo | 0.006 | 0.004 | 0.011 | |
| distinctMC | 0.344 | 0.000 | 0.344 | |
| dualFilter | 0.000 | 0.000 | 0.001 | |
| ex_datasets | 0.013 | 0.000 | 0.013 | |
| fitAssayDiff-methods | 0.199 | 0.000 | 0.199 | |
| fixed_width_datasets | 0.051 | 0.000 | 0.051 | |
| getProfileData-methods | 1.680 | 0.092 | 1.773 | |
| grlToSE-methods | 0.446 | 0.000 | 0.446 | |
| importPeaks | 0.139 | 0.000 | 0.139 | |
| makeConsensus | 0.852 | 0.000 | 0.852 | |
| mapByFeature | 0.616 | 0.012 | 0.628 | |
| mapGrlCols | 1.471 | 0.008 | 1.479 | |
| mergeByCol-methods | 0.288 | 0.004 | 0.292 | |
| mergeByHMP-methods | 0.429 | 0.003 | 0.433 | |
| mergeBySig-methods | 0.524 | 0.009 | 0.532 | |
| partitionRanges-methods | 0.995 | 0.000 | 0.995 | |
| plotAssayDensities-methods | 1.009 | 0.060 | 1.068 | |
| plotAssayHeatmap-methods | 0.406 | 0.007 | 0.413 | |
| plotAssayPCA-methods | 0.730 | 0.005 | 0.734 | |
| plotAssayRle-methods | 0.777 | 0.039 | 0.816 | |
| plotGrlCol | 1.373 | 0.049 | 1.422 | |
| plotHFGC | 0 | 0 | 0 | |
| plotOverlaps-methods | 2.705 | 0.019 | 2.724 | |
| plotPairwise | 2.941 | 0.021 | 2.961 | |
| plotPie-methods | 1.407 | 0.023 | 1.431 | |
| plotProfileHeatmap-methods | 0.001 | 0.001 | 0.000 | |
| plotSplitDonut-methods | 1.319 | 0.000 | 1.320 | |
| propOverlap-methods | 0.254 | 0.000 | 0.254 | |
| reduceMC | 0.265 | 0.000 | 0.264 | |
| setoptsMC-methods | 0.852 | 0.015 | 0.868 | |
| stitchRanges | 0.266 | 0.008 | 0.275 | |
| voomWeightsFromCPM | 0.204 | 0.000 | 0.204 | |