| Back to Multiple platform build/check report for BioC 3.18: simplified long |
|
This page was generated on 2023-11-02 11:40:32 -0400 (Thu, 02 Nov 2023).
| Hostname | OS | Arch (*) | R version | Installed pkgs |
|---|---|---|---|---|
| nebbiolo2 | Linux (Ubuntu 22.04.2 LTS) | x86_64 | 4.3.1 (2023-06-16) -- "Beagle Scouts" | 4729 |
| palomino4 | Windows Server 2022 Datacenter | x64 | 4.3.1 (2023-06-16 ucrt) -- "Beagle Scouts" | 4463 |
| lconway | macOS 12.6.5 Monterey | x86_64 | 4.3.1 Patched (2023-06-17 r84564) -- "Beagle Scouts" | 4478 |
| kunpeng2 | Linux (openEuler 22.03 LTS-SP1) | aarch64 | 4.3.1 (2023-06-16) -- "Beagle Scouts" | 4464 |
| Click on any hostname to see more info about the system (e.g. compilers) (*) as reported by 'uname -p', except on Windows and Mac OS X | ||||
| Package 380/2266 | Hostname | OS / Arch | INSTALL | BUILD | CHECK | BUILD BIN | ||||||||
| cn.mops 1.48.0 (landing page) Gundula Povysil
| nebbiolo2 | Linux (Ubuntu 22.04.2 LTS) / x86_64 | OK | OK | OK | |||||||||
| palomino4 | Windows Server 2022 Datacenter / x64 | OK | OK | OK | OK | |||||||||
| lconway | macOS 12.6.5 Monterey / x86_64 | OK | OK | OK | OK | |||||||||
| kjohnson1 | macOS 13.6.1 Ventura / arm64 | see weekly results here | ||||||||||||
| kunpeng2 | Linux (openEuler 22.03 LTS-SP1) / aarch64 | OK | OK | OK | ||||||||||
|
To the developers/maintainers of the cn.mops package: - Allow up to 24 hours (and sometimes 48 hours) for your latest push to git@git.bioconductor.org:packages/cn.mops.git to reflect on this report. See Troubleshooting Build Report for more information. - Use the following Renviron settings to reproduce errors and warnings. - If 'R CMD check' started to fail recently on the Linux builder(s) over a missing dependency, add the missing dependency to 'Suggests:' in your DESCRIPTION file. See Renviron.bioc for more information. - See Martin Grigorov's blog post for how to debug Linux ARM64 related issues on a x86_64 host. |
| Package: cn.mops |
| Version: 1.48.0 |
| Command: /home/biocbuild/R/R-4.3.1/bin/R CMD check --install=check:cn.mops.install-out.txt --library=/home/biocbuild/R/R-4.3.1/site-library --no-vignettes --timings cn.mops_1.48.0.tar.gz |
| StartedAt: 2023-11-02 09:23:51 -0000 (Thu, 02 Nov 2023) |
| EndedAt: 2023-11-02 09:29:06 -0000 (Thu, 02 Nov 2023) |
| EllapsedTime: 315.1 seconds |
| RetCode: 0 |
| Status: OK |
| CheckDir: cn.mops.Rcheck |
| Warnings: 0 |
##############################################################################
##############################################################################
###
### Running command:
###
### /home/biocbuild/R/R-4.3.1/bin/R CMD check --install=check:cn.mops.install-out.txt --library=/home/biocbuild/R/R-4.3.1/site-library --no-vignettes --timings cn.mops_1.48.0.tar.gz
###
##############################################################################
##############################################################################
* using log directory ‘/home/biocbuild/bbs-3.18-bioc/meat/cn.mops.Rcheck’
* using R version 4.3.1 (2023-06-16)
* using platform: aarch64-unknown-linux-gnu (64-bit)
* R was compiled by
gcc (GCC) 10.3.1
GNU Fortran (GCC) 10.3.1
* running under: openEuler 22.03 (LTS-SP1)
* using session charset: UTF-8
* using option ‘--no-vignettes’
* checking for file ‘cn.mops/DESCRIPTION’ ... OK
* checking extension type ... Package
* this is package ‘cn.mops’ version ‘1.48.0’
* checking package namespace information ... OK
* checking package dependencies ... OK
* checking if this is a source package ... OK
* checking if there is a namespace ... OK
* checking for hidden files and directories ... OK
* checking for portable file names ... OK
* checking for sufficient/correct file permissions ... OK
* checking whether package ‘cn.mops’ can be installed ... OK
* used C compiler: ‘gcc (GCC) 10.3.1’
* used C++ compiler: ‘g++ (GCC) 10.3.1’
* checking installed package size ... OK
* checking package directory ... OK
* checking ‘build’ directory ... OK
* checking DESCRIPTION meta-information ... OK
* checking top-level files ... OK
* checking for left-over files ... OK
* checking index information ... OK
* checking package subdirectories ... OK
* checking R files for non-ASCII characters ... OK
* checking R files for syntax errors ... OK
* checking whether the package can be loaded ... OK
* checking whether the package can be loaded with stated dependencies ... OK
* checking whether the package can be unloaded cleanly ... OK
* checking whether the namespace can be loaded with stated dependencies ... OK
* checking whether the namespace can be unloaded cleanly ... OK
* checking loading without being on the library search path ... OK
* checking startup messages can be suppressed ... OK
* checking dependencies in R code ... OK
* checking S3 generic/method consistency ... OK
* checking replacement functions ... OK
* checking foreign function calls ... OK
* checking R code for possible problems ... OK
* checking Rd files ... OK
* checking Rd metadata ... OK
* checking Rd cross-references ... OK
* checking for missing documentation entries ... OK
* checking for code/documentation mismatches ... OK
* checking Rd \usage sections ... OK
* checking Rd contents ... OK
* checking for unstated dependencies in examples ... OK
* checking contents of ‘data’ directory ... OK
* checking data for non-ASCII characters ... OK
* checking data for ASCII and uncompressed saves ... OK
* checking line endings in C/C++/Fortran sources/headers ... OK
* checking compiled code ... NOTE
Note: information on .o files is not available
* checking files in ‘vignettes’ ... OK
* checking examples ... OK
Examples with CPU (user + system) or elapsed time > 5s
user system elapsed
referencecn.mops 30.433 0.119 41.678
calcFractionalCopyNumbers-CNVDetectionResult-method 18.219 1.800 21.703
calcFractionalCopyNumbers 17.812 0.017 17.859
cn.mops 8.341 0.121 30.023
haplocn.mops 1.458 0.039 13.008
getReadCountsFromBAM 0.604 0.041 7.877
getSegmentReadCountsFromBAM 0.371 0.066 5.944
* checking for unstated dependencies in vignettes ... OK
* checking package vignettes in ‘inst/doc’ ... OK
* checking running R code from vignettes ... SKIPPED
* checking re-building of vignette outputs ... SKIPPED
* checking PDF version of manual ... OK
* DONE
Status: 1 NOTE
See
‘/home/biocbuild/bbs-3.18-bioc/meat/cn.mops.Rcheck/00check.log’
for details.
cn.mops.Rcheck/00install.out
##############################################################################
##############################################################################
###
### Running command:
###
### /home/biocbuild/R/R-4.3.1/bin/R CMD INSTALL cn.mops
###
##############################################################################
##############################################################################
* installing to library ‘/home/biocbuild/R/R-4.3.1/site-library’
* installing *source* package ‘cn.mops’ ...
** using staged installation
** libs
using C compiler: ‘gcc (GCC) 10.3.1’
using C++ compiler: ‘g++ (GCC) 10.3.1’
gcc -I"/home/biocbuild/R/R-4.3.1/include" -DNDEBUG -I/usr/local/include -fPIC -g -O2 -Wall -c R_init_cnmops.c -o R_init_cnmops.o
g++ -std=gnu++17 -I"/home/biocbuild/R/R-4.3.1/include" -DNDEBUG -I/usr/local/include -fPIC -g -O2 -Wall -c cnmops.cpp -o cnmops.o
g++ -std=gnu++17 -I"/home/biocbuild/R/R-4.3.1/include" -DNDEBUG -I/usr/local/include -fPIC -g -O2 -Wall -c segment.cpp -o segment.o
segment.cpp: In function ‘SEXPREC* segment(SEXP, SEXP, SEXP, SEXP, SEXP, SEXP)’:
segment.cpp:59:20: warning: variable ‘globalSd’ set but not used [-Wunused-but-set-variable]
59 | double globalMean,globalSd,diff,M2,globalVariance;
| ^~~~~~~~
segment.cpp:60:9: warning: variable ‘oldStatistic’ set but not used [-Wunused-but-set-variable]
60 | double oldStatistic, meanLeft,meanRight,varLeft,varRight;
| ^~~~~~~~~~~~
segment.cpp:61:31: warning: variable ‘maxStatistic’ set but not used [-Wunused-but-set-variable]
61 | double newStatistic,meanDiff,maxStatistic,DOF,a,b,eps1;
| ^~~~~~~~~~~~
segment.cpp:62:40: warning: variable ‘maxIdx’ set but not used [-Wunused-but-set-variable]
62 | double newPValue, maxPValue,oldPValue,maxIdx;
| ^~~~~~
In file included from segment.cpp:10:
/home/biocbuild/R/R-4.3.1/include/Rmath.h:210:15: warning: unused variable ‘Rf_beta’ [-Wunused-variable]
210 | #define beta Rf_beta
| ^~~~~~~
segment.cpp:64:9: note: in expansion of macro ‘beta’
64 | double beta,nn;
| ^~~~
g++ -std=gnu++17 -shared -L/home/biocbuild/R/R-4.3.1/lib -L/usr/local/lib -o cn.mops.so R_init_cnmops.o cnmops.o segment.o -L/home/biocbuild/R/R-4.3.1/lib -lR
installing to /home/biocbuild/R/R-4.3.1/site-library/00LOCK-cn.mops/00new/cn.mops/libs
** R
** data
** inst
** byte-compile and prepare package for lazy loading
** help
*** installing help indices
** building package indices
** installing vignettes
** testing if installed package can be loaded from temporary location
** checking absolute paths in shared objects and dynamic libraries
** testing if installed package can be loaded from final location
** testing if installed package keeps a record of temporary installation path
* DONE (cn.mops)
cn.mops.Rcheck/cn.mops-Ex.timings
| name | user | system | elapsed | |
| CNVDetectionResult | 0.001 | 0.000 | 0.001 | |
| calcFractionalCopyNumbers-CNVDetectionResult-method | 18.219 | 1.800 | 21.703 | |
| calcFractionalCopyNumbers | 17.812 | 0.017 | 17.859 | |
| calcIntegerCopyNumbers-CNVDetectionResult-method | 0.556 | 0.469 | 1.678 | |
| calcIntegerCopyNumbers | 0.503 | 0.011 | 0.526 | |
| cn.mops | 8.341 | 0.121 | 30.023 | |
| cnvr-CNVDetectionResult-method | 0.303 | 0.004 | 0.308 | |
| cnvr | 0.289 | 0.000 | 0.289 | |
| cnvs-CNVDetectionResult-method | 0.288 | 0.004 | 0.293 | |
| cnvs | 0.293 | 0.004 | 0.298 | |
| exomecn.mops | 3.650 | 0.007 | 3.666 | |
| getReadCountsFromBAM | 0.604 | 0.041 | 7.877 | |
| getSegmentReadCountsFromBAM | 0.371 | 0.066 | 5.944 | |
| gr-CNVDetectionResult-method | 0.277 | 0.003 | 0.284 | |
| gr | 0.303 | 0.004 | 0.308 | |
| haplocn.mops | 1.458 | 0.039 | 13.008 | |
| individualCall-CNVDetectionResult-method | 0.316 | 0.004 | 0.322 | |
| individualCall | 0.306 | 0.000 | 0.307 | |
| iniCall-CNVDetectionResult-method | 0.302 | 0.000 | 0.302 | |
| iniCall | 0.319 | 0.000 | 0.319 | |
| integerCopyNumber-CNVDetectionResult-method | 0.290 | 0.008 | 0.299 | |
| integerCopyNumber | 0.285 | 0.004 | 0.291 | |
| localAssessments-CNVDetectionResult-method | 0.302 | 0.004 | 0.307 | |
| localAssessments | 0.311 | 0.004 | 0.316 | |
| makeRobustCNVR | 0.513 | 0.004 | 0.519 | |
| normalizeChromosomes | 0.303 | 0.008 | 0.312 | |
| normalizeGenome | 0.706 | 0.024 | 0.731 | |
| normalizedData-CNVDetectionResult-method | 0.303 | 0.004 | 0.307 | |
| normalizedData | 0.288 | 0.004 | 0.293 | |
| params-CNVDetectionResult-method | 0.287 | 0.000 | 0.288 | |
| params | 0.281 | 0.000 | 0.281 | |
| posteriorProbs-CNVDetectionResult-method | 0.277 | 0.004 | 0.282 | |
| posteriorProbs | 0.279 | 0.008 | 0.286 | |
| referencecn.mops | 30.433 | 0.119 | 41.678 | |
| sampleNames-CNVDetectionResult-method | 0.274 | 0.004 | 0.281 | |
| sampleNames | 0.275 | 0.008 | 0.285 | |
| segment | 0.027 | 0.000 | 0.028 | |
| segmentation-CNVDetectionResult-method | 0.291 | 0.000 | 0.291 | |
| segmentation | 0.284 | 0.000 | 0.284 | |
| segplot-CNVDetectionResult-method | 1.301 | 0.008 | 1.315 | |
| segplot | 1.259 | 0.007 | 1.274 | |
| singlecn.mops | 0.949 | 0.000 | 0.952 | |