| Back to Multiple platform build/check report for BioC 3.18: simplified long |
|
This page was generated on 2024-03-04 11:37:13 -0500 (Mon, 04 Mar 2024).
| Hostname | OS | Arch (*) | R version | Installed pkgs |
|---|---|---|---|---|
| nebbiolo2 | Linux (Ubuntu 22.04.3 LTS) | x86_64 | 4.3.2 Patched (2023-11-13 r85521) -- "Eye Holes" | 4692 |
| palomino4 | Windows Server 2022 Datacenter | x64 | 4.3.2 (2023-10-31 ucrt) -- "Eye Holes" | 4445 |
| lconway | macOS 12.7.1 Monterey | x86_64 | 4.3.2 Patched (2023-11-01 r85457) -- "Eye Holes" | 4466 |
| Click on any hostname to see more info about the system (e.g. compilers) (*) as reported by 'uname -p', except on Windows and Mac OS X | ||||
| Package 380/2266 | Hostname | OS / Arch | INSTALL | BUILD | CHECK | BUILD BIN | ||||||||
| cn.mops 1.48.0 (landing page) Gundula Povysil
| nebbiolo2 | Linux (Ubuntu 22.04.3 LTS) / x86_64 | OK | OK | OK | |||||||||
| palomino4 | Windows Server 2022 Datacenter / x64 | OK | OK | OK | OK | |||||||||
| lconway | macOS 12.7.1 Monterey / x86_64 | OK | OK | OK | OK | |||||||||
| kjohnson1 | macOS 13.6.1 Ventura / arm64 | see weekly results here | ||||||||||||
|
To the developers/maintainers of the cn.mops package: - Allow up to 24 hours (and sometimes 48 hours) for your latest push to git@git.bioconductor.org:packages/cn.mops.git to reflect on this report. See Troubleshooting Build Report for more information. - Use the following Renviron settings to reproduce errors and warnings. - If 'R CMD check' started to fail recently on the Linux builder(s) over a missing dependency, add the missing dependency to 'Suggests:' in your DESCRIPTION file. See Renviron.bioc for more information. |
| Package: cn.mops |
| Version: 1.48.0 |
| Command: /Library/Frameworks/R.framework/Resources/bin/R CMD check --install=check:cn.mops.install-out.txt --library=/Library/Frameworks/R.framework/Resources/library --no-vignettes --timings cn.mops_1.48.0.tar.gz |
| StartedAt: 2024-03-03 19:43:11 -0500 (Sun, 03 Mar 2024) |
| EndedAt: 2024-03-03 19:47:03 -0500 (Sun, 03 Mar 2024) |
| EllapsedTime: 232.1 seconds |
| RetCode: 0 |
| Status: OK |
| CheckDir: cn.mops.Rcheck |
| Warnings: 0 |
##############################################################################
##############################################################################
###
### Running command:
###
### /Library/Frameworks/R.framework/Resources/bin/R CMD check --install=check:cn.mops.install-out.txt --library=/Library/Frameworks/R.framework/Resources/library --no-vignettes --timings cn.mops_1.48.0.tar.gz
###
##############################################################################
##############################################################################
* using log directory ‘/Users/biocbuild/bbs-3.18-bioc/meat/cn.mops.Rcheck’
* using R version 4.3.2 Patched (2023-11-01 r85457)
* using platform: x86_64-apple-darwin20 (64-bit)
* R was compiled by
Apple clang version 14.0.3 (clang-1403.0.22.14.1)
GNU Fortran (GCC) 12.2.0
* running under: macOS Monterey 12.7.1
* using session charset: UTF-8
* using option ‘--no-vignettes’
* checking for file ‘cn.mops/DESCRIPTION’ ... OK
* checking extension type ... Package
* this is package ‘cn.mops’ version ‘1.48.0’
* checking package namespace information ... OK
* checking package dependencies ... OK
* checking if this is a source package ... OK
* checking if there is a namespace ... OK
* checking for hidden files and directories ... OK
* checking for portable file names ... OK
* checking for sufficient/correct file permissions ... OK
* checking whether package ‘cn.mops’ can be installed ... OK
* used C compiler: ‘Apple clang version 14.0.0 (clang-1400.0.29.202)’
* used C++ compiler: ‘Apple clang version 14.0.0 (clang-1400.0.29.202)’
* used SDK: ‘MacOSX11.3.sdk’
* checking installed package size ... OK
* checking package directory ... OK
* checking ‘build’ directory ... OK
* checking DESCRIPTION meta-information ... OK
* checking top-level files ... OK
* checking for left-over files ... OK
* checking index information ... OK
* checking package subdirectories ... OK
* checking R files for non-ASCII characters ... OK
* checking R files for syntax errors ... OK
* checking whether the package can be loaded ... OK
* checking whether the package can be loaded with stated dependencies ... OK
* checking whether the package can be unloaded cleanly ... OK
* checking whether the namespace can be loaded with stated dependencies ... OK
* checking whether the namespace can be unloaded cleanly ... OK
* checking startup messages can be suppressed ... OK
* checking dependencies in R code ... OK
* checking S3 generic/method consistency ... OK
* checking replacement functions ... OK
* checking foreign function calls ... OK
* checking R code for possible problems ... OK
* checking Rd files ... OK
* checking Rd metadata ... OK
* checking Rd cross-references ... OK
* checking for missing documentation entries ... OK
* checking for code/documentation mismatches ... OK
* checking Rd \usage sections ... OK
* checking Rd contents ... OK
* checking for unstated dependencies in examples ... OK
* checking contents of ‘data’ directory ... OK
* checking data for non-ASCII characters ... OK
* checking data for ASCII and uncompressed saves ... OK
* checking line endings in C/C++/Fortran sources/headers ... OK
* checking compiled code ... NOTE
Note: information on .o files is not available
* checking sizes of PDF files under ‘inst/doc’ ... OK
* checking files in ‘vignettes’ ... OK
* checking examples ... OK
Examples with CPU (user + system) or elapsed time > 5s
user system elapsed
referencecn.mops 7.195 0.102 18.425
cn.mops 6.429 0.189 20.771
calcFractionalCopyNumbers-CNVDetectionResult-method 5.777 0.085 5.935
calcFractionalCopyNumbers 5.540 0.059 5.674
haplocn.mops 1.258 0.046 12.508
getReadCountsFromBAM 0.535 0.024 6.089
getSegmentReadCountsFromBAM 0.307 0.017 5.605
* checking for unstated dependencies in vignettes ... OK
* checking package vignettes in ‘inst/doc’ ... OK
* checking running R code from vignettes ... SKIPPED
* checking re-building of vignette outputs ... SKIPPED
* checking PDF version of manual ... OK
* DONE
Status: 1 NOTE
See
‘/Users/biocbuild/bbs-3.18-bioc/meat/cn.mops.Rcheck/00check.log’
for details.
cn.mops.Rcheck/00install.out
##############################################################################
##############################################################################
###
### Running command:
###
### /Library/Frameworks/R.framework/Resources/bin/R CMD INSTALL cn.mops
###
##############################################################################
##############################################################################
* installing to library ‘/Library/Frameworks/R.framework/Versions/4.3-x86_64/Resources/library’
* installing *source* package ‘cn.mops’ ...
** using staged installation
** libs
using C compiler: ‘Apple clang version 14.0.0 (clang-1400.0.29.202)’
using C++ compiler: ‘Apple clang version 14.0.0 (clang-1400.0.29.202)’
using SDK: ‘MacOSX11.3.sdk’
clang -arch x86_64 -I"/Library/Frameworks/R.framework/Resources/include" -DNDEBUG -I/opt/R/x86_64/include -fPIC -falign-functions=64 -Wall -g -O2 -c R_init_cnmops.c -o R_init_cnmops.o
clang++ -arch x86_64 -std=gnu++17 -I"/Library/Frameworks/R.framework/Resources/include" -DNDEBUG -I/opt/R/x86_64/include -fPIC -falign-functions=64 -Wall -g -O2 -c cnmops.cpp -o cnmops.o
clang++ -arch x86_64 -std=gnu++17 -I"/Library/Frameworks/R.framework/Resources/include" -DNDEBUG -I/opt/R/x86_64/include -fPIC -falign-functions=64 -Wall -g -O2 -c segment.cpp -o segment.o
segment.cpp:64:9: warning: unused variable 'Rf_beta' [-Wunused-variable]
double beta,nn;
^
/Library/Frameworks/R.framework/Resources/include/Rmath.h:210:15: note: expanded from macro 'beta'
#define beta Rf_beta
^
segment.cpp:60:9: warning: variable 'oldStatistic' set but not used [-Wunused-but-set-variable]
double oldStatistic, meanLeft,meanRight,varLeft,varRight;
^
segment.cpp:62:40: warning: variable 'maxIdx' set but not used [-Wunused-but-set-variable]
double newPValue, maxPValue,oldPValue,maxIdx;
^
segment.cpp:61:31: warning: variable 'maxStatistic' set but not used [-Wunused-but-set-variable]
double newStatistic,meanDiff,maxStatistic,DOF,a,b,eps1;
^
segment.cpp:59:20: warning: variable 'globalSd' set but not used [-Wunused-but-set-variable]
double globalMean,globalSd,diff,M2,globalVariance;
^
5 warnings generated.
clang++ -arch x86_64 -std=gnu++17 -dynamiclib -Wl,-headerpad_max_install_names -undefined dynamic_lookup -L/Library/Frameworks/R.framework/Resources/lib -L/opt/R/x86_64/lib -o cn.mops.so R_init_cnmops.o cnmops.o segment.o -F/Library/Frameworks/R.framework/.. -framework R -Wl,-framework -Wl,CoreFoundation
installing to /Library/Frameworks/R.framework/Versions/4.3-x86_64/Resources/library/00LOCK-cn.mops/00new/cn.mops/libs
** R
** data
** inst
** byte-compile and prepare package for lazy loading
** help
*** installing help indices
** building package indices
** installing vignettes
** testing if installed package can be loaded from temporary location
** checking absolute paths in shared objects and dynamic libraries
** testing if installed package can be loaded from final location
** testing if installed package keeps a record of temporary installation path
* DONE (cn.mops)
cn.mops.Rcheck/cn.mops-Ex.timings
| name | user | system | elapsed | |
| CNVDetectionResult | 0.001 | 0.001 | 0.002 | |
| calcFractionalCopyNumbers-CNVDetectionResult-method | 5.777 | 0.085 | 5.935 | |
| calcFractionalCopyNumbers | 5.540 | 0.059 | 5.674 | |
| calcIntegerCopyNumbers-CNVDetectionResult-method | 0.483 | 0.008 | 0.503 | |
| calcIntegerCopyNumbers | 0.432 | 0.012 | 0.462 | |
| cn.mops | 6.429 | 0.189 | 20.771 | |
| cnvr-CNVDetectionResult-method | 0.252 | 0.007 | 0.262 | |
| cnvr | 0.208 | 0.004 | 0.213 | |
| cnvs-CNVDetectionResult-method | 0.260 | 0.011 | 0.272 | |
| cnvs | 0.246 | 0.006 | 0.253 | |
| exomecn.mops | 2.739 | 0.037 | 2.807 | |
| getReadCountsFromBAM | 0.535 | 0.024 | 6.089 | |
| getSegmentReadCountsFromBAM | 0.307 | 0.017 | 5.605 | |
| gr-CNVDetectionResult-method | 0.253 | 0.006 | 0.263 | |
| gr | 0.252 | 0.004 | 0.258 | |
| haplocn.mops | 1.258 | 0.046 | 12.508 | |
| individualCall-CNVDetectionResult-method | 0.234 | 0.006 | 0.243 | |
| individualCall | 0.243 | 0.005 | 0.249 | |
| iniCall-CNVDetectionResult-method | 0.274 | 0.005 | 0.283 | |
| iniCall | 0.262 | 0.006 | 0.270 | |
| integerCopyNumber-CNVDetectionResult-method | 0.256 | 0.007 | 0.264 | |
| integerCopyNumber | 0.262 | 0.006 | 0.271 | |
| localAssessments-CNVDetectionResult-method | 0.250 | 0.005 | 0.258 | |
| localAssessments | 0.257 | 0.006 | 0.267 | |
| makeRobustCNVR | 0.397 | 0.005 | 0.408 | |
| normalizeChromosomes | 0.181 | 0.010 | 0.198 | |
| normalizeGenome | 0.191 | 0.015 | 0.210 | |
| normalizedData-CNVDetectionResult-method | 0.266 | 0.007 | 0.279 | |
| normalizedData | 0.273 | 0.010 | 0.286 | |
| params-CNVDetectionResult-method | 0.233 | 0.015 | 0.251 | |
| params | 0.242 | 0.017 | 0.266 | |
| posteriorProbs-CNVDetectionResult-method | 0.250 | 0.006 | 0.260 | |
| posteriorProbs | 0.245 | 0.006 | 0.258 | |
| referencecn.mops | 7.195 | 0.102 | 18.425 | |
| sampleNames-CNVDetectionResult-method | 0.248 | 0.009 | 0.263 | |
| sampleNames | 0.211 | 0.004 | 0.223 | |
| segment | 0.017 | 0.001 | 0.018 | |
| segmentation-CNVDetectionResult-method | 0.266 | 0.007 | 0.278 | |
| segmentation | 0.257 | 0.006 | 0.267 | |
| segplot-CNVDetectionResult-method | 1.140 | 0.015 | 1.168 | |
| segplot | 1.583 | 0.041 | 1.762 | |
| singlecn.mops | 0.772 | 0.011 | 0.793 | |