| Back to Multiple platform build/check report for BioC 3.18: simplified long |
|
This page was generated on 2023-11-02 11:41:22 -0400 (Thu, 02 Nov 2023).
| Hostname | OS | Arch (*) | R version | Installed pkgs |
|---|---|---|---|---|
| nebbiolo2 | Linux (Ubuntu 22.04.2 LTS) | x86_64 | 4.3.1 (2023-06-16) -- "Beagle Scouts" | 4729 |
| palomino4 | Windows Server 2022 Datacenter | x64 | 4.3.1 (2023-06-16 ucrt) -- "Beagle Scouts" | 4463 |
| lconway | macOS 12.6.5 Monterey | x86_64 | 4.3.1 Patched (2023-06-17 r84564) -- "Beagle Scouts" | 4478 |
| kunpeng2 | Linux (openEuler 22.03 LTS-SP1) | aarch64 | 4.3.1 (2023-06-16) -- "Beagle Scouts" | 4464 |
| Click on any hostname to see more info about the system (e.g. compilers) (*) as reported by 'uname -p', except on Windows and Mac OS X | ||||
| Package 2117/2266 | Hostname | OS / Arch | INSTALL | BUILD | CHECK | BUILD BIN | ||||||||
| TEKRABber 1.6.0 (landing page) Yao-Chung Chen
| nebbiolo2 | Linux (Ubuntu 22.04.2 LTS) / x86_64 | OK | OK | OK | |||||||||
| palomino4 | Windows Server 2022 Datacenter / x64 | OK | OK | OK | OK | |||||||||
| lconway | macOS 12.6.5 Monterey / x86_64 | OK | OK | OK | OK | |||||||||
| kjohnson1 | macOS 13.6.1 Ventura / arm64 | see weekly results here | ||||||||||||
| kunpeng2 | Linux (openEuler 22.03 LTS-SP1) / aarch64 | OK | OK | OK | ||||||||||
|
To the developers/maintainers of the TEKRABber package: - Allow up to 24 hours (and sometimes 48 hours) for your latest push to git@git.bioconductor.org:packages/TEKRABber.git to reflect on this report. See Troubleshooting Build Report for more information. - Use the following Renviron settings to reproduce errors and warnings. - If 'R CMD check' started to fail recently on the Linux builder(s) over a missing dependency, add the missing dependency to 'Suggests:' in your DESCRIPTION file. See Renviron.bioc for more information. - See Martin Grigorov's blog post for how to debug Linux ARM64 related issues on a x86_64 host. |
| Package: TEKRABber |
| Version: 1.6.0 |
| Command: /home/biocbuild/R/R-4.3.1/bin/R CMD check --install=check:TEKRABber.install-out.txt --library=/home/biocbuild/R/R-4.3.1/site-library --no-vignettes --timings TEKRABber_1.6.0.tar.gz |
| StartedAt: 2023-11-02 14:50:15 -0000 (Thu, 02 Nov 2023) |
| EndedAt: 2023-11-02 15:03:07 -0000 (Thu, 02 Nov 2023) |
| EllapsedTime: 772.3 seconds |
| RetCode: 0 |
| Status: OK |
| CheckDir: TEKRABber.Rcheck |
| Warnings: 0 |
##############################################################################
##############################################################################
###
### Running command:
###
### /home/biocbuild/R/R-4.3.1/bin/R CMD check --install=check:TEKRABber.install-out.txt --library=/home/biocbuild/R/R-4.3.1/site-library --no-vignettes --timings TEKRABber_1.6.0.tar.gz
###
##############################################################################
##############################################################################
* using log directory ‘/home/biocbuild/bbs-3.18-bioc/meat/TEKRABber.Rcheck’
* using R version 4.3.1 (2023-06-16)
* using platform: aarch64-unknown-linux-gnu (64-bit)
* R was compiled by
gcc (GCC) 10.3.1
GNU Fortran (GCC) 10.3.1
* running under: openEuler 22.03 (LTS-SP1)
* using session charset: UTF-8
* using option ‘--no-vignettes’
* checking for file ‘TEKRABber/DESCRIPTION’ ... OK
* checking extension type ... Package
* this is package ‘TEKRABber’ version ‘1.6.0’
* package encoding: UTF-8
* checking package namespace information ... OK
* checking package dependencies ... OK
* checking if this is a source package ... OK
* checking if there is a namespace ... OK
* checking for hidden files and directories ... OK
* checking for portable file names ... OK
* checking for sufficient/correct file permissions ... OK
* checking whether package ‘TEKRABber’ can be installed ... OK
* used C++ compiler: ‘g++ (GCC) 10.3.1’
* checking installed package size ... OK
* checking package directory ... OK
* checking ‘build’ directory ... OK
* checking DESCRIPTION meta-information ... OK
* checking top-level files ... OK
* checking for left-over files ... OK
* checking index information ... OK
* checking package subdirectories ... NOTE
Problems with news in ‘NEWS.md’:
No news entries found.
* checking R files for non-ASCII characters ... OK
* checking R files for syntax errors ... OK
* checking whether the package can be loaded ... OK
* checking whether the package can be loaded with stated dependencies ... OK
* checking whether the package can be unloaded cleanly ... OK
* checking whether the namespace can be loaded with stated dependencies ... OK
* checking whether the namespace can be unloaded cleanly ... OK
* checking loading without being on the library search path ... OK
* checking startup messages can be suppressed ... OK
* checking dependencies in R code ... OK
* checking S3 generic/method consistency ... OK
* checking replacement functions ... OK
* checking foreign function calls ... OK
* checking R code for possible problems ... NOTE
File ‘TEKRABber/R/zzz.R’:
.onLoad calls:
packageStartupMessage("Welcome to TEKRABber version 1.6.0")
See section ‘Good practice’ in '?.onAttach'.
appTEKRABber: no visible global function definition for ‘grid_page’
appTEKRABber: no visible global function definition for
‘grid_card_text’
appTEKRABber: no visible global function definition for ‘grid_card’
appTEKRABber: no visible global function definition for ‘card_header’
appTEKRABber: no visible global function definition for ‘card_body’
appTEKRABber: no visible global function definition for
‘selectizeInput’
appTEKRABber: no visible global function definition for ‘actionButton’
appTEKRABber: no visible global function definition for ‘plotlyOutput’
appTEKRABber: no visible global function definition for ‘plotOutput’
appTEKRABber : server: no visible global function definition for
‘renderPlotly’
appTEKRABber : server: no visible global function definition for
‘plot_ly’
appTEKRABber : server: no visible global function definition for
‘observeEvent’
appTEKRABber : server: no visible global function definition for
‘renderPlot’
appTEKRABber : server: no visible global function definition for
‘ggplot’
appTEKRABber : server: no visible global function definition for ‘aes’
appTEKRABber : server: no visible binding for global variable ‘gene’
appTEKRABber : server: no visible binding for global variable ‘TE’
appTEKRABber : server: no visible global function definition for
‘geom_point’
appTEKRABber : server: no visible global function definition for ‘labs’
appTEKRABber : server: no visible global function definition for
‘geom_smooth’
appTEKRABber : server: no visible global function definition for
‘theme_bw’
appTEKRABber : server: no visible global function definition for
‘ggtitle’
appTEKRABber : server: no visible global function definition for
‘ggviolin’
appTEKRABber : server: no visible global function definition for ‘ylab’
appTEKRABber : server: no visible global function definition for ‘xlab’
appTEKRABber : server: no visible global function definition for
‘theme’
appTEKRABber: no visible global function definition for ‘shinyApp’
orthologScale: no visible global function definition for ‘desc’
orthologScale: no visible binding for global variable
‘orthologyConfidence’
orthologScale: no visible binding for global variable ‘refLength’
orthologScale: no visible binding for global variable ‘compareLength’
orthologScale: no visible global function definition for ‘across’
orthologScale: no visible binding for global variable ‘refLen’
orthologScale: no visible binding for global variable ‘compareLen’
Undefined global functions or variables:
TE across actionButton aes card_body card_header compareLen
compareLength desc gene geom_point geom_smooth ggplot ggtitle
ggviolin grid_card grid_card_text grid_page labs observeEvent
orthologyConfidence plotOutput plot_ly plotlyOutput refLen refLength
renderPlot renderPlotly selectizeInput shinyApp theme theme_bw xlab
ylab
* checking Rd files ... OK
* checking Rd metadata ... OK
* checking Rd cross-references ... OK
* checking for missing documentation entries ... OK
* checking for code/documentation mismatches ... OK
* checking Rd \usage sections ... OK
* checking Rd contents ... OK
* checking for unstated dependencies in examples ... OK
* checking contents of ‘data’ directory ... OK
* checking data for non-ASCII characters ... OK
* checking data for ASCII and uncompressed saves ... OK
* checking line endings in C/C++/Fortran sources/headers ... OK
* checking compiled code ... NOTE
Note: information on .o files is not available
* checking files in ‘vignettes’ ... OK
* checking examples ... OK
Examples with CPU (user + system) or elapsed time > 5s
user system elapsed
DECorrInputs 57.768 1.258 144.351
orthologScale 52.443 0.667 82.393
corrOrthologTE 52.489 0.188 52.754
DEgeneTE 35.332 0.275 35.662
appTEKRABber 33.324 0.148 33.521
* checking for unstated dependencies in ‘tests’ ... OK
* checking tests ...
Running ‘testthat.R’
OK
* checking for unstated dependencies in vignettes ... OK
* checking package vignettes in ‘inst/doc’ ... OK
* checking running R code from vignettes ... SKIPPED
* checking re-building of vignette outputs ... SKIPPED
* checking PDF version of manual ... OK
* DONE
Status: 3 NOTEs
See
‘/home/biocbuild/bbs-3.18-bioc/meat/TEKRABber.Rcheck/00check.log’
for details.
TEKRABber.Rcheck/00install.out
############################################################################## ############################################################################## ### ### Running command: ### ### /home/biocbuild/R/R-4.3.1/bin/R CMD INSTALL TEKRABber ### ############################################################################## ############################################################################## * installing to library ‘/home/biocbuild/R/R-4.3.1/site-library’ * installing *source* package ‘TEKRABber’ ... ** using staged installation ** libs using C++ compiler: ‘g++ (GCC) 10.3.1’ g++ -std=gnu++17 -I"/home/biocbuild/R/R-4.3.1/include" -DNDEBUG -I'/home/biocbuild/R/R-4.3.1/site-library/Rcpp/include' -I/usr/local/include -fPIC -g -O2 -Wall -c RcppExports.cpp -o RcppExports.o g++ -std=gnu++17 -I"/home/biocbuild/R/R-4.3.1/include" -DNDEBUG -I'/home/biocbuild/R/R-4.3.1/site-library/Rcpp/include' -I/usr/local/include -fPIC -g -O2 -Wall -c rcpp_corr.cpp -o rcpp_corr.o g++ -std=gnu++17 -shared -L/home/biocbuild/R/R-4.3.1/lib -L/usr/local/lib -o TEKRABber.so RcppExports.o rcpp_corr.o -L/home/biocbuild/R/R-4.3.1/lib -lR installing to /home/biocbuild/R/R-4.3.1/site-library/00LOCK-TEKRABber/00new/TEKRABber/libs ** R ** data ** byte-compile and prepare package for lazy loading ** help *** installing help indices ** building package indices ** installing vignettes ** testing if installed package can be loaded from temporary location ** checking absolute paths in shared objects and dynamic libraries ** testing if installed package can be loaded from final location ** testing if installed package keeps a record of temporary installation path * DONE (TEKRABber)
TEKRABber.Rcheck/tests/testthat.Rout
R version 4.3.1 (2023-06-16) -- "Beagle Scouts"
Copyright (C) 2023 The R Foundation for Statistical Computing
Platform: aarch64-unknown-linux-gnu (64-bit)
R is free software and comes with ABSOLUTELY NO WARRANTY.
You are welcome to redistribute it under certain conditions.
Type 'license()' or 'licence()' for distribution details.
R is a collaborative project with many contributors.
Type 'contributors()' for more information and
'citation()' on how to cite R or R packages in publications.
Type 'demo()' for some demos, 'help()' for on-line help, or
'help.start()' for an HTML browser interface to help.
Type 'q()' to quit R.
> library("testthat")
> library("TEKRABber")
Welcome to TEKRABber version 1.6.0
> test_check("TEKRABber")
[ FAIL 0 | WARN 0 | SKIP 1 | PASS 10 ]
══ Skipped tests (1) ═══════════════════════════════════════════════════════════
• On CRAN (1): 'test-corrOrthologTE.R:31:5'
[ FAIL 0 | WARN 0 | SKIP 1 | PASS 10 ]
>
> proc.time()
user system elapsed
176.760 2.537 199.787
TEKRABber.Rcheck/TEKRABber-Ex.timings
| name | user | system | elapsed | |
| DECorrInputs | 57.768 | 1.258 | 144.351 | |
| DEgeneTE | 35.332 | 0.275 | 35.662 | |
| appTEKRABber | 33.324 | 0.148 | 33.521 | |
| corrOrthologTE | 52.489 | 0.188 | 52.754 | |
| ctInputDE | 0.159 | 0.000 | 0.160 | |
| fetchDataHmChimp | 0.597 | 0.199 | 0.798 | |
| hg38_panTro6_rmsk | 0.071 | 0.000 | 0.071 | |
| orthologScale | 52.443 | 0.667 | 82.393 | |
| speciesCounts | 0.337 | 0.003 | 0.342 | |