| Back to Multiple platform build/check report for BioC 3.18: simplified long |
|
This page was generated on 2024-04-17 11:36:27 -0400 (Wed, 17 Apr 2024).
| Hostname | OS | Arch (*) | R version | Installed pkgs |
|---|---|---|---|---|
| nebbiolo2 | Linux (Ubuntu 22.04.3 LTS) | x86_64 | 4.3.3 (2024-02-29) -- "Angel Food Cake" | 4676 |
| palomino4 | Windows Server 2022 Datacenter | x64 | 4.3.3 (2024-02-29 ucrt) -- "Angel Food Cake" | 4414 |
| merida1 | macOS 12.7.1 Monterey | x86_64 | 4.3.3 (2024-02-29) -- "Angel Food Cake" | 4437 |
| Click on any hostname to see more info about the system (e.g. compilers) (*) as reported by 'uname -p', except on Windows and Mac OS X | ||||
| Package 2117/2266 | Hostname | OS / Arch | INSTALL | BUILD | CHECK | BUILD BIN | ||||||||
| TEKRABber 1.6.0 (landing page) Yao-Chung Chen
| nebbiolo2 | Linux (Ubuntu 22.04.3 LTS) / x86_64 | OK | OK | OK | |||||||||
| palomino4 | Windows Server 2022 Datacenter / x64 | OK | OK | OK | OK | |||||||||
| merida1 | macOS 12.7.1 Monterey / x86_64 | OK | OK | OK | OK | |||||||||
| kjohnson1 | macOS 13.6.1 Ventura / arm64 | see weekly results here | ||||||||||||
|
To the developers/maintainers of the TEKRABber package: - Allow up to 24 hours (and sometimes 48 hours) for your latest push to git@git.bioconductor.org:packages/TEKRABber.git to reflect on this report. See Troubleshooting Build Report for more information. - Use the following Renviron settings to reproduce errors and warnings. - If 'R CMD check' started to fail recently on the Linux builder(s) over a missing dependency, add the missing dependency to 'Suggests:' in your DESCRIPTION file. See Renviron.bioc for more information. |
| Package: TEKRABber |
| Version: 1.6.0 |
| Command: /home/biocbuild/bbs-3.18-bioc/R/bin/R CMD check --install=check:TEKRABber.install-out.txt --library=/home/biocbuild/bbs-3.18-bioc/R/site-library --timings TEKRABber_1.6.0.tar.gz |
| StartedAt: 2024-04-16 04:41:25 -0400 (Tue, 16 Apr 2024) |
| EndedAt: 2024-04-16 04:51:35 -0400 (Tue, 16 Apr 2024) |
| EllapsedTime: 610.0 seconds |
| RetCode: 0 |
| Status: OK |
| CheckDir: TEKRABber.Rcheck |
| Warnings: 0 |
##############################################################################
##############################################################################
###
### Running command:
###
### /home/biocbuild/bbs-3.18-bioc/R/bin/R CMD check --install=check:TEKRABber.install-out.txt --library=/home/biocbuild/bbs-3.18-bioc/R/site-library --timings TEKRABber_1.6.0.tar.gz
###
##############################################################################
##############################################################################
* using log directory ‘/home/biocbuild/bbs-3.18-bioc/meat/TEKRABber.Rcheck’
* using R version 4.3.3 (2024-02-29)
* using platform: x86_64-pc-linux-gnu (64-bit)
* R was compiled by
gcc (Ubuntu 11.4.0-1ubuntu1~22.04) 11.4.0
GNU Fortran (Ubuntu 11.4.0-1ubuntu1~22.04) 11.4.0
* running under: Ubuntu 22.04.4 LTS
* using session charset: UTF-8
* checking for file ‘TEKRABber/DESCRIPTION’ ... OK
* checking extension type ... Package
* this is package ‘TEKRABber’ version ‘1.6.0’
* package encoding: UTF-8
* checking package namespace information ... OK
* checking package dependencies ... OK
* checking if this is a source package ... OK
* checking if there is a namespace ... OK
* checking for hidden files and directories ... OK
* checking for portable file names ... OK
* checking for sufficient/correct file permissions ... OK
* checking whether package ‘TEKRABber’ can be installed ... OK
* used C++ compiler: ‘g++ (Ubuntu 11.4.0-1ubuntu1~22.04) 11.4.0’
* checking installed package size ... OK
* checking package directory ... OK
* checking ‘build’ directory ... OK
* checking DESCRIPTION meta-information ... OK
* checking top-level files ... OK
* checking for left-over files ... OK
* checking index information ... OK
* checking package subdirectories ... NOTE
Problems with news in ‘NEWS.md’:
No news entries found.
* checking R files for non-ASCII characters ... OK
* checking R files for syntax errors ... OK
* checking whether the package can be loaded ... OK
* checking whether the package can be loaded with stated dependencies ... OK
* checking whether the package can be unloaded cleanly ... OK
* checking whether the namespace can be loaded with stated dependencies ... OK
* checking whether the namespace can be unloaded cleanly ... OK
* checking loading without being on the library search path ... OK
* checking startup messages can be suppressed ... OK
* checking dependencies in R code ... OK
* checking S3 generic/method consistency ... OK
* checking replacement functions ... OK
* checking foreign function calls ... OK
* checking R code for possible problems ... NOTE
File ‘TEKRABber/R/zzz.R’:
.onLoad calls:
packageStartupMessage("Welcome to TEKRABber version 1.6.0")
See section ‘Good practice’ in '?.onAttach'.
appTEKRABber: no visible global function definition for ‘grid_page’
appTEKRABber: no visible global function definition for
‘grid_card_text’
appTEKRABber: no visible global function definition for ‘grid_card’
appTEKRABber: no visible global function definition for ‘card_header’
appTEKRABber: no visible global function definition for ‘card_body’
appTEKRABber: no visible global function definition for
‘selectizeInput’
appTEKRABber: no visible global function definition for ‘actionButton’
appTEKRABber: no visible global function definition for ‘plotlyOutput’
appTEKRABber: no visible global function definition for ‘plotOutput’
appTEKRABber : server: no visible global function definition for
‘renderPlotly’
appTEKRABber : server: no visible global function definition for
‘plot_ly’
appTEKRABber : server: no visible global function definition for
‘observeEvent’
appTEKRABber : server: no visible global function definition for
‘renderPlot’
appTEKRABber : server: no visible global function definition for
‘ggplot’
appTEKRABber : server: no visible global function definition for ‘aes’
appTEKRABber : server: no visible binding for global variable ‘gene’
appTEKRABber : server: no visible binding for global variable ‘TE’
appTEKRABber : server: no visible global function definition for
‘geom_point’
appTEKRABber : server: no visible global function definition for ‘labs’
appTEKRABber : server: no visible global function definition for
‘geom_smooth’
appTEKRABber : server: no visible global function definition for
‘theme_bw’
appTEKRABber : server: no visible global function definition for
‘ggtitle’
appTEKRABber : server: no visible global function definition for
‘ggviolin’
appTEKRABber : server: no visible global function definition for ‘ylab’
appTEKRABber : server: no visible global function definition for ‘xlab’
appTEKRABber : server: no visible global function definition for
‘theme’
appTEKRABber: no visible global function definition for ‘shinyApp’
orthologScale: no visible global function definition for ‘desc’
orthologScale: no visible binding for global variable
‘orthologyConfidence’
orthologScale: no visible binding for global variable ‘refLength’
orthologScale: no visible binding for global variable ‘compareLength’
orthologScale: no visible global function definition for ‘across’
orthologScale: no visible binding for global variable ‘refLen’
orthologScale: no visible binding for global variable ‘compareLen’
Undefined global functions or variables:
TE across actionButton aes card_body card_header compareLen
compareLength desc gene geom_point geom_smooth ggplot ggtitle
ggviolin grid_card grid_card_text grid_page labs observeEvent
orthologyConfidence plotOutput plot_ly plotlyOutput refLen refLength
renderPlot renderPlotly selectizeInput shinyApp theme theme_bw xlab
ylab
* checking Rd files ... OK
* checking Rd metadata ... OK
* checking Rd cross-references ... OK
* checking for missing documentation entries ... OK
* checking for code/documentation mismatches ... OK
* checking Rd \usage sections ... OK
* checking Rd contents ... OK
* checking for unstated dependencies in examples ... OK
* checking contents of ‘data’ directory ... OK
* checking data for non-ASCII characters ... OK
* checking data for ASCII and uncompressed saves ... OK
* checking line endings in C/C++/Fortran sources/headers ... OK
* checking compiled code ... NOTE
Note: information on .o files is not available
* checking files in ‘vignettes’ ... OK
* checking examples ... OK
Examples with CPU (user + system) or elapsed time > 5s
user system elapsed
DECorrInputs 35.514 0.876 48.541
corrOrthologTE 33.446 0.228 33.674
DEgeneTE 32.765 0.524 33.718
orthologScale 31.816 0.191 42.665
appTEKRABber 21.966 0.216 22.182
* checking for unstated dependencies in ‘tests’ ... OK
* checking tests ...
Running ‘testthat.R’
OK
* checking for unstated dependencies in vignettes ... OK
* checking package vignettes in ‘inst/doc’ ... OK
* checking running R code from vignettes ...
‘TEKRABber.Rmd’ using ‘UTF-8’... OK
OK
* checking re-building of vignette outputs ... OK
* checking PDF version of manual ... OK
* DONE
Status: 3 NOTEs
See
‘/home/biocbuild/bbs-3.18-bioc/meat/TEKRABber.Rcheck/00check.log’
for details.
TEKRABber.Rcheck/00install.out
############################################################################## ############################################################################## ### ### Running command: ### ### /home/biocbuild/bbs-3.18-bioc/R/bin/R CMD INSTALL TEKRABber ### ############################################################################## ############################################################################## * installing to library ‘/home/biocbuild/bbs-3.18-bioc/R/site-library’ * installing *source* package ‘TEKRABber’ ... ** using staged installation ** libs using C++ compiler: ‘g++ (Ubuntu 11.4.0-1ubuntu1~22.04) 11.4.0’ g++ -std=gnu++17 -I"/home/biocbuild/bbs-3.18-bioc/R/include" -DNDEBUG -I'/home/biocbuild/bbs-3.18-bioc/R/site-library/Rcpp/include' -I/usr/local/include -fpic -g -O2 -Wall -c RcppExports.cpp -o RcppExports.o g++ -std=gnu++17 -I"/home/biocbuild/bbs-3.18-bioc/R/include" -DNDEBUG -I'/home/biocbuild/bbs-3.18-bioc/R/site-library/Rcpp/include' -I/usr/local/include -fpic -g -O2 -Wall -c rcpp_corr.cpp -o rcpp_corr.o g++ -std=gnu++17 -shared -L/home/biocbuild/bbs-3.18-bioc/R/lib -L/usr/local/lib -o TEKRABber.so RcppExports.o rcpp_corr.o -L/home/biocbuild/bbs-3.18-bioc/R/lib -lR installing to /home/biocbuild/bbs-3.18-bioc/R/site-library/00LOCK-TEKRABber/00new/TEKRABber/libs ** R ** data ** byte-compile and prepare package for lazy loading ** help *** installing help indices ** building package indices ** installing vignettes ** testing if installed package can be loaded from temporary location ** checking absolute paths in shared objects and dynamic libraries ** testing if installed package can be loaded from final location ** testing if installed package keeps a record of temporary installation path * DONE (TEKRABber)
TEKRABber.Rcheck/tests/testthat.Rout
R version 4.3.3 (2024-02-29) -- "Angel Food Cake"
Copyright (C) 2024 The R Foundation for Statistical Computing
Platform: x86_64-pc-linux-gnu (64-bit)
R is free software and comes with ABSOLUTELY NO WARRANTY.
You are welcome to redistribute it under certain conditions.
Type 'license()' or 'licence()' for distribution details.
R is a collaborative project with many contributors.
Type 'contributors()' for more information and
'citation()' on how to cite R or R packages in publications.
Type 'demo()' for some demos, 'help()' for on-line help, or
'help.start()' for an HTML browser interface to help.
Type 'q()' to quit R.
> library("testthat")
> library("TEKRABber")
Welcome to TEKRABber version 1.6.0
> test_check("TEKRABber")
[ FAIL 0 | WARN 0 | SKIP 1 | PASS 10 ]
══ Skipped tests (1) ═══════════════════════════════════════════════════════════
• On CRAN (1): 'test-corrOrthologTE.R:31:5'
[ FAIL 0 | WARN 0 | SKIP 1 | PASS 10 ]
>
> proc.time()
user system elapsed
112.511 1.767 129.208
TEKRABber.Rcheck/TEKRABber-Ex.timings
| name | user | system | elapsed | |
| DECorrInputs | 35.514 | 0.876 | 48.541 | |
| DEgeneTE | 32.765 | 0.524 | 33.718 | |
| appTEKRABber | 21.966 | 0.216 | 22.182 | |
| corrOrthologTE | 33.446 | 0.228 | 33.674 | |
| ctInputDE | 0.139 | 0.000 | 0.138 | |
| fetchDataHmChimp | 0.556 | 0.124 | 0.680 | |
| hg38_panTro6_rmsk | 0.062 | 0.000 | 0.062 | |
| orthologScale | 31.816 | 0.191 | 42.665 | |
| speciesCounts | 0.264 | 0.000 | 0.264 | |