| Back to Multiple platform build/check report for BioC 3.18: simplified long |
|
This page was generated on 2024-03-04 11:37:50 -0500 (Mon, 04 Mar 2024).
| Hostname | OS | Arch (*) | R version | Installed pkgs |
|---|---|---|---|---|
| nebbiolo2 | Linux (Ubuntu 22.04.3 LTS) | x86_64 | 4.3.2 Patched (2023-11-13 r85521) -- "Eye Holes" | 4692 |
| palomino4 | Windows Server 2022 Datacenter | x64 | 4.3.2 (2023-10-31 ucrt) -- "Eye Holes" | 4445 |
| lconway | macOS 12.7.1 Monterey | x86_64 | 4.3.2 Patched (2023-11-01 r85457) -- "Eye Holes" | 4466 |
| Click on any hostname to see more info about the system (e.g. compilers) (*) as reported by 'uname -p', except on Windows and Mac OS X | ||||
| Package 1896/2266 | Hostname | OS / Arch | INSTALL | BUILD | CHECK | BUILD BIN | ||||||||
| ScreenR 1.4.0 (landing page) Emanuel Michele Soda
| nebbiolo2 | Linux (Ubuntu 22.04.3 LTS) / x86_64 | OK | OK | OK | |||||||||
| palomino4 | Windows Server 2022 Datacenter / x64 | OK | OK | OK | OK | |||||||||
| lconway | macOS 12.7.1 Monterey / x86_64 | OK | OK | OK | OK | |||||||||
| kjohnson1 | macOS 13.6.1 Ventura / arm64 | see weekly results here | ||||||||||||
|
To the developers/maintainers of the ScreenR package: - Allow up to 24 hours (and sometimes 48 hours) for your latest push to git@git.bioconductor.org:packages/ScreenR.git to reflect on this report. See Troubleshooting Build Report for more information. - Use the following Renviron settings to reproduce errors and warnings. - If 'R CMD check' started to fail recently on the Linux builder(s) over a missing dependency, add the missing dependency to 'Suggests:' in your DESCRIPTION file. See Renviron.bioc for more information. |
| Package: ScreenR |
| Version: 1.4.0 |
| Command: /Library/Frameworks/R.framework/Resources/bin/R CMD check --install=check:ScreenR.install-out.txt --library=/Library/Frameworks/R.framework/Resources/library --no-vignettes --timings ScreenR_1.4.0.tar.gz |
| StartedAt: 2024-03-03 23:21:43 -0500 (Sun, 03 Mar 2024) |
| EndedAt: 2024-03-03 23:26:17 -0500 (Sun, 03 Mar 2024) |
| EllapsedTime: 273.6 seconds |
| RetCode: 0 |
| Status: OK |
| CheckDir: ScreenR.Rcheck |
| Warnings: 0 |
##############################################################################
##############################################################################
###
### Running command:
###
### /Library/Frameworks/R.framework/Resources/bin/R CMD check --install=check:ScreenR.install-out.txt --library=/Library/Frameworks/R.framework/Resources/library --no-vignettes --timings ScreenR_1.4.0.tar.gz
###
##############################################################################
##############################################################################
* using log directory ‘/Users/biocbuild/bbs-3.18-bioc/meat/ScreenR.Rcheck’
* using R version 4.3.2 Patched (2023-11-01 r85457)
* using platform: x86_64-apple-darwin20 (64-bit)
* R was compiled by
Apple clang version 14.0.3 (clang-1403.0.22.14.1)
GNU Fortran (GCC) 12.2.0
* running under: macOS Monterey 12.7.1
* using session charset: UTF-8
* using option ‘--no-vignettes’
* checking for file ‘ScreenR/DESCRIPTION’ ... OK
* checking extension type ... Package
* this is package ‘ScreenR’ version ‘1.4.0’
* package encoding: UTF-8
* checking package namespace information ... OK
* checking package dependencies ... OK
* checking if this is a source package ... OK
* checking if there is a namespace ... OK
* checking for hidden files and directories ... OK
* checking for portable file names ... OK
* checking for sufficient/correct file permissions ... OK
* checking whether package ‘ScreenR’ can be installed ... OK
* checking installed package size ... OK
* checking package directory ... OK
* checking ‘build’ directory ... OK
* checking DESCRIPTION meta-information ... OK
* checking top-level files ... OK
* checking for left-over files ... OK
* checking index information ... OK
* checking package subdirectories ... OK
* checking R files for non-ASCII characters ... OK
* checking R files for syntax errors ... OK
* checking whether the package can be loaded ... OK
* checking whether the package can be loaded with stated dependencies ... OK
* checking whether the package can be unloaded cleanly ... OK
* checking whether the namespace can be loaded with stated dependencies ... OK
* checking whether the namespace can be unloaded cleanly ... OK
* checking startup messages can be suppressed ... OK
* checking dependencies in R code ... OK
* checking S3 generic/method consistency ... OK
* checking replacement functions ... OK
* checking foreign function calls ... OK
* checking R code for possible problems ... OK
* checking Rd files ... OK
* checking Rd metadata ... OK
* checking Rd cross-references ... OK
* checking for missing documentation entries ... OK
* checking for code/documentation mismatches ... OK
* checking Rd \usage sections ... OK
* checking Rd contents ... OK
* checking for unstated dependencies in examples ... OK
* checking contents of ‘data’ directory ... OK
* checking data for non-ASCII characters ... OK
* checking data for ASCII and uncompressed saves ... OK
* checking R/sysdata.rda ... OK
* checking files in ‘vignettes’ ... OK
* checking examples ... OK
Examples with CPU (user + system) or elapsed time > 5s
user system elapsed
plot_barcode_trend 44.202 2.209 46.780
plot_zscore_distribution 42.285 1.597 44.241
compute_metrics 23.993 1.365 25.547
find_robust_zscore_hit 19.924 3.118 23.291
find_zscore_hit 20.285 0.771 21.246
* checking for unstated dependencies in ‘tests’ ... OK
* checking tests ...
Running ‘testthat.R’
OK
* checking for unstated dependencies in vignettes ... OK
* checking package vignettes in ‘inst/doc’ ... OK
* checking running R code from vignettes ... SKIPPED
* checking re-building of vignette outputs ... SKIPPED
* checking PDF version of manual ... OK
* DONE
Status: OK
ScreenR.Rcheck/00install.out
############################################################################## ############################################################################## ### ### Running command: ### ### /Library/Frameworks/R.framework/Resources/bin/R CMD INSTALL ScreenR ### ############################################################################## ############################################################################## * installing to library ‘/Library/Frameworks/R.framework/Versions/4.3-x86_64/Resources/library’ * installing *source* package ‘ScreenR’ ... ** using staged installation ** R ** data ** inst ** byte-compile and prepare package for lazy loading ** help *** installing help indices *** copying figures ** building package indices ** installing vignettes ** testing if installed package can be loaded from temporary location ** testing if installed package can be loaded from final location ** testing if installed package keeps a record of temporary installation path * DONE (ScreenR)
ScreenR.Rcheck/tests/testthat.Rout
R version 4.3.2 Patched (2023-11-01 r85457) -- "Eye Holes"
Copyright (C) 2023 The R Foundation for Statistical Computing
Platform: x86_64-apple-darwin20 (64-bit)
R is free software and comes with ABSOLUTELY NO WARRANTY.
You are welcome to redistribute it under certain conditions.
Type 'license()' or 'licence()' for distribution details.
R is a collaborative project with many contributors.
Type 'contributors()' for more information and
'citation()' on how to cite R or R packages in publications.
Type 'demo()' for some demos, 'help()' for on-line help, or
'help.start()' for an HTML browser interface to help.
Type 'q()' to quit R.
> library(testthat)
> library(ScreenR)
Welcome to ScreenR
--------------------------
See ?ScreenR for a list of
available functions.
Enjoy!
>
> test_check("ScreenR")
ScreenR count table containing:
5320 rows
15 columns
ScreenR annotation table containing:
5320 rows
5 columns
ScreenR normalized count table containing:
5320 rows
15 columns
ScreenR normalized data table containing:
74480 rows
9 columns
ScreenR annotation table containing:
5320 rows
5 columns
ScreenR annotation table containing:
5320 rows
5 columns
ScreenR count table containing:
5320 rows
15 columns
ScreenR count table containing:
5320 rows
15 columns
ScreenR normalized count table containing:
5320 rows
15 columns
ScreenR normalized count table containing:
5320 rows
15 columns
ScreenR normalized data table containing:
74480 rows
9 columns
ScreenR normalized data table containing:
74480 rows
9 columns
Using classic mode.
[ FAIL 0 | WARN 253 | SKIP 0 | PASS 64 ]
[ FAIL 0 | WARN 253 | SKIP 0 | PASS 64 ]
>
> proc.time()
user system elapsed
29.889 1.308 31.542
ScreenR.Rcheck/ScreenR-Ex.timings
| name | user | system | elapsed | |
| barcode_lost | 0.226 | 0.044 | 0.273 | |
| compute_data_table | 0.330 | 0.012 | 0.343 | |
| compute_explained_variance | 0.030 | 0.004 | 0.034 | |
| compute_metrics | 23.993 | 1.365 | 25.547 | |
| compute_slope | 0.052 | 0.001 | 0.053 | |
| count_mapped_reads | 0.093 | 0.026 | 0.119 | |
| create_edger_obj | 0.026 | 0.001 | 0.027 | |
| create_screenr_object | 0.044 | 0.001 | 0.046 | |
| filter_by_slope | 0.143 | 0.007 | 0.151 | |
| filter_by_variance | 1.256 | 0.033 | 1.298 | |
| find_camera_hit | 1.275 | 0.032 | 1.316 | |
| find_common_hit | 0.036 | 0.001 | 0.037 | |
| find_roast_hit | 1.876 | 0.065 | 1.955 | |
| find_robust_zscore_hit | 19.924 | 3.118 | 23.291 | |
| find_zscore_hit | 20.285 | 0.771 | 21.246 | |
| get_annotation_table | 0.020 | 0.001 | 0.020 | |
| get_count_table | 0.110 | 0.005 | 0.122 | |
| get_data_table | 0.035 | 0.000 | 0.037 | |
| get_groups | 0.001 | 0.000 | 0.001 | |
| get_normalized_count_table | 0.053 | 0.001 | 0.055 | |
| get_replicates | 0 | 0 | 0 | |
| mapped_reads | 0.109 | 0.024 | 0.135 | |
| normalize_data | 0.060 | 0.005 | 0.066 | |
| plot_barcode_hit | 1.244 | 0.018 | 1.274 | |
| plot_barcode_lost | 0.844 | 0.065 | 0.917 | |
| plot_barcode_lost_for_gene | 1.732 | 0.026 | 1.770 | |
| plot_barcode_trend | 44.202 | 2.209 | 46.780 | |
| plot_boxplot | 0.464 | 0.007 | 0.474 | |
| plot_common_hit | 0.235 | 0.006 | 0.243 | |
| plot_explained_variance | 0.847 | 0.011 | 0.863 | |
| plot_mapped_reads | 0.356 | 0.030 | 0.388 | |
| plot_mapped_reads_distribution | 2.136 | 0.119 | 2.269 | |
| plot_mds | 0.618 | 0.008 | 0.629 | |
| plot_trend | 2.095 | 1.888 | 4.064 | |
| plot_zscore_distribution | 42.285 | 1.597 | 44.241 | |
| remove_all_zero_row | 0.013 | 0.000 | 0.014 | |
| set_annotation_table | 0.166 | 0.003 | 0.172 | |
| set_count_table | 0.163 | 0.002 | 0.167 | |
| set_data_table | 0.158 | 0.003 | 0.163 | |
| set_groups | 0.162 | 0.001 | 0.164 | |
| set_normalized_count_table | 0.198 | 0.002 | 0.201 | |
| set_replicates | 0.159 | 0.002 | 0.164 | |