| Back to Multiple platform build/check report for BioC 3.18: simplified long |
|
This page was generated on 2024-04-17 11:36:22 -0400 (Wed, 17 Apr 2024).
| Hostname | OS | Arch (*) | R version | Installed pkgs |
|---|---|---|---|---|
| nebbiolo2 | Linux (Ubuntu 22.04.3 LTS) | x86_64 | 4.3.3 (2024-02-29) -- "Angel Food Cake" | 4676 |
| palomino4 | Windows Server 2022 Datacenter | x64 | 4.3.3 (2024-02-29 ucrt) -- "Angel Food Cake" | 4414 |
| merida1 | macOS 12.7.1 Monterey | x86_64 | 4.3.3 (2024-02-29) -- "Angel Food Cake" | 4437 |
| Click on any hostname to see more info about the system (e.g. compilers) (*) as reported by 'uname -p', except on Windows and Mac OS X | ||||
| Package 1896/2266 | Hostname | OS / Arch | INSTALL | BUILD | CHECK | BUILD BIN | ||||||||
| ScreenR 1.4.0 (landing page) Emanuel Michele Soda
| nebbiolo2 | Linux (Ubuntu 22.04.3 LTS) / x86_64 | OK | OK | OK | |||||||||
| palomino4 | Windows Server 2022 Datacenter / x64 | OK | OK | OK | OK | |||||||||
| merida1 | macOS 12.7.1 Monterey / x86_64 | OK | OK | OK | OK | |||||||||
| kjohnson1 | macOS 13.6.1 Ventura / arm64 | see weekly results here | ||||||||||||
|
To the developers/maintainers of the ScreenR package: - Allow up to 24 hours (and sometimes 48 hours) for your latest push to git@git.bioconductor.org:packages/ScreenR.git to reflect on this report. See Troubleshooting Build Report for more information. - Use the following Renviron settings to reproduce errors and warnings. - If 'R CMD check' started to fail recently on the Linux builder(s) over a missing dependency, add the missing dependency to 'Suggests:' in your DESCRIPTION file. See Renviron.bioc for more information. |
| Package: ScreenR |
| Version: 1.4.0 |
| Command: /home/biocbuild/bbs-3.18-bioc/R/bin/R CMD check --install=check:ScreenR.install-out.txt --library=/home/biocbuild/bbs-3.18-bioc/R/site-library --timings ScreenR_1.4.0.tar.gz |
| StartedAt: 2024-04-16 03:40:52 -0400 (Tue, 16 Apr 2024) |
| EndedAt: 2024-04-16 03:45:44 -0400 (Tue, 16 Apr 2024) |
| EllapsedTime: 292.1 seconds |
| RetCode: 0 |
| Status: OK |
| CheckDir: ScreenR.Rcheck |
| Warnings: 0 |
##############################################################################
##############################################################################
###
### Running command:
###
### /home/biocbuild/bbs-3.18-bioc/R/bin/R CMD check --install=check:ScreenR.install-out.txt --library=/home/biocbuild/bbs-3.18-bioc/R/site-library --timings ScreenR_1.4.0.tar.gz
###
##############################################################################
##############################################################################
* using log directory ‘/home/biocbuild/bbs-3.18-bioc/meat/ScreenR.Rcheck’
* using R version 4.3.3 (2024-02-29)
* using platform: x86_64-pc-linux-gnu (64-bit)
* R was compiled by
gcc (Ubuntu 11.4.0-1ubuntu1~22.04) 11.4.0
GNU Fortran (Ubuntu 11.4.0-1ubuntu1~22.04) 11.4.0
* running under: Ubuntu 22.04.4 LTS
* using session charset: UTF-8
* checking for file ‘ScreenR/DESCRIPTION’ ... OK
* checking extension type ... Package
* this is package ‘ScreenR’ version ‘1.4.0’
* package encoding: UTF-8
* checking package namespace information ... OK
* checking package dependencies ... OK
* checking if this is a source package ... OK
* checking if there is a namespace ... OK
* checking for hidden files and directories ... OK
* checking for portable file names ... OK
* checking for sufficient/correct file permissions ... OK
* checking whether package ‘ScreenR’ can be installed ... OK
* checking installed package size ... OK
* checking package directory ... OK
* checking ‘build’ directory ... OK
* checking DESCRIPTION meta-information ... OK
* checking top-level files ... OK
* checking for left-over files ... OK
* checking index information ... OK
* checking package subdirectories ... OK
* checking R files for non-ASCII characters ... OK
* checking R files for syntax errors ... OK
* checking whether the package can be loaded ... OK
* checking whether the package can be loaded with stated dependencies ... OK
* checking whether the package can be unloaded cleanly ... OK
* checking whether the namespace can be loaded with stated dependencies ... OK
* checking whether the namespace can be unloaded cleanly ... OK
* checking loading without being on the library search path ... OK
* checking startup messages can be suppressed ... OK
* checking dependencies in R code ... OK
* checking S3 generic/method consistency ... OK
* checking replacement functions ... OK
* checking foreign function calls ... OK
* checking R code for possible problems ... OK
* checking Rd files ... OK
* checking Rd metadata ... OK
* checking Rd cross-references ... OK
* checking for missing documentation entries ... OK
* checking for code/documentation mismatches ... OK
* checking Rd \usage sections ... OK
* checking Rd contents ... OK
* checking for unstated dependencies in examples ... OK
* checking contents of ‘data’ directory ... OK
* checking data for non-ASCII characters ... OK
* checking data for ASCII and uncompressed saves ... OK
* checking R/sysdata.rda ... OK
* checking files in ‘vignettes’ ... OK
* checking examples ... OK
Examples with CPU (user + system) or elapsed time > 5s
user system elapsed
plot_zscore_distribution 39.199 0.636 39.835
plot_barcode_trend 38.385 0.599 38.984
compute_metrics 21.851 1.460 23.312
find_zscore_hit 18.764 0.388 19.152
find_robust_zscore_hit 17.652 0.552 18.203
* checking for unstated dependencies in ‘tests’ ... OK
* checking tests ...
Running ‘testthat.R’
OK
* checking for unstated dependencies in vignettes ... OK
* checking package vignettes in ‘inst/doc’ ... OK
* checking running R code from vignettes ...
‘Analysis_Example.Rmd’ using ‘UTF-8’... OK
OK
* checking re-building of vignette outputs ... OK
* checking PDF version of manual ... OK
* DONE
Status: OK
ScreenR.Rcheck/00install.out
############################################################################## ############################################################################## ### ### Running command: ### ### /home/biocbuild/bbs-3.18-bioc/R/bin/R CMD INSTALL ScreenR ### ############################################################################## ############################################################################## * installing to library ‘/home/biocbuild/bbs-3.18-bioc/R/site-library’ * installing *source* package ‘ScreenR’ ... ** using staged installation ** R ** data ** inst ** byte-compile and prepare package for lazy loading ** help *** installing help indices *** copying figures ** building package indices ** installing vignettes ** testing if installed package can be loaded from temporary location ** testing if installed package can be loaded from final location ** testing if installed package keeps a record of temporary installation path * DONE (ScreenR)
ScreenR.Rcheck/tests/testthat.Rout
R version 4.3.3 (2024-02-29) -- "Angel Food Cake"
Copyright (C) 2024 The R Foundation for Statistical Computing
Platform: x86_64-pc-linux-gnu (64-bit)
R is free software and comes with ABSOLUTELY NO WARRANTY.
You are welcome to redistribute it under certain conditions.
Type 'license()' or 'licence()' for distribution details.
R is a collaborative project with many contributors.
Type 'contributors()' for more information and
'citation()' on how to cite R or R packages in publications.
Type 'demo()' for some demos, 'help()' for on-line help, or
'help.start()' for an HTML browser interface to help.
Type 'q()' to quit R.
> library(testthat)
> library(ScreenR)
Welcome to ScreenR
--------------------------
See ?ScreenR for a list of
available functions.
Enjoy!
>
> test_check("ScreenR")
ScreenR count table containing:
5320 rows
15 columns
ScreenR annotation table containing:
5320 rows
5 columns
ScreenR normalized count table containing:
5320 rows
15 columns
ScreenR normalized data table containing:
74480 rows
9 columns
ScreenR annotation table containing:
5320 rows
5 columns
ScreenR annotation table containing:
5320 rows
5 columns
ScreenR count table containing:
5320 rows
15 columns
ScreenR count table containing:
5320 rows
15 columns
ScreenR normalized count table containing:
5320 rows
15 columns
ScreenR normalized count table containing:
5320 rows
15 columns
ScreenR normalized data table containing:
74480 rows
9 columns
ScreenR normalized data table containing:
74480 rows
9 columns
Using classic mode.
[ FAIL 0 | WARN 253 | SKIP 0 | PASS 64 ]
[ FAIL 0 | WARN 253 | SKIP 0 | PASS 64 ]
>
> proc.time()
user system elapsed
23.285 0.564 23.839
ScreenR.Rcheck/ScreenR-Ex.timings
| name | user | system | elapsed | |
| barcode_lost | 0.133 | 0.024 | 0.157 | |
| compute_data_table | 0.185 | 0.023 | 0.209 | |
| compute_explained_variance | 0.018 | 0.001 | 0.018 | |
| compute_metrics | 21.851 | 1.460 | 23.312 | |
| compute_slope | 0.041 | 0.000 | 0.041 | |
| count_mapped_reads | 0.035 | 0.000 | 0.035 | |
| create_edger_obj | 0.019 | 0.000 | 0.019 | |
| create_screenr_object | 0.04 | 0.00 | 0.04 | |
| filter_by_slope | 0.237 | 0.036 | 0.273 | |
| filter_by_variance | 1.071 | 0.024 | 1.096 | |
| find_camera_hit | 1.127 | 0.040 | 1.168 | |
| find_common_hit | 0.026 | 0.000 | 0.027 | |
| find_roast_hit | 1.708 | 0.008 | 1.716 | |
| find_robust_zscore_hit | 17.652 | 0.552 | 18.203 | |
| find_zscore_hit | 18.764 | 0.388 | 19.152 | |
| get_annotation_table | 0.014 | 0.000 | 0.014 | |
| get_count_table | 0.077 | 0.000 | 0.077 | |
| get_data_table | 0.026 | 0.000 | 0.026 | |
| get_groups | 0.000 | 0.000 | 0.001 | |
| get_normalized_count_table | 0.038 | 0.000 | 0.038 | |
| get_replicates | 0 | 0 | 0 | |
| mapped_reads | 0.054 | 0.000 | 0.054 | |
| normalize_data | 0.039 | 0.000 | 0.040 | |
| plot_barcode_hit | 1.186 | 0.056 | 1.242 | |
| plot_barcode_lost | 0.603 | 0.000 | 0.603 | |
| plot_barcode_lost_for_gene | 1.358 | 0.000 | 1.358 | |
| plot_barcode_trend | 38.385 | 0.599 | 38.984 | |
| plot_boxplot | 0.387 | 0.000 | 0.387 | |
| plot_common_hit | 0.180 | 0.000 | 0.181 | |
| plot_explained_variance | 0.657 | 0.000 | 0.658 | |
| plot_mapped_reads | 0.249 | 0.004 | 0.253 | |
| plot_mapped_reads_distribution | 1.745 | 0.044 | 1.789 | |
| plot_mds | 0.532 | 0.012 | 0.544 | |
| plot_trend | 1.691 | 0.008 | 1.699 | |
| plot_zscore_distribution | 39.199 | 0.636 | 39.835 | |
| remove_all_zero_row | 0.018 | 0.000 | 0.018 | |
| set_annotation_table | 0.118 | 0.000 | 0.118 | |
| set_count_table | 0.117 | 0.004 | 0.121 | |
| set_data_table | 0.122 | 0.000 | 0.123 | |
| set_groups | 0.128 | 0.000 | 0.127 | |
| set_normalized_count_table | 0.165 | 0.000 | 0.165 | |
| set_replicates | 0.125 | 0.000 | 0.125 | |