| Back to Multiple platform build/check report for BioC 3.18: simplified long |
|
This page was generated on 2024-04-17 11:37:17 -0400 (Wed, 17 Apr 2024).
| Hostname | OS | Arch (*) | R version | Installed pkgs |
|---|---|---|---|---|
| nebbiolo2 | Linux (Ubuntu 22.04.3 LTS) | x86_64 | 4.3.3 (2024-02-29) -- "Angel Food Cake" | 4676 |
| palomino4 | Windows Server 2022 Datacenter | x64 | 4.3.3 (2024-02-29 ucrt) -- "Angel Food Cake" | 4414 |
| merida1 | macOS 12.7.1 Monterey | x86_64 | 4.3.3 (2024-02-29) -- "Angel Food Cake" | 4437 |
| Click on any hostname to see more info about the system (e.g. compilers) (*) as reported by 'uname -p', except on Windows and Mac OS X | ||||
| Package 1896/2266 | Hostname | OS / Arch | INSTALL | BUILD | CHECK | BUILD BIN | ||||||||
| ScreenR 1.4.0 (landing page) Emanuel Michele Soda
| nebbiolo2 | Linux (Ubuntu 22.04.3 LTS) / x86_64 | OK | OK | OK | |||||||||
| palomino4 | Windows Server 2022 Datacenter / x64 | OK | OK | OK | OK | |||||||||
| merida1 | macOS 12.7.1 Monterey / x86_64 | OK | OK | OK | OK | |||||||||
| kjohnson1 | macOS 13.6.1 Ventura / arm64 | see weekly results here | ||||||||||||
|
To the developers/maintainers of the ScreenR package: - Allow up to 24 hours (and sometimes 48 hours) for your latest push to git@git.bioconductor.org:packages/ScreenR.git to reflect on this report. See Troubleshooting Build Report for more information. - Use the following Renviron settings to reproduce errors and warnings. - If 'R CMD check' started to fail recently on the Linux builder(s) over a missing dependency, add the missing dependency to 'Suggests:' in your DESCRIPTION file. See Renviron.bioc for more information. |
| Package: ScreenR |
| Version: 1.4.0 |
| Command: F:\biocbuild\bbs-3.18-bioc\R\bin\R.exe CMD check --no-multiarch --install=check:ScreenR.install-out.txt --library=F:\biocbuild\bbs-3.18-bioc\R\library --no-vignettes --timings ScreenR_1.4.0.tar.gz |
| StartedAt: 2024-04-16 04:55:49 -0400 (Tue, 16 Apr 2024) |
| EndedAt: 2024-04-16 05:12:57 -0400 (Tue, 16 Apr 2024) |
| EllapsedTime: 1028.5 seconds |
| RetCode: 0 |
| Status: OK |
| CheckDir: ScreenR.Rcheck |
| Warnings: 0 |
##############################################################################
##############################################################################
###
### Running command:
###
### F:\biocbuild\bbs-3.18-bioc\R\bin\R.exe CMD check --no-multiarch --install=check:ScreenR.install-out.txt --library=F:\biocbuild\bbs-3.18-bioc\R\library --no-vignettes --timings ScreenR_1.4.0.tar.gz
###
##############################################################################
##############################################################################
* using log directory 'F:/biocbuild/bbs-3.18-bioc/meat/ScreenR.Rcheck'
* using R version 4.3.3 (2024-02-29 ucrt)
* using platform: x86_64-w64-mingw32 (64-bit)
* R was compiled by
gcc.exe (GCC) 12.3.0
GNU Fortran (GCC) 12.3.0
* running under: Windows Server 2022 x64 (build 20348)
* using session charset: UTF-8
* using option '--no-vignettes'
* checking for file 'ScreenR/DESCRIPTION' ... OK
* checking extension type ... Package
* this is package 'ScreenR' version '1.4.0'
* package encoding: UTF-8
* checking package namespace information ... OK
* checking package dependencies ... OK
* checking if this is a source package ... OK
* checking if there is a namespace ... OK
* checking for hidden files and directories ... OK
* checking for portable file names ... OK
* checking whether package 'ScreenR' can be installed ... OK
* checking installed package size ... OK
* checking package directory ... OK
* checking 'build' directory ... OK
* checking DESCRIPTION meta-information ... OK
* checking top-level files ... OK
* checking for left-over files ... OK
* checking index information ... OK
* checking package subdirectories ... OK
* checking R files for non-ASCII characters ... OK
* checking R files for syntax errors ... OK
* checking whether the package can be loaded ... OK
* checking whether the package can be loaded with stated dependencies ... OK
* checking whether the package can be unloaded cleanly ... OK
* checking whether the namespace can be loaded with stated dependencies ... OK
* checking whether the namespace can be unloaded cleanly ... OK
* checking startup messages can be suppressed ... OK
* checking dependencies in R code ... OK
* checking S3 generic/method consistency ... OK
* checking replacement functions ... OK
* checking foreign function calls ... OK
* checking R code for possible problems ... OK
* checking Rd files ... OK
* checking Rd metadata ... OK
* checking Rd cross-references ... OK
* checking for missing documentation entries ... OK
* checking for code/documentation mismatches ... OK
* checking Rd \usage sections ... OK
* checking Rd contents ... OK
* checking for unstated dependencies in examples ... OK
* checking contents of 'data' directory ... OK
* checking data for non-ASCII characters ... OK
* checking data for ASCII and uncompressed saves ... OK
* checking R/sysdata.rda ... OK
* checking files in 'vignettes' ... OK
* checking examples ... OK
Examples with CPU (user + system) or elapsed time > 5s
user system elapsed
plot_barcode_trend 300.49 6.67 307.28
plot_zscore_distribution 268.22 8.28 276.92
find_robust_zscore_hit 136.70 3.26 139.97
find_zscore_hit 91.67 3.05 94.83
compute_metrics 67.17 1.97 69.14
plot_trend 14.53 0.50 15.05
find_roast_hit 6.41 0.08 6.48
filter_by_variance 5.32 0.06 5.38
find_camera_hit 4.95 0.09 5.06
* checking for unstated dependencies in 'tests' ... OK
* checking tests ...
Running 'testthat.R'
OK
* checking for unstated dependencies in vignettes ... OK
* checking package vignettes in 'inst/doc' ... OK
* checking running R code from vignettes ... SKIPPED
* checking re-building of vignette outputs ... SKIPPED
* checking PDF version of manual ... OK
* DONE
Status: OK
ScreenR.Rcheck/00install.out
############################################################################## ############################################################################## ### ### Running command: ### ### F:\biocbuild\bbs-3.18-bioc\R\bin\R.exe CMD INSTALL ScreenR ### ############################################################################## ############################################################################## * installing to library 'F:/biocbuild/bbs-3.18-bioc/R/library' * installing *source* package 'ScreenR' ... ** using staged installation ** R ** data ** inst ** byte-compile and prepare package for lazy loading ** help *** installing help indices *** copying figures ** building package indices ** installing vignettes ** testing if installed package can be loaded from temporary location ** testing if installed package can be loaded from final location ** testing if installed package keeps a record of temporary installation path * DONE (ScreenR)
ScreenR.Rcheck/tests/testthat.Rout
R version 4.3.3 (2024-02-29 ucrt) -- "Angel Food Cake"
Copyright (C) 2024 The R Foundation for Statistical Computing
Platform: x86_64-w64-mingw32/x64 (64-bit)
R is free software and comes with ABSOLUTELY NO WARRANTY.
You are welcome to redistribute it under certain conditions.
Type 'license()' or 'licence()' for distribution details.
R is a collaborative project with many contributors.
Type 'contributors()' for more information and
'citation()' on how to cite R or R packages in publications.
Type 'demo()' for some demos, 'help()' for on-line help, or
'help.start()' for an HTML browser interface to help.
Type 'q()' to quit R.
> library(testthat)
> library(ScreenR)
Welcome to ScreenR
--------------------------
See ?ScreenR for a list of
available functions.
Enjoy!
>
> test_check("ScreenR")
ScreenR count table containing:
5320 rows
15 columns
ScreenR annotation table containing:
5320 rows
5 columns
ScreenR normalized count table containing:
5320 rows
15 columns
ScreenR normalized data table containing:
74480 rows
9 columns
ScreenR annotation table containing:
5320 rows
5 columns
ScreenR annotation table containing:
5320 rows
5 columns
ScreenR count table containing:
5320 rows
15 columns
ScreenR count table containing:
5320 rows
15 columns
ScreenR normalized count table containing:
5320 rows
15 columns
ScreenR normalized count table containing:
5320 rows
15 columns
ScreenR normalized data table containing:
74480 rows
9 columns
ScreenR normalized data table containing:
74480 rows
9 columns
Using classic mode.
[ FAIL 0 | WARN 253 | SKIP 0 | PASS 64 ]
[ FAIL 0 | WARN 253 | SKIP 0 | PASS 64 ]
>
> proc.time()
user system elapsed
30.59 1.84 32.35
ScreenR.Rcheck/ScreenR-Ex.timings
| name | user | system | elapsed | |
| barcode_lost | 0.17 | 0.00 | 0.17 | |
| compute_data_table | 0.22 | 0.00 | 0.22 | |
| compute_explained_variance | 0.02 | 0.00 | 0.01 | |
| compute_metrics | 67.17 | 1.97 | 69.14 | |
| compute_slope | 0.06 | 0.00 | 0.07 | |
| count_mapped_reads | 0.05 | 0.00 | 0.04 | |
| create_edger_obj | 0.03 | 0.00 | 0.03 | |
| create_screenr_object | 0.06 | 0.00 | 0.07 | |
| filter_by_slope | 0.25 | 0.02 | 0.26 | |
| filter_by_variance | 5.32 | 0.06 | 5.38 | |
| find_camera_hit | 4.95 | 0.09 | 5.06 | |
| find_common_hit | 0.03 | 0.00 | 0.03 | |
| find_roast_hit | 6.41 | 0.08 | 6.48 | |
| find_robust_zscore_hit | 136.70 | 3.26 | 139.97 | |
| find_zscore_hit | 91.67 | 3.05 | 94.83 | |
| get_annotation_table | 0.02 | 0.00 | 0.01 | |
| get_count_table | 0.18 | 0.06 | 0.25 | |
| get_data_table | 0.07 | 0.00 | 0.07 | |
| get_groups | 0 | 0 | 0 | |
| get_normalized_count_table | 0.04 | 0.00 | 0.04 | |
| get_replicates | 0 | 0 | 0 | |
| mapped_reads | 0.10 | 0.02 | 0.11 | |
| normalize_data | 0.06 | 0.00 | 0.07 | |
| plot_barcode_hit | 3.92 | 0.04 | 3.96 | |
| plot_barcode_lost | 2.55 | 0.03 | 2.58 | |
| plot_barcode_lost_for_gene | 1.81 | 0.03 | 1.83 | |
| plot_barcode_trend | 300.49 | 6.67 | 307.28 | |
| plot_boxplot | 0.73 | 0.00 | 0.74 | |
| plot_common_hit | 0.25 | 0.02 | 0.26 | |
| plot_explained_variance | 0.89 | 0.03 | 0.92 | |
| plot_mapped_reads | 0.30 | 0.02 | 0.32 | |
| plot_mapped_reads_distribution | 4.01 | 0.06 | 4.08 | |
| plot_mds | 1.32 | 0.02 | 1.33 | |
| plot_trend | 14.53 | 0.50 | 15.05 | |
| plot_zscore_distribution | 268.22 | 8.28 | 276.92 | |
| remove_all_zero_row | 0.03 | 0.00 | 0.03 | |
| set_annotation_table | 0.14 | 0.00 | 0.14 | |
| set_count_table | 0.14 | 0.00 | 0.14 | |
| set_data_table | 0.14 | 0.02 | 0.16 | |
| set_groups | 0.12 | 0.01 | 0.14 | |
| set_normalized_count_table | 0.21 | 0.00 | 0.20 | |
| set_replicates | 1.39 | 0.00 | 1.39 | |