| Back to Multiple platform build/check report for BioC 3.18: simplified long |
|
This page was generated on 2023-11-02 11:41:04 -0400 (Thu, 02 Nov 2023).
| Hostname | OS | Arch (*) | R version | Installed pkgs |
|---|---|---|---|---|
| nebbiolo2 | Linux (Ubuntu 22.04.2 LTS) | x86_64 | 4.3.1 (2023-06-16) -- "Beagle Scouts" | 4729 |
| palomino4 | Windows Server 2022 Datacenter | x64 | 4.3.1 (2023-06-16 ucrt) -- "Beagle Scouts" | 4463 |
| lconway | macOS 12.6.5 Monterey | x86_64 | 4.3.1 Patched (2023-06-17 r84564) -- "Beagle Scouts" | 4478 |
| kunpeng2 | Linux (openEuler 22.03 LTS-SP1) | aarch64 | 4.3.1 (2023-06-16) -- "Beagle Scouts" | 4464 |
| Click on any hostname to see more info about the system (e.g. compilers) (*) as reported by 'uname -p', except on Windows and Mac OS X | ||||
| Package 1540/2266 | Hostname | OS / Arch | INSTALL | BUILD | CHECK | BUILD BIN | ||||||||
| PhenStat 2.38.0 (landing page) Hamed Haselimashhadi
| nebbiolo2 | Linux (Ubuntu 22.04.2 LTS) / x86_64 | OK | OK | OK | |||||||||
| palomino4 | Windows Server 2022 Datacenter / x64 | OK | OK | OK | OK | |||||||||
| lconway | macOS 12.6.5 Monterey / x86_64 | OK | OK | OK | OK | |||||||||
| kjohnson1 | macOS 13.6.1 Ventura / arm64 | see weekly results here | ||||||||||||
| kunpeng2 | Linux (openEuler 22.03 LTS-SP1) / aarch64 | OK | OK | OK | ||||||||||
|
To the developers/maintainers of the PhenStat package: - Allow up to 24 hours (and sometimes 48 hours) for your latest push to git@git.bioconductor.org:packages/PhenStat.git to reflect on this report. See Troubleshooting Build Report for more information. - Use the following Renviron settings to reproduce errors and warnings. - If 'R CMD check' started to fail recently on the Linux builder(s) over a missing dependency, add the missing dependency to 'Suggests:' in your DESCRIPTION file. See Renviron.bioc for more information. - See Martin Grigorov's blog post for how to debug Linux ARM64 related issues on a x86_64 host. |
| Package: PhenStat |
| Version: 2.38.0 |
| Command: /home/biocbuild/R/R-4.3.1/bin/R CMD check --install=check:PhenStat.install-out.txt --library=/home/biocbuild/R/R-4.3.1/site-library --no-vignettes --timings PhenStat_2.38.0.tar.gz |
| StartedAt: 2023-11-02 13:04:04 -0000 (Thu, 02 Nov 2023) |
| EndedAt: 2023-11-02 13:06:38 -0000 (Thu, 02 Nov 2023) |
| EllapsedTime: 154.3 seconds |
| RetCode: 0 |
| Status: OK |
| CheckDir: PhenStat.Rcheck |
| Warnings: 0 |
##############################################################################
##############################################################################
###
### Running command:
###
### /home/biocbuild/R/R-4.3.1/bin/R CMD check --install=check:PhenStat.install-out.txt --library=/home/biocbuild/R/R-4.3.1/site-library --no-vignettes --timings PhenStat_2.38.0.tar.gz
###
##############################################################################
##############################################################################
* using log directory ‘/home/biocbuild/bbs-3.18-bioc/meat/PhenStat.Rcheck’
* using R version 4.3.1 (2023-06-16)
* using platform: aarch64-unknown-linux-gnu (64-bit)
* R was compiled by
gcc (GCC) 10.3.1
GNU Fortran (GCC) 10.3.1
* running under: openEuler 22.03 (LTS-SP1)
* using session charset: UTF-8
* using option ‘--no-vignettes’
* checking for file ‘PhenStat/DESCRIPTION’ ... OK
* checking extension type ... Package
* this is package ‘PhenStat’ version ‘2.38.0’
* checking package namespace information ... OK
* checking package dependencies ... OK
* checking if this is a source package ... OK
* checking if there is a namespace ... OK
* checking for hidden files and directories ... OK
* checking for portable file names ... OK
* checking for sufficient/correct file permissions ... OK
* checking whether package ‘PhenStat’ can be installed ... OK
* checking installed package size ... OK
* checking package directory ... OK
* checking ‘build’ directory ... OK
* checking DESCRIPTION meta-information ... OK
* checking top-level files ... OK
* checking for left-over files ... OK
* checking index information ... OK
* checking package subdirectories ... OK
* checking R files for non-ASCII characters ... OK
* checking R files for syntax errors ... OK
* checking whether the package can be loaded ... OK
* checking whether the package can be loaded with stated dependencies ... OK
* checking whether the package can be unloaded cleanly ... OK
* checking whether the namespace can be loaded with stated dependencies ... OK
* checking whether the namespace can be unloaded cleanly ... OK
* checking loading without being on the library search path ... OK
* checking startup messages can be suppressed ... OK
* checking dependencies in R code ... NOTE
Namespace in Imports field not imported from: ‘SmoothWin’
All declared Imports should be used.
* checking S3 generic/method consistency ... OK
* checking replacement functions ... OK
* checking foreign function calls ... OK
* checking R code for possible problems ... OK
* checking Rd files ... OK
* checking Rd metadata ... OK
* checking Rd cross-references ... OK
* checking for missing documentation entries ... OK
* checking for code/documentation mismatches ... OK
* checking Rd \usage sections ... OK
* checking Rd contents ... OK
* checking for unstated dependencies in examples ... OK
* checking installed files from ‘inst/doc’ ... OK
* checking files in ‘vignettes’ ... OK
* checking examples ... OK
Examples with CPU (user + system) or elapsed time > 5s
user system elapsed
qqplotRotatedResiduals 6.581 0.067 6.661
* checking for unstated dependencies in ‘tests’ ... OK
* checking tests ...
Running ‘runTests.R’
OK
* checking for unstated dependencies in vignettes ... OK
* checking package vignettes in ‘inst/doc’ ... OK
* checking running R code from vignettes ... SKIPPED
* checking re-building of vignette outputs ... SKIPPED
* checking PDF version of manual ... OK
* DONE
Status: 1 NOTE
See
‘/home/biocbuild/bbs-3.18-bioc/meat/PhenStat.Rcheck/00check.log’
for details.
PhenStat.Rcheck/00install.out
############################################################################## ############################################################################## ### ### Running command: ### ### /home/biocbuild/R/R-4.3.1/bin/R CMD INSTALL PhenStat ### ############################################################################## ############################################################################## * installing to library ‘/home/biocbuild/R/R-4.3.1/site-library’ * installing *source* package ‘PhenStat’ ... ** using staged installation ** R ** inst ** byte-compile and prepare package for lazy loading ** help *** installing help indices ** building package indices ** installing vignettes ** testing if installed package can be loaded from temporary location ** testing if installed package can be loaded from final location ** testing if installed package keeps a record of temporary installation path * DONE (PhenStat)
PhenStat.Rcheck/tests/runTests.Rout
R version 4.3.1 (2023-06-16) -- "Beagle Scouts"
Copyright (C) 2023 The R Foundation for Statistical Computing
Platform: aarch64-unknown-linux-gnu (64-bit)
R is free software and comes with ABSOLUTELY NO WARRANTY.
You are welcome to redistribute it under certain conditions.
Type 'license()' or 'licence()' for distribution details.
R is a collaborative project with many contributors.
Type 'contributors()' for more information and
'citation()' on how to cite R or R packages in publications.
Type 'demo()' for some demos, 'help()' for on-line help, or
'help.start()' for an HTML browser interface to help.
Type 'q()' to quit R.
> BiocGenerics:::testPackage("PhenStat")
>=========================================================================<
This version of PhenStat includes *FEWER* functions than the previous ones
You *still* can use the previous functions by using `:::`. For example :
PhenStat:::boxplotSexGenotype or PhenStat:::FisherExactTest
*** Want to know what is new in this version? run PhenStat:::WhatIsNew()
>=========================================================================<
RUNIT TEST PROTOCOL -- Thu Nov 2 13:06:34 2023
***********************************************
Number of test functions: 0
Number of errors: 0
Number of failures: 0
1 Test Suite :
PhenStat RUnit Tests - 0 test functions, 0 errors, 0 failures
Number of test functions: 0
Number of errors: 0
Number of failures: 0
>
> proc.time()
user system elapsed
3.866 0.193 4.054
PhenStat.Rcheck/PhenStat-Ex.timings
| name | user | system | elapsed | |
| FisherExactTest | 0.213 | 0.000 | 0.215 | |
| JSONOutput | 1.037 | 0.004 | 1.045 | |
| LRDataset | 0.055 | 0.004 | 0.061 | |
| PhenList-class | 0.244 | 0.164 | 0.411 | |
| PhenList | 0.225 | 0.048 | 0.274 | |
| PhenStatReport | 0.045 | 0.003 | 0.049 | |
| PhenTestResult-class | 0.840 | 0.016 | 0.858 | |
| PhenTestResult | 0.677 | 0.007 | 0.686 | |
| RRTest | 0.113 | 0.000 | 0.113 | |
| TFDataset | 0.376 | 0.000 | 0.379 | |
| analysedDataset | 0.832 | 0.004 | 0.838 | |
| analysisResults | 0.855 | 0.003 | 0.860 | |
| boxplotResidualBatch | 0.864 | 0.180 | 1.046 | |
| boxplotSexGenotype | 0.087 | 0.031 | 0.120 | |
| boxplotSexGenotypeBatch | 0.178 | 0.004 | 0.182 | |
| boxplotSexGenotypeBatchAdjusted | 0.079 | 0.004 | 0.083 | |
| boxplotSexGenotypeResult | 1.045 | 0.036 | 1.083 | |
| boxplotSexGenotypeWeightBatchAdjusted | 0.086 | 0.004 | 0.089 | |
| categoricalBarplot | 0.472 | 0.028 | 0.501 | |
| checkDataset | 0.046 | 0.000 | 0.046 | |
| classificationTag | 0.789 | 0.012 | 0.806 | |
| determiningLambda | 1.021 | 0.028 | 1.050 | |
| dim | 0.045 | 0.000 | 0.044 | |
| finalLRModel | 0.618 | 0.012 | 0.634 | |
| finalModel | 0.663 | 0.004 | 0.668 | |
| finalTFModel | 0.596 | 0.012 | 0.611 | |
| htestPhenStat-class | 0.151 | 0.016 | 0.167 | |
| modelFormula | 0.001 | 0.000 | 0.000 | |
| modelFormulaLR | 0 | 0 | 0 | |
| parserOutputSummary | 0.770 | 0.012 | 0.783 | |
| parserOutputSummaryLR | 0.557 | 0.000 | 0.558 | |
| parserOutputTFSummary | 0.121 | 0.004 | 0.126 | |
| performReverseTransformation | 0 | 0 | 0 | |
| performTransformation | 0 | 0 | 0 | |
| plot.PhenList | 2.701 | 0.040 | 2.748 | |
| plot.PhenTestResult | 2.605 | 0.040 | 2.649 | |
| plotResidualPredicted | 0.802 | 0.012 | 0.815 | |
| printLROutput | 0.554 | 0.004 | 0.560 | |
| printTabStyle | 0.001 | 0.000 | 0.001 | |
| qqplotGenotype | 0.800 | 0.000 | 0.802 | |
| qqplotRandomEffects | 0.805 | 0.000 | 0.807 | |
| qqplotRotatedResiduals | 6.581 | 0.067 | 6.661 | |
| recommendMethod | 0.302 | 0.008 | 0.310 | |
| scatterplotGenotypeWeight | 0.165 | 0.000 | 0.165 | |
| scatterplotGenotypeWeightResult | 1.010 | 0.004 | 1.016 | |
| scatterplotSexGenotypeBatch | 0.101 | 0.004 | 0.105 | |
| scatterplotSexGenotypeBatchResult | 1.030 | 0.004 | 1.036 | |
| startLRModel | 0.519 | 0.000 | 0.520 | |
| startModel | 0.862 | 0.008 | 0.872 | |
| startTFModel | 0.568 | 0.016 | 0.587 | |
| summaryOutput | 0.956 | 0.008 | 0.967 | |
| summaryPhenListResult | 0.931 | 0.000 | 0.933 | |
| testDataset | 2.574 | 0.024 | 2.602 | |
| testFinalLRModel | 0.536 | 0.004 | 0.540 | |
| testFinalModel | 0.999 | 0.000 | 1.000 | |
| vectorOutput | 0.964 | 0.004 | 0.969 | |
| vectorOutputMatrices | 0.178 | 0.004 | 0.182 | |