| Back to Multiple platform build/check report for BioC 3.18: simplified long |
|
This page was generated on 2024-04-17 11:36:13 -0400 (Wed, 17 Apr 2024).
| Hostname | OS | Arch (*) | R version | Installed pkgs |
|---|---|---|---|---|
| nebbiolo2 | Linux (Ubuntu 22.04.3 LTS) | x86_64 | 4.3.3 (2024-02-29) -- "Angel Food Cake" | 4676 |
| palomino4 | Windows Server 2022 Datacenter | x64 | 4.3.3 (2024-02-29 ucrt) -- "Angel Food Cake" | 4414 |
| merida1 | macOS 12.7.1 Monterey | x86_64 | 4.3.3 (2024-02-29) -- "Angel Food Cake" | 4437 |
| Click on any hostname to see more info about the system (e.g. compilers) (*) as reported by 'uname -p', except on Windows and Mac OS X | ||||
| Package 1540/2266 | Hostname | OS / Arch | INSTALL | BUILD | CHECK | BUILD BIN | ||||||||
| PhenStat 2.38.0 (landing page) Hamed Haselimashhadi
| nebbiolo2 | Linux (Ubuntu 22.04.3 LTS) / x86_64 | OK | OK | OK | |||||||||
| palomino4 | Windows Server 2022 Datacenter / x64 | OK | OK | OK | OK | |||||||||
| merida1 | macOS 12.7.1 Monterey / x86_64 | OK | OK | OK | OK | |||||||||
| kjohnson1 | macOS 13.6.1 Ventura / arm64 | see weekly results here | ||||||||||||
|
To the developers/maintainers of the PhenStat package: - Allow up to 24 hours (and sometimes 48 hours) for your latest push to git@git.bioconductor.org:packages/PhenStat.git to reflect on this report. See Troubleshooting Build Report for more information. - Use the following Renviron settings to reproduce errors and warnings. - If 'R CMD check' started to fail recently on the Linux builder(s) over a missing dependency, add the missing dependency to 'Suggests:' in your DESCRIPTION file. See Renviron.bioc for more information. |
| Package: PhenStat |
| Version: 2.38.0 |
| Command: /home/biocbuild/bbs-3.18-bioc/R/bin/R CMD check --install=check:PhenStat.install-out.txt --library=/home/biocbuild/bbs-3.18-bioc/R/site-library --timings PhenStat_2.38.0.tar.gz |
| StartedAt: 2024-04-16 02:16:52 -0400 (Tue, 16 Apr 2024) |
| EndedAt: 2024-04-16 02:19:38 -0400 (Tue, 16 Apr 2024) |
| EllapsedTime: 165.4 seconds |
| RetCode: 0 |
| Status: OK |
| CheckDir: PhenStat.Rcheck |
| Warnings: 0 |
##############################################################################
##############################################################################
###
### Running command:
###
### /home/biocbuild/bbs-3.18-bioc/R/bin/R CMD check --install=check:PhenStat.install-out.txt --library=/home/biocbuild/bbs-3.18-bioc/R/site-library --timings PhenStat_2.38.0.tar.gz
###
##############################################################################
##############################################################################
* using log directory ‘/home/biocbuild/bbs-3.18-bioc/meat/PhenStat.Rcheck’
* using R version 4.3.3 (2024-02-29)
* using platform: x86_64-pc-linux-gnu (64-bit)
* R was compiled by
gcc (Ubuntu 11.4.0-1ubuntu1~22.04) 11.4.0
GNU Fortran (Ubuntu 11.4.0-1ubuntu1~22.04) 11.4.0
* running under: Ubuntu 22.04.4 LTS
* using session charset: UTF-8
* checking for file ‘PhenStat/DESCRIPTION’ ... OK
* checking extension type ... Package
* this is package ‘PhenStat’ version ‘2.38.0’
* checking package namespace information ... OK
* checking package dependencies ... OK
* checking if this is a source package ... OK
* checking if there is a namespace ... OK
* checking for hidden files and directories ... OK
* checking for portable file names ... OK
* checking for sufficient/correct file permissions ... OK
* checking whether package ‘PhenStat’ can be installed ... OK
* checking installed package size ... OK
* checking package directory ... OK
* checking ‘build’ directory ... OK
* checking DESCRIPTION meta-information ... OK
* checking top-level files ... OK
* checking for left-over files ... OK
* checking index information ... OK
* checking package subdirectories ... OK
* checking R files for non-ASCII characters ... OK
* checking R files for syntax errors ... OK
* checking whether the package can be loaded ... OK
* checking whether the package can be loaded with stated dependencies ... OK
* checking whether the package can be unloaded cleanly ... OK
* checking whether the namespace can be loaded with stated dependencies ... OK
* checking whether the namespace can be unloaded cleanly ... OK
* checking loading without being on the library search path ... OK
* checking startup messages can be suppressed ... OK
* checking dependencies in R code ... NOTE
Namespace in Imports field not imported from: ‘SmoothWin’
All declared Imports should be used.
* checking S3 generic/method consistency ... OK
* checking replacement functions ... OK
* checking foreign function calls ... OK
* checking R code for possible problems ... OK
* checking Rd files ... OK
* checking Rd metadata ... OK
* checking Rd cross-references ... OK
* checking for missing documentation entries ... OK
* checking for code/documentation mismatches ... OK
* checking Rd \usage sections ... OK
* checking Rd contents ... OK
* checking for unstated dependencies in examples ... OK
* checking installed files from ‘inst/doc’ ... OK
* checking files in ‘vignettes’ ... OK
* checking examples ... OK
Examples with CPU (user + system) or elapsed time > 5s
user system elapsed
testDataset 3.708 0.08 5.466
* checking for unstated dependencies in ‘tests’ ... OK
* checking tests ...
Running ‘runTests.R’
OK
* checking for unstated dependencies in vignettes ... OK
* checking package vignettes in ‘inst/doc’ ... OK
* checking running R code from vignettes ...
‘PhenStat.Rnw’... OK
OK
* checking re-building of vignette outputs ... OK
* checking PDF version of manual ... OK
* DONE
Status: 1 NOTE
See
‘/home/biocbuild/bbs-3.18-bioc/meat/PhenStat.Rcheck/00check.log’
for details.
PhenStat.Rcheck/00install.out
############################################################################## ############################################################################## ### ### Running command: ### ### /home/biocbuild/bbs-3.18-bioc/R/bin/R CMD INSTALL PhenStat ### ############################################################################## ############################################################################## * installing to library ‘/home/biocbuild/bbs-3.18-bioc/R/site-library’ * installing *source* package ‘PhenStat’ ... ** using staged installation ** R ** inst ** byte-compile and prepare package for lazy loading ** help *** installing help indices ** building package indices ** installing vignettes ** testing if installed package can be loaded from temporary location ** testing if installed package can be loaded from final location ** testing if installed package keeps a record of temporary installation path * DONE (PhenStat)
PhenStat.Rcheck/tests/runTests.Rout
R version 4.3.3 (2024-02-29) -- "Angel Food Cake"
Copyright (C) 2024 The R Foundation for Statistical Computing
Platform: x86_64-pc-linux-gnu (64-bit)
R is free software and comes with ABSOLUTELY NO WARRANTY.
You are welcome to redistribute it under certain conditions.
Type 'license()' or 'licence()' for distribution details.
R is a collaborative project with many contributors.
Type 'contributors()' for more information and
'citation()' on how to cite R or R packages in publications.
Type 'demo()' for some demos, 'help()' for on-line help, or
'help.start()' for an HTML browser interface to help.
Type 'q()' to quit R.
> BiocGenerics:::testPackage("PhenStat")
>=========================================================================<
This version of PhenStat includes *FEWER* functions than the previous ones
You *still* can use the previous functions by using `:::`. For example :
PhenStat:::boxplotSexGenotype or PhenStat:::FisherExactTest
*** Want to know what is new in this version? run PhenStat:::WhatIsNew()
>=========================================================================<
RUNIT TEST PROTOCOL -- Tue Apr 16 02:19:10 2024
***********************************************
Number of test functions: 0
Number of errors: 0
Number of failures: 0
1 Test Suite :
PhenStat RUnit Tests - 0 test functions, 0 errors, 0 failures
Number of test functions: 0
Number of errors: 0
Number of failures: 0
>
> proc.time()
user system elapsed
4.445 0.342 4.908
PhenStat.Rcheck/PhenStat-Ex.timings
| name | user | system | elapsed | |
| FisherExactTest | 0.133 | 0.012 | 0.145 | |
| JSONOutput | 0.784 | 0.012 | 0.796 | |
| LRDataset | 0.044 | 0.000 | 0.044 | |
| PhenList-class | 0.161 | 0.003 | 0.165 | |
| PhenList | 0.167 | 0.001 | 0.168 | |
| PhenStatReport | 0.039 | 0.000 | 0.040 | |
| PhenTestResult-class | 0.628 | 0.012 | 0.639 | |
| PhenTestResult | 0.542 | 0.008 | 0.550 | |
| RRTest | 0.072 | 0.012 | 0.084 | |
| TFDataset | 0.222 | 0.012 | 0.234 | |
| analysedDataset | 0.630 | 0.004 | 0.634 | |
| analysisResults | 0.661 | 0.008 | 0.669 | |
| boxplotResidualBatch | 0.663 | 0.004 | 0.667 | |
| boxplotSexGenotype | 0.069 | 0.000 | 0.069 | |
| boxplotSexGenotypeBatch | 0.116 | 0.000 | 0.116 | |
| boxplotSexGenotypeBatchAdjusted | 0.064 | 0.000 | 0.063 | |
| boxplotSexGenotypeResult | 1.006 | 0.060 | 1.066 | |
| boxplotSexGenotypeWeightBatchAdjusted | 0.057 | 0.000 | 0.057 | |
| categoricalBarplot | 0.111 | 0.004 | 0.115 | |
| checkDataset | 0.033 | 0.000 | 0.033 | |
| classificationTag | 0.617 | 0.000 | 0.617 | |
| determiningLambda | 0.892 | 0.024 | 0.916 | |
| dim | 0.034 | 0.000 | 0.034 | |
| finalLRModel | 0.464 | 0.004 | 0.468 | |
| finalModel | 0.537 | 0.000 | 0.537 | |
| finalTFModel | 0.377 | 0.008 | 0.384 | |
| htestPhenStat-class | 0.109 | 0.000 | 0.109 | |
| modelFormula | 0.001 | 0.000 | 0.000 | |
| modelFormulaLR | 0 | 0 | 0 | |
| parserOutputSummary | 0.611 | 0.028 | 0.639 | |
| parserOutputSummaryLR | 0.417 | 0.008 | 0.425 | |
| parserOutputTFSummary | 0.084 | 0.004 | 0.088 | |
| performReverseTransformation | 0.000 | 0.000 | 0.001 | |
| performTransformation | 0 | 0 | 0 | |
| plot.PhenList | 2.139 | 0.040 | 2.179 | |
| plot.PhenTestResult | 2.099 | 0.076 | 2.178 | |
| plotResidualPredicted | 0.630 | 0.008 | 0.637 | |
| printLROutput | 0.415 | 0.004 | 0.419 | |
| printTabStyle | 0.000 | 0.000 | 0.001 | |
| qqplotGenotype | 0.646 | 0.000 | 0.645 | |
| qqplotRandomEffects | 0.642 | 0.000 | 0.642 | |
| qqplotRotatedResiduals | 3.889 | 0.064 | 3.954 | |
| recommendMethod | 0.186 | 0.008 | 0.193 | |
| scatterplotGenotypeWeight | 0.153 | 0.020 | 0.172 | |
| scatterplotGenotypeWeightResult | 0.814 | 0.012 | 0.826 | |
| scatterplotSexGenotypeBatch | 0.086 | 0.004 | 0.090 | |
| scatterplotSexGenotypeBatchResult | 0.988 | 0.000 | 1.073 | |
| startLRModel | 0.699 | 0.000 | 0.971 | |
| startModel | 0.879 | 0.000 | 1.227 | |
| startTFModel | 1.224 | 0.052 | 1.530 | |
| summaryOutput | 1.276 | 0.016 | 1.869 | |
| summaryPhenListResult | 1.345 | 0.003 | 2.329 | |
| testDataset | 3.708 | 0.080 | 5.466 | |
| testFinalLRModel | 0.793 | 0.000 | 0.832 | |
| testFinalModel | 1.317 | 0.000 | 1.318 | |
| vectorOutput | 1.034 | 0.028 | 1.062 | |
| vectorOutputMatrices | 0.149 | 0.000 | 0.149 | |