| Back to Multiple platform build/check report for BioC 3.18: simplified long |
|
This page was generated on 2024-03-04 11:37:35 -0500 (Mon, 04 Mar 2024).
| Hostname | OS | Arch (*) | R version | Installed pkgs |
|---|---|---|---|---|
| nebbiolo2 | Linux (Ubuntu 22.04.3 LTS) | x86_64 | 4.3.2 Patched (2023-11-13 r85521) -- "Eye Holes" | 4692 |
| palomino4 | Windows Server 2022 Datacenter | x64 | 4.3.2 (2023-10-31 ucrt) -- "Eye Holes" | 4445 |
| lconway | macOS 12.7.1 Monterey | x86_64 | 4.3.2 Patched (2023-11-01 r85457) -- "Eye Holes" | 4466 |
| Click on any hostname to see more info about the system (e.g. compilers) (*) as reported by 'uname -p', except on Windows and Mac OS X | ||||
| Package 1325/2266 | Hostname | OS / Arch | INSTALL | BUILD | CHECK | BUILD BIN | ||||||||
| MsBackendRawFileReader 1.8.1 (landing page) Christian Panse
| nebbiolo2 | Linux (Ubuntu 22.04.3 LTS) / x86_64 | OK | OK | OK | |||||||||
| palomino4 | Windows Server 2022 Datacenter / x64 | OK | OK | OK | OK | |||||||||
| lconway | macOS 12.7.1 Monterey / x86_64 | OK | OK | OK | OK | |||||||||
| kjohnson1 | macOS 13.6.1 Ventura / arm64 | see weekly results here | ||||||||||||
|
To the developers/maintainers of the MsBackendRawFileReader package: - Allow up to 24 hours (and sometimes 48 hours) for your latest push to git@git.bioconductor.org:packages/MsBackendRawFileReader.git to reflect on this report. See Troubleshooting Build Report for more information. - Use the following Renviron settings to reproduce errors and warnings. - If 'R CMD check' started to fail recently on the Linux builder(s) over a missing dependency, add the missing dependency to 'Suggests:' in your DESCRIPTION file. See Renviron.bioc for more information. |
| Package: MsBackendRawFileReader |
| Version: 1.8.1 |
| Command: /Library/Frameworks/R.framework/Resources/bin/R CMD check --install=check:MsBackendRawFileReader.install-out.txt --library=/Library/Frameworks/R.framework/Resources/library --no-vignettes --timings MsBackendRawFileReader_1.8.1.tar.gz |
| StartedAt: 2024-03-03 21:59:40 -0500 (Sun, 03 Mar 2024) |
| EndedAt: 2024-03-03 22:03:57 -0500 (Sun, 03 Mar 2024) |
| EllapsedTime: 256.8 seconds |
| RetCode: 0 |
| Status: OK |
| CheckDir: MsBackendRawFileReader.Rcheck |
| Warnings: 0 |
##############################################################################
##############################################################################
###
### Running command:
###
### /Library/Frameworks/R.framework/Resources/bin/R CMD check --install=check:MsBackendRawFileReader.install-out.txt --library=/Library/Frameworks/R.framework/Resources/library --no-vignettes --timings MsBackendRawFileReader_1.8.1.tar.gz
###
##############################################################################
##############################################################################
* using log directory ‘/Users/biocbuild/bbs-3.18-bioc/meat/MsBackendRawFileReader.Rcheck’
* using R version 4.3.2 Patched (2023-11-01 r85457)
* using platform: x86_64-apple-darwin20 (64-bit)
* R was compiled by
Apple clang version 14.0.3 (clang-1403.0.22.14.1)
GNU Fortran (GCC) 12.2.0
* running under: macOS Monterey 12.7.1
* using session charset: UTF-8
* using option ‘--no-vignettes’
* checking for file ‘MsBackendRawFileReader/DESCRIPTION’ ... OK
* checking extension type ... Package
* this is package ‘MsBackendRawFileReader’ version ‘1.8.1’
* package encoding: UTF-8
* checking package namespace information ... OK
* checking package dependencies ... OK
* checking if this is a source package ... OK
* checking if there is a namespace ... OK
* checking for hidden files and directories ... OK
* checking for portable file names ... OK
* checking for sufficient/correct file permissions ... OK
* checking whether package ‘MsBackendRawFileReader’ can be installed ... OK
* checking installed package size ... OK
* checking package directory ... OK
* checking ‘build’ directory ... OK
* checking DESCRIPTION meta-information ... OK
* checking top-level files ... OK
* checking for left-over files ... OK
* checking index information ... OK
* checking package subdirectories ... OK
* checking R files for non-ASCII characters ... OK
* checking R files for syntax errors ... OK
* checking whether the package can be loaded ... OK
* checking whether the package can be loaded with stated dependencies ... OK
* checking whether the package can be unloaded cleanly ... OK
* checking whether the namespace can be loaded with stated dependencies ... OK
* checking whether the namespace can be unloaded cleanly ... OK
* checking startup messages can be suppressed ... OK
* checking dependencies in R code ... OK
* checking S3 generic/method consistency ... OK
* checking replacement functions ... OK
* checking foreign function calls ... OK
* checking R code for possible problems ... OK
* checking Rd files ... OK
* checking Rd metadata ... OK
* checking Rd cross-references ... OK
* checking for missing documentation entries ... OK
* checking for code/documentation mismatches ... OK
* checking Rd \usage sections ... OK
* checking Rd contents ... OK
* checking for unstated dependencies in examples ... OK
* checking files in ‘vignettes’ ... OK
* checking examples ... OK
Examples with CPU (user + system) or elapsed time > 5s
user system elapsed
ioBenchmark 48.479 12.528 24.293
MsBackendRawFileReader 6.685 3.149 10.859
MsBackendRawFileReader-class 4.285 1.641 6.509
hidden_aliases 3.177 1.500 5.243
* checking for unstated dependencies in ‘tests’ ... OK
* checking tests ...
Running ‘testthat.R’
OK
* checking for unstated dependencies in vignettes ... OK
* checking package vignettes in ‘inst/doc’ ... OK
* checking running R code from vignettes ... SKIPPED
* checking re-building of vignette outputs ... SKIPPED
* checking PDF version of manual ... OK
* DONE
Status: OK
MsBackendRawFileReader.Rcheck/00install.out
############################################################################## ############################################################################## ### ### Running command: ### ### /Library/Frameworks/R.framework/Resources/bin/R CMD INSTALL MsBackendRawFileReader ### ############################################################################## ############################################################################## * installing to library ‘/Library/Frameworks/R.framework/Versions/4.3-x86_64/Resources/library’ * installing *source* package ‘MsBackendRawFileReader’ ... ** using staged installation ** R ** inst ** byte-compile and prepare package for lazy loading ** help *** installing help indices ** building package indices ** installing vignettes ** testing if installed package can be loaded from temporary location ** testing if installed package can be loaded from final location ** testing if installed package keeps a record of temporary installation path * DONE (MsBackendRawFileReader)
MsBackendRawFileReader.Rcheck/tests/testthat.Rout
R version 4.3.2 Patched (2023-11-01 r85457) -- "Eye Holes"
Copyright (C) 2023 The R Foundation for Statistical Computing
Platform: x86_64-apple-darwin20 (64-bit)
R is free software and comes with ABSOLUTELY NO WARRANTY.
You are welcome to redistribute it under certain conditions.
Type 'license()' or 'licence()' for distribution details.
R is a collaborative project with many contributors.
Type 'contributors()' for more information and
'citation()' on how to cite R or R packages in publications.
Type 'demo()' for some demos, 'help()' for on-line help, or
'help.start()' for an HTML browser interface to help.
Type 'q()' to quit R.
> library("testthat")
> library("MsBackendRawFileReader")
Loading required package: Spectra
Loading required package: S4Vectors
Loading required package: stats4
Loading required package: BiocGenerics
Attaching package: 'BiocGenerics'
The following objects are masked from 'package:stats':
IQR, mad, sd, var, xtabs
The following objects are masked from 'package:base':
Filter, Find, Map, Position, Reduce, anyDuplicated, aperm, append,
as.data.frame, basename, cbind, colnames, dirname, do.call,
duplicated, eval, evalq, get, grep, grepl, intersect, is.unsorted,
lapply, mapply, match, mget, order, paste, pmax, pmax.int, pmin,
pmin.int, rank, rbind, rownames, sapply, setdiff, sort, table,
tapply, union, unique, unsplit, which.max, which.min
Attaching package: 'S4Vectors'
The following object is masked from 'package:utils':
findMatches
The following objects are masked from 'package:base':
I, expand.grid, unname
Loading required package: BiocParallel
Loading required package: ProtGenerics
Attaching package: 'ProtGenerics'
The following object is masked from 'package:stats':
smooth
> library("Spectra")
>
>
> sample_raw_file <- file.path(system.file(package = "rawrr"),
+ 'extdata', 'sample.raw')
>
> sample_mzXML_file <- file.path(path.package(package = 'MsBackendRawFileReader'),
+ 'extdata', 'sample.mzXML')
>
>
> sample_raw <- backendInitialize(MsBackendRawFileReader::MsBackendRawFileReader(), files = sample_raw_file)
>
>
> #sample_mzr <- backendInitialize(MsBackendMzR(), files = sample_mzXML_file)
>
>
> mgf_file <- file.path(system.file(package = "MsBackendRawFileReader"),
+ 'extdata', '3159619b11ed_4590_9594.mgf')
>
>
> rv <- lapply(1:2, function(x){
+ file.copy(from = sample_raw_file, to = tempfile(fileext='.raw'))})
>
>
> register(SnowParam(workers = 1, type = "SOCK") , default = TRUE);
> sample_raw_2 <- backendInitialize(MsBackendRawFileReader(),
+ files = file.path(tempdir(),
+ list.files(path = tempdir(), pattern = 'raw$')))
>
>
> test_check("MsBackendRawFileReader")
[ FAIL 0 | WARN 1 | SKIP 2 | PASS 21 ]
══ Skipped tests (2) ═══════════════════════════════════════════════════════════
• isFALSE(file.exists(sample_mzXML_file)) is TRUE (1):
'test_MsBackendMzR_MsBackendRawFileReader.R:1:1'
• isFALSE(require(MsBackendRawMgf)) is TRUE (1): 'test_top_n_mgf.R:1:1'
[ FAIL 0 | WARN 1 | SKIP 2 | PASS 21 ]
>
>
> be <- Spectra::backendInitialize(MsBackendRawFileReader::MsBackendRawFileReader(),
+ files = c(sample_raw_file))
>
> ## Run the MsBackend spectra variable test suite
> test_suite <- system.file("test_backends", "test_MsBackend",
+ package = "Spectra")
>
> #res <- test_file(paste0(test_suite, "/test_spectra_variables.R"),
> # reporter = check_reporter(), stop_on_failure = TRUE)
>
>
> ## Run the whole suite.
> res <- test_dir(test_suite, stop_on_failure = TRUE)
✔ | F W S OK | Context
⠏ | 0 | peaks_variables
⠙ | 2 | peaks_variables
⠸ | 4 | peaks_variables
✔ | 4 | peaks_variables [6.0s]
⠏ | 0 | spectra_subsetting
⠋ | 1 | spectra_subsetting
⠹ | 13 | spectra_subsetting
⠼ | 25 | spectra_subsetting
⠼ | 35 | spectra_subsetting
⠴ | 46 | spectra_subsetting
⠧ | 58 | spectra_subsetting
⠏ | 70 | spectra_subsetting
⠇ | 79 | spectra_subsetting
⠏ | 90 | spectra_subsetting
⠏ | 100 | spectra_subsetting
⠙ | 112 | spectra_subsetting
⠋ | 121 | spectra_subsetting
⠹ | 133 | spectra_subsetting
⠼ | 145 | spectra_subsetting
⠦ | 157 | spectra_subsetting
⠦ | 167 | spectra_subsetting
⠧ | 178 | spectra_subsetting
⠏ | 190 | spectra_subsetting
⠏ | 200 | spectra_subsetting
⠋ | 211 | spectra_subsetting
⠹ | 223 | spectra_subsetting
⠼ | 235 | spectra_subsetting
⠋ | 241 | spectra_subsetting
⠋ | 251 | spectra_subsetting
⠙ | 262 | spectra_subsetting
⠸ | 274 | spectra_subsetting
⠴ | 286 | spectra_subsetting
⠴ | 296 | spectra_subsetting
⠦ | 307 | spectra_subsetting
⠇ | 319 | spectra_subsetting
⠋ | 331 | spectra_subsetting
⠹ | 343 | spectra_subsetting
⠹ | 353 | spectra_subsetting
⠸ | 364 | spectra_subsetting
⠴ | 376 | spectra_subsetting
⠧ | 388 | spectra_subsetting
⠏ | 400 | spectra_subsetting
⠇ | 409 | spectra_subsetting
⠋ | 421 | spectra_subsetting
⠹ | 433 | spectra_subsetting
⠼ | 445 | spectra_subsetting
⠴ | 456 | spectra_subsetting
⠴ | 466 | spectra_subsetting
⠧ | 478 | spectra_subsetting
⠏ | 490 | spectra_subsetting
⠙ | 502 | spectra_subsetting
⠋ | 511 | spectra_subsetting
⠹ | 523 | spectra_subsetting
⠼ | 535 | spectra_subsetting
⠦ | 547 | spectra_subsetting
⠇ | 559 | spectra_subsetting
⠧ | 568 | spectra_subsetting
⠏ | 580 | spectra_subsetting
⠙ | 592 | spectra_subsetting
⠸ | 604 | spectra_subsetting
⠴ | 616 | spectra_subsetting
⠦ | 627 | spectra_subsetting
⠏ | 640 | spectra_subsetting
⠙ | 652 | spectra_subsetting
⠸ | 664 | spectra_subsetting
⠸ | 674 | spectra_subsetting
⠼ | 685 | spectra_subsetting
⠦ | 697 | spectra_subsetting
⠇ | 709 | spectra_subsetting
⠋ | 721 | spectra_subsetting
⠏ | 730 | spectra_subsetting
⠙ | 742 | spectra_subsetting
⠸ | 754 | spectra_subsetting
⠴ | 766 | spectra_subsetting
⠴ | 776 | spectra_subsetting
⠼ | 785 | spectra_subsetting
⠴ | 796 | spectra_subsetting
⠼ | 805 | spectra_subsetting
⠦ | 817 | spectra_subsetting
⠇ | 829 | spectra_subsetting
⠏ | 840 | spectra_subsetting
⠏ | 850 | spectra_subsetting
⠙ | 862 | spectra_subsetting
⠸ | 874 | spectra_subsetting
⠸ | 884 | spectra_subsetting
⠼ | 895 | spectra_subsetting
⠦ | 907 | spectra_subsetting
⠧ | 918 | spectra_subsetting
⠇ | 929 | spectra_subsetting
⠇ | 939 | spectra_subsetting
⠇ | 949 | spectra_subsetting
⠋ | 961 | spectra_subsetting
⠹ | 973 | spectra_subsetting
⠼ | 985 | spectra_subsetting
⠼ | 995 | spectra_subsetting
⠴ | 1006 | spectra_subsetting
⠧ | 1018 | spectra_subsetting
⠏ | 1030 | spectra_subsetting
⠙ | 1042 | spectra_subsetting
⠙ | 1052 | spectra_subsetting
⠹ | 1063 | spectra_subsetting
⠼ | 1075 | spectra_subsetting
⠦ | 1087 | spectra_subsetting
⠦ | 1097 | spectra_subsetting
⠴ | 1106 | spectra_subsetting
⠦ | 1117 | spectra_subsetting
⠧ | 1128 | spectra_subsetting
⠧ | 1138 | spectra_subsetting
⠧ | 1148 | spectra_subsetting
⠧ | 1158 | spectra_subsetting
⠧ | 1168 | spectra_subsetting
⠏ | 1180 | spectra_subsetting
⠙ | 1192 | spectra_subsetting
⠸ | 1204 | spectra_subsetting
⠸ | 1214 | spectra_subsetting
⠸ | 1224 | spectra_subsetting
⠙ | 1232 | spectra_subsetting
⠹ | 1243 | spectra_subsetting
⠹ | 1253 | spectra_subsetting
⠙ | 1262 | spectra_subsetting
⠹ | 1273 | spectra_subsetting
⠼ | 1285 | spectra_subsetting
⠼ | 1295 | spectra_subsetting
⠴ | 1306 | spectra_subsetting
⠼ | 1315 | spectra_subsetting
⠦ | 1327 | spectra_subsetting
⠇ | 1339 | spectra_subsetting
⠋ | 1351 | spectra_subsetting
⠏ | 1360 | spectra_subsetting
⠙ | 1372 | spectra_subsetting
⠸ | 1384 | spectra_subsetting
⠴ | 1396 | spectra_subsetting
⠧ | 1408 | spectra_subsetting
⠏ | 1420 | spectra_subsetting
⠙ | 1432 | spectra_subsetting
⠸ | 1444 | spectra_subsetting
⠦ | 1457 | spectra_subsetting
⠧ | 1468 | spectra_subsetting
⠏ | 1480 | spectra_subsetting
⠹ | 1493 | spectra_subsetting
⠼ | 1505 | spectra_subsetting
⠦ | 1517 | spectra_subsetting
⠧ | 1528 | spectra_subsetting
⠋ | 1541 | spectra_subsetting
⠙ | 1552 | spectra_subsetting
⠸ | 1564 | spectra_subsetting
⠴ | 1576 | spectra_subsetting
⠧ | 1588 | spectra_subsetting
⠏ | 1600 | spectra_subsetting
⠹ | 1613 | spectra_subsetting
⠼ | 1625 | spectra_subsetting
⠴ | 1636 | spectra_subsetting
⠧ | 1648 | spectra_subsetting
⠏ | 1660 | spectra_subsetting
⠙ | 1672 | spectra_subsetting
⠸ | 1684 | spectra_subsetting
⠴ | 1696 | spectra_subsetting
⠧ | 1708 | spectra_subsetting
⠏ | 1720 | spectra_subsetting
⠦ | 1727 | spectra_subsetting
⠇ | 1729 | spectra_subsetting
⠋ | 1731 | spectra_subsetting
⠹ | 1733 | spectra_subsetting
⠼ | 1735 | spectra_subsetting
⠦ | 1737 | spectra_subsetting
⠇ | 1739 | spectra_subsetting
⠋ | 1741 | spectra_subsetting
⠹ | 1743 | spectra_subsetting
⠼ | 1745 | spectra_subsetting
⠦ | 1747 | spectra_subsetting
⠇ | 1749 | spectra_subsetting
⠋ | 1751 | spectra_subsetting
⠹ | 1753 | spectra_subsetting
⠼ | 1755 | spectra_subsetting
⠦ | 1757 | spectra_subsetting
⠇ | 1759 | spectra_subsetting
⠋ | 1761 | spectra_subsetting
⠹ | 1763 | spectra_subsetting
⠼ | 1765 | spectra_subsetting
⠦ | 1767 | spectra_subsetting
⠇ | 1769 | spectra_subsetting
⠋ | 1771 | spectra_subsetting
⠸ | 1774 | spectra_subsetting
⠴ | 1776 | spectra_subsetting
⠧ | 1778 | spectra_subsetting
⠏ | 1780 | spectra_subsetting
⠙ | 1782 | spectra_subsetting
⠸ | 1784 | spectra_subsetting
⠴ | 1786 | spectra_subsetting
⠧ | 1788 | spectra_subsetting
⠏ | 1790 | spectra_subsetting
⠙ | 1792 | spectra_subsetting
⠸ | 1794 | spectra_subsetting
⠴ | 1796 | spectra_subsetting
⠧ | 1798 | spectra_subsetting
⠏ | 1800 | spectra_subsetting
⠙ | 1802 | spectra_subsetting
⠸ | 1804 | spectra_subsetting
⠴ | 1806 | spectra_subsetting
⠧ | 1808 | spectra_subsetting
⠏ | 1810 | spectra_subsetting
⠙ | 1812 | spectra_subsetting
⠸ | 1814 | spectra_subsetting
⠴ | 1816 | spectra_subsetting
⠧ | 1818 | spectra_subsetting
⠏ | 1820 | spectra_subsetting
⠙ | 1822 | spectra_subsetting
⠸ | 1824 | spectra_subsetting
⠴ | 1826 | spectra_subsetting
⠧ | 1828 | spectra_subsetting
⠏ | 1830 | spectra_subsetting
⠙ | 1832 | spectra_subsetting
⠸ | 1834 | spectra_subsetting
⠴ | 1836 | spectra_subsetting
⠧ | 1838 | spectra_subsetting
⠏ | 1840 | spectra_subsetting
⠙ | 1842 | spectra_subsetting
⠸ | 1844 | spectra_subsetting
⠴ | 1846 | spectra_subsetting
⠧ | 1848 | spectra_subsetting
⠏ | 1850 | spectra_subsetting
⠙ | 1852 | spectra_subsetting
⠸ | 1854 | spectra_subsetting
⠴ | 1856 | spectra_subsetting
⠧ | 1858 | spectra_subsetting
⠏ | 1860 | spectra_subsetting
⠙ | 1862 | spectra_subsetting
⠸ | 1864 | spectra_subsetting
⠴ | 1866 | spectra_subsetting
⠧ | 1868 | spectra_subsetting
⠏ | 1870 | spectra_subsetting
⠙ | 1872 | spectra_subsetting
⠸ | 1874 | spectra_subsetting
⠴ | 1876 | spectra_subsetting
⠧ | 1878 | spectra_subsetting
⠏ | 1880 | spectra_subsetting
⠙ | 1882 | spectra_subsetting
⠸ | 1884 | spectra_subsetting
⠴ | 1886 | spectra_subsetting
⠧ | 1888 | spectra_subsetting
⠏ | 1890 | spectra_subsetting
⠙ | 1892 | spectra_subsetting
⠸ | 1894 | spectra_subsetting
⠴ | 1896 | spectra_subsetting
⠧ | 1898 | spectra_subsetting
⠏ | 1900 | spectra_subsetting
⠙ | 1902 | spectra_subsetting
⠸ | 1904 | spectra_subsetting
⠴ | 1906 | spectra_subsetting
⠧ | 1908 | spectra_subsetting
⠏ | 1910 | spectra_subsetting
⠙ | 1912 | spectra_subsetting
⠸ | 1914 | spectra_subsetting
⠴ | 1916 | spectra_subsetting
⠧ | 1918 | spectra_subsetting
⠏ | 1920 | spectra_subsetting
⠙ | 1922 | spectra_subsetting
⠸ | 1924 | spectra_subsetting
⠴ | 1926 | spectra_subsetting
⠧ | 1928 | spectra_subsetting
⠏ | 1930 | spectra_subsetting
⠙ | 1932 | spectra_subsetting
⠸ | 1934 | spectra_subsetting
⠴ | 1936 | spectra_subsetting
⠧ | 1938 | spectra_subsetting
⠏ | 1940 | spectra_subsetting
⠙ | 1942 | spectra_subsetting
⠸ | 1944 | spectra_subsetting
⠴ | 1946 | spectra_subsetting
⠧ | 1948 | spectra_subsetting
⠏ | 1950 | spectra_subsetting
⠙ | 1952 | spectra_subsetting
⠸ | 1954 | spectra_subsetting
⠴ | 1956 | spectra_subsetting
⠧ | 1958 | spectra_subsetting
⠏ | 1960 | spectra_subsetting
⠙ | 1962 | spectra_subsetting
⠸ | 1964 | spectra_subsetting
⠴ | 1966 | spectra_subsetting
⠧ | 1968 | spectra_subsetting
⠏ | 1970 | spectra_subsetting
⠙ | 1972 | spectra_subsetting
⠸ | 1974 | spectra_subsetting
⠴ | 1976 | spectra_subsetting
⠧ | 1978 | spectra_subsetting
⠏ | 1980 | spectra_subsetting
⠙ | 1982 | spectra_subsetting
⠸ | 1984 | spectra_subsetting
⠴ | 1986 | spectra_subsetting
⠧ | 1988 | spectra_subsetting
⠏ | 1990 | spectra_subsetting
⠙ | 1992 | spectra_subsetting
⠸ | 1994 | spectra_subsetting
⠴ | 1996 | spectra_subsetting
⠧ | 1998 | spectra_subsetting
⠏ | 2000 | spectra_subsetting
⠙ | 2002 | spectra_subsetting
⠸ | 2004 | spectra_subsetting
⠴ | 2006 | spectra_subsetting
⠧ | 2008 | spectra_subsetting
⠏ | 2010 | spectra_subsetting
⠙ | 2012 | spectra_subsetting
⠸ | 2014 | spectra_subsetting
⠴ | 2016 | spectra_subsetting
⠧ | 2018 | spectra_subsetting
⠏ | 2020 | spectra_subsetting
⠙ | 2022 | spectra_subsetting
⠸ | 2024 | spectra_subsetting
⠴ | 2026 | spectra_subsetting
⠧ | 2028 | spectra_subsetting
⠏ | 2030 | spectra_subsetting
⠙ | 2032 | spectra_subsetting
⠸ | 2034 | spectra_subsetting
⠴ | 2036 | spectra_subsetting
⠧ | 2038 | spectra_subsetting
⠏ | 2040 | spectra_subsetting
⠙ | 2042 | spectra_subsetting
⠸ | 2044 | spectra_subsetting
⠴ | 2046 | spectra_subsetting
⠧ | 2048 | spectra_subsetting
⠏ | 2050 | spectra_subsetting
⠙ | 2052 | spectra_subsetting
⠸ | 2054 | spectra_subsetting
⠴ | 2056 | spectra_subsetting
⠧ | 2058 | spectra_subsetting
⠏ | 2060 | spectra_subsetting
⠙ | 2062 | spectra_subsetting
⠸ | 2064 | spectra_subsetting
⠴ | 2066 | spectra_subsetting
⠧ | 2068 | spectra_subsetting
⠏ | 2070 | spectra_subsetting
⠙ | 2072 | spectra_subsetting
⠸ | 2074 | spectra_subsetting
⠴ | 2076 | spectra_subsetting
⠧ | 2078 | spectra_subsetting
⠏ | 2080 | spectra_subsetting
⠙ | 2082 | spectra_subsetting
⠸ | 2084 | spectra_subsetting
⠴ | 2086 | spectra_subsetting
⠧ | 2088 | spectra_subsetting
⠏ | 2090 | spectra_subsetting
⠙ | 2092 | spectra_subsetting
⠸ | 2094 | spectra_subsetting
⠴ | 2096 | spectra_subsetting
⠧ | 2098 | spectra_subsetting
⠏ | 2100 | spectra_subsetting
⠙ | 2102 | spectra_subsetting
⠸ | 2104 | spectra_subsetting
⠴ | 2106 | spectra_subsetting
⠧ | 2108 | spectra_subsetting
⠏ | 2110 | spectra_subsetting
⠙ | 2112 | spectra_subsetting
⠸ | 2114 | spectra_subsetting
⠴ | 2116 | spectra_subsetting
⠧ | 2118 | spectra_subsetting
⠏ | 2120 | spectra_subsetting
⠙ | 2122 | spectra_subsetting
⠸ | 2124 | spectra_subsetting
⠴ | 2126 | spectra_subsetting
⠧ | 2128 | spectra_subsetting
⠏ | 2130 | spectra_subsetting
⠙ | 2132 | spectra_subsetting
⠸ | 2134 | spectra_subsetting
⠴ | 2136 | spectra_subsetting
⠧ | 2138 | spectra_subsetting
⠏ | 2140 | spectra_subsetting
⠙ | 2142 | spectra_subsetting
⠸ | 2144 | spectra_subsetting
⠴ | 2146 | spectra_subsetting
⠧ | 2148 | spectra_subsetting
⠏ | 2150 | spectra_subsetting
⠙ | 2152 | spectra_subsetting
⠸ | 2154 | spectra_subsetting
⠴ | 2156 | spectra_subsetting
⠧ | 2158 | spectra_subsetting
⠏ | 2160 | spectra_subsetting
⠙ | 2162 | spectra_subsetting
⠸ | 2164 | spectra_subsetting
⠴ | 2166 | spectra_subsetting
⠧ | 2168 | spectra_subsetting
⠏ | 2170 | spectra_subsetting
⠙ | 2172 | spectra_subsetting
⠸ | 2174 | spectra_subsetting
⠴ | 2176 | spectra_subsetting
⠧ | 2178 | spectra_subsetting
⠏ | 2180 | spectra_subsetting
⠙ | 2182 | spectra_subsetting
⠸ | 2184 | spectra_subsetting
⠴ | 2186 | spectra_subsetting
⠧ | 2188 | spectra_subsetting
⠏ | 2190 | spectra_subsetting
⠙ | 2192 | spectra_subsetting
⠸ | 2194 | spectra_subsetting
⠴ | 2196 | spectra_subsetting
⠧ | 2198 | spectra_subsetting
⠏ | 2200 | spectra_subsetting
⠙ | 2202 | spectra_subsetting
⠸ | 2204 | spectra_subsetting
⠴ | 2206 | spectra_subsetting
⠧ | 2208 | spectra_subsetting
⠏ | 2210 | spectra_subsetting
⠙ | 2212 | spectra_subsetting
⠸ | 2214 | spectra_subsetting
⠴ | 2216 | spectra_subsetting
⠧ | 2218 | spectra_subsetting
⠏ | 2220 | spectra_subsetting
⠙ | 2222 | spectra_subsetting
⠸ | 2224 | spectra_subsetting
⠴ | 2226 | spectra_subsetting
⠧ | 2228 | spectra_subsetting
⠏ | 2230 | spectra_subsetting
⠙ | 2232 | spectra_subsetting
⠸ | 2234 | spectra_subsetting
⠴ | 2236 | spectra_subsetting
⠧ | 2238 | spectra_subsetting
⠏ | 2240 | spectra_subsetting
⠙ | 2242 | spectra_subsetting
⠸ | 2244 | spectra_subsetting
⠴ | 2246 | spectra_subsetting
⠧ | 2248 | spectra_subsetting
⠏ | 2250 | spectra_subsetting
⠙ | 2252 | spectra_subsetting
⠸ | 2254 | spectra_subsetting
⠴ | 2256 | spectra_subsetting
⠧ | 2258 | spectra_subsetting
⠏ | 2260 | spectra_subsetting
⠙ | 2262 | spectra_subsetting
⠸ | 2264 | spectra_subsetting
⠴ | 2266 | spectra_subsetting
⠧ | 2268 | spectra_subsetting
⠏ | 2270 | spectra_subsetting
⠙ | 2272 | spectra_subsetting
⠸ | 2274 | spectra_subsetting
⠴ | 2276 | spectra_subsetting
⠧ | 2278 | spectra_subsetting
⠏ | 2280 | spectra_subsetting
⠙ | 2282 | spectra_subsetting
⠸ | 2284 | spectra_subsetting
⠴ | 2286 | spectra_subsetting
⠧ | 2288 | spectra_subsetting
⠏ | 2290 | spectra_subsetting
⠙ | 2292 | spectra_subsetting
⠸ | 2294 | spectra_subsetting
⠴ | 2296 | spectra_subsetting
⠧ | 2298 | spectra_subsetting
⠏ | 2300 | spectra_subsetting
⠸ | 2304 | spectra_subsetting
⠏ | 2310 | spectra_subsetting
⠴ | 2316 | spectra_subsetting
⠦ | 2317 | spectra_subsetting
✔ | 2317 | spectra_subsetting [58.7s]
⠏ | 0 | spectra_variables
⠙ | 12 | spectra_variables
⠸ | 14 | spectra_variables
⠴ | 16 | spectra_variables
⠼ | 35 | spectra_variables
⠹ | 43 | spectra_variables
⠸ | 54 | spectra_variables
✔ | 1 62 | spectra_variables [12.9s]
══ Results ═════════════════════════════════════════════════════════════════════
Duration: 77.6 s
── Skipped tests (1) ───────────────────────────────────────────────────────────
• empty test (1): 'test_spectra_variables.R:262:1'
[ FAIL 0 | WARN 0 | SKIP 1 | PASS 2383 ]
>
> proc.time()
user system elapsed
104.171 16.346 126.410
MsBackendRawFileReader.Rcheck/MsBackendRawFileReader-Ex.timings
| name | user | system | elapsed | |
| MsBackendRawFileReader-class | 4.285 | 1.641 | 6.509 | |
| MsBackendRawFileReader | 6.685 | 3.149 | 10.859 | |
| hidden_aliases | 3.177 | 1.500 | 5.243 | |
| ioBenchmark | 48.479 | 12.528 | 24.293 | |