| Back to Multiple platform build/check report for BioC 3.18: simplified long |
|
This page was generated on 2024-04-17 11:36:09 -0400 (Wed, 17 Apr 2024).
| Hostname | OS | Arch (*) | R version | Installed pkgs |
|---|---|---|---|---|
| nebbiolo2 | Linux (Ubuntu 22.04.3 LTS) | x86_64 | 4.3.3 (2024-02-29) -- "Angel Food Cake" | 4676 |
| palomino4 | Windows Server 2022 Datacenter | x64 | 4.3.3 (2024-02-29 ucrt) -- "Angel Food Cake" | 4414 |
| merida1 | macOS 12.7.1 Monterey | x86_64 | 4.3.3 (2024-02-29) -- "Angel Food Cake" | 4437 |
| Click on any hostname to see more info about the system (e.g. compilers) (*) as reported by 'uname -p', except on Windows and Mac OS X | ||||
| Package 1325/2266 | Hostname | OS / Arch | INSTALL | BUILD | CHECK | BUILD BIN | ||||||||
| MsBackendRawFileReader 1.8.1 (landing page) Christian Panse
| nebbiolo2 | Linux (Ubuntu 22.04.3 LTS) / x86_64 | OK | OK | ERROR | |||||||||
| palomino4 | Windows Server 2022 Datacenter / x64 | OK | OK | OK | OK | |||||||||
| merida1 | macOS 12.7.1 Monterey / x86_64 | OK | OK | OK | OK | |||||||||
| kjohnson1 | macOS 13.6.1 Ventura / arm64 | see weekly results here | ||||||||||||
|
To the developers/maintainers of the MsBackendRawFileReader package: - Allow up to 24 hours (and sometimes 48 hours) for your latest push to git@git.bioconductor.org:packages/MsBackendRawFileReader.git to reflect on this report. See Troubleshooting Build Report for more information. - Use the following Renviron settings to reproduce errors and warnings. - If 'R CMD check' started to fail recently on the Linux builder(s) over a missing dependency, add the missing dependency to 'Suggests:' in your DESCRIPTION file. See Renviron.bioc for more information. |
| Package: MsBackendRawFileReader |
| Version: 1.8.1 |
| Command: /home/biocbuild/bbs-3.18-bioc/R/bin/R CMD check --install=check:MsBackendRawFileReader.install-out.txt --library=/home/biocbuild/bbs-3.18-bioc/R/site-library --timings MsBackendRawFileReader_1.8.1.tar.gz |
| StartedAt: 2024-04-16 01:14:13 -0400 (Tue, 16 Apr 2024) |
| EndedAt: 2024-04-16 01:20:08 -0400 (Tue, 16 Apr 2024) |
| EllapsedTime: 355.7 seconds |
| RetCode: 1 |
| Status: ERROR |
| CheckDir: MsBackendRawFileReader.Rcheck |
| Warnings: NA |
##############################################################################
##############################################################################
###
### Running command:
###
### /home/biocbuild/bbs-3.18-bioc/R/bin/R CMD check --install=check:MsBackendRawFileReader.install-out.txt --library=/home/biocbuild/bbs-3.18-bioc/R/site-library --timings MsBackendRawFileReader_1.8.1.tar.gz
###
##############################################################################
##############################################################################
* using log directory ‘/home/biocbuild/bbs-3.18-bioc/meat/MsBackendRawFileReader.Rcheck’
* using R version 4.3.3 (2024-02-29)
* using platform: x86_64-pc-linux-gnu (64-bit)
* R was compiled by
gcc (Ubuntu 11.4.0-1ubuntu1~22.04) 11.4.0
GNU Fortran (Ubuntu 11.4.0-1ubuntu1~22.04) 11.4.0
* running under: Ubuntu 22.04.4 LTS
* using session charset: UTF-8
* checking for file ‘MsBackendRawFileReader/DESCRIPTION’ ... OK
* checking extension type ... Package
* this is package ‘MsBackendRawFileReader’ version ‘1.8.1’
* package encoding: UTF-8
* checking package namespace information ... OK
* checking package dependencies ... OK
* checking if this is a source package ... OK
* checking if there is a namespace ... OK
* checking for hidden files and directories ... OK
* checking for portable file names ... OK
* checking for sufficient/correct file permissions ... OK
* checking whether package ‘MsBackendRawFileReader’ can be installed ... OK
* checking installed package size ... OK
* checking package directory ... OK
* checking ‘build’ directory ... OK
* checking DESCRIPTION meta-information ... OK
* checking top-level files ... OK
* checking for left-over files ... OK
* checking index information ... OK
* checking package subdirectories ... OK
* checking R files for non-ASCII characters ... OK
* checking R files for syntax errors ... OK
* checking whether the package can be loaded ... OK
* checking whether the package can be loaded with stated dependencies ... OK
* checking whether the package can be unloaded cleanly ... OK
* checking whether the namespace can be loaded with stated dependencies ... OK
* checking whether the namespace can be unloaded cleanly ... OK
* checking loading without being on the library search path ... OK
* checking startup messages can be suppressed ... OK
* checking dependencies in R code ... OK
* checking S3 generic/method consistency ... OK
* checking replacement functions ... OK
* checking foreign function calls ... OK
* checking R code for possible problems ... OK
* checking Rd files ... OK
* checking Rd metadata ... OK
* checking Rd cross-references ... OK
* checking for missing documentation entries ... OK
* checking for code/documentation mismatches ... OK
* checking Rd \usage sections ... OK
* checking Rd contents ... OK
* checking for unstated dependencies in examples ... OK
* checking files in ‘vignettes’ ... OK
* checking examples ... OK
Examples with CPU (user + system) or elapsed time > 5s
user system elapsed
ioBenchmark 57.006 4.256 13.100
MsBackendRawFileReader 5.373 1.278 6.054
* checking for unstated dependencies in ‘tests’ ... OK
* checking tests ...
Running ‘testthat.R’
OK
* checking for unstated dependencies in vignettes ... OK
* checking package vignettes in ‘inst/doc’ ... OK
* checking running R code from vignettes ...
‘MsBackendRawFileReader.Rmd’ using ‘UTF-8’... failed
ERROR
Errors in running code in vignettes:
when running code in ‘MsBackendRawFileReader.Rmd’
...
6 y6 1236341
7 y7 4586484
8 y8 12894520
> .plot.LGGNEQVTR(Spectra::combinePeaks(X, ppm = 10,
+ intensityFun = base::max))
When sourcing ‘MsBackendRawFileReader.R’:
Error: error in evaluating the argument 'x' in selecting a method for function 'plot': unable to find an inherited method for function ‘combinePeaks’ for signature ‘"SimpleList"’
Execution halted
* checking re-building of vignette outputs ... OK
* checking PDF version of manual ... OK
* DONE
Status: 1 ERROR
See
‘/home/biocbuild/bbs-3.18-bioc/meat/MsBackendRawFileReader.Rcheck/00check.log’
for details.
MsBackendRawFileReader.Rcheck/00install.out
############################################################################## ############################################################################## ### ### Running command: ### ### /home/biocbuild/bbs-3.18-bioc/R/bin/R CMD INSTALL MsBackendRawFileReader ### ############################################################################## ############################################################################## * installing to library ‘/home/biocbuild/bbs-3.18-bioc/R/site-library’ * installing *source* package ‘MsBackendRawFileReader’ ... ** using staged installation ** R ** inst ** byte-compile and prepare package for lazy loading ** help *** installing help indices ** building package indices ** installing vignettes ** testing if installed package can be loaded from temporary location ** testing if installed package can be loaded from final location ** testing if installed package keeps a record of temporary installation path * DONE (MsBackendRawFileReader)
MsBackendRawFileReader.Rcheck/tests/testthat.Rout
R version 4.3.3 (2024-02-29) -- "Angel Food Cake"
Copyright (C) 2024 The R Foundation for Statistical Computing
Platform: x86_64-pc-linux-gnu (64-bit)
R is free software and comes with ABSOLUTELY NO WARRANTY.
You are welcome to redistribute it under certain conditions.
Type 'license()' or 'licence()' for distribution details.
R is a collaborative project with many contributors.
Type 'contributors()' for more information and
'citation()' on how to cite R or R packages in publications.
Type 'demo()' for some demos, 'help()' for on-line help, or
'help.start()' for an HTML browser interface to help.
Type 'q()' to quit R.
> library("testthat")
> library("MsBackendRawFileReader")
Loading required package: Spectra
Loading required package: S4Vectors
Loading required package: stats4
Loading required package: BiocGenerics
Attaching package: 'BiocGenerics'
The following objects are masked from 'package:stats':
IQR, mad, sd, var, xtabs
The following objects are masked from 'package:base':
Filter, Find, Map, Position, Reduce, anyDuplicated, aperm, append,
as.data.frame, basename, cbind, colnames, dirname, do.call,
duplicated, eval, evalq, get, grep, grepl, intersect, is.unsorted,
lapply, mapply, match, mget, order, paste, pmax, pmax.int, pmin,
pmin.int, rank, rbind, rownames, sapply, setdiff, sort, table,
tapply, union, unique, unsplit, which.max, which.min
Attaching package: 'S4Vectors'
The following object is masked from 'package:utils':
findMatches
The following objects are masked from 'package:base':
I, expand.grid, unname
Loading required package: BiocParallel
Loading required package: ProtGenerics
Attaching package: 'ProtGenerics'
The following object is masked from 'package:stats':
smooth
> library("Spectra")
>
>
> sample_raw_file <- file.path(system.file(package = "rawrr"),
+ 'extdata', 'sample.raw')
>
> sample_mzXML_file <- file.path(path.package(package = 'MsBackendRawFileReader'),
+ 'extdata', 'sample.mzXML')
>
>
> sample_raw <- backendInitialize(MsBackendRawFileReader::MsBackendRawFileReader(), files = sample_raw_file)
>
>
> #sample_mzr <- backendInitialize(MsBackendMzR(), files = sample_mzXML_file)
>
>
> mgf_file <- file.path(system.file(package = "MsBackendRawFileReader"),
+ 'extdata', '3159619b11ed_4590_9594.mgf')
>
>
> rv <- lapply(1:2, function(x){
+ file.copy(from = sample_raw_file, to = tempfile(fileext='.raw'))})
>
>
> register(SnowParam(workers = 1, type = "SOCK") , default = TRUE);
> sample_raw_2 <- backendInitialize(MsBackendRawFileReader(),
+ files = file.path(tempdir(),
+ list.files(path = tempdir(), pattern = 'raw$')))
>
>
> test_check("MsBackendRawFileReader")
[ FAIL 0 | WARN 1 | SKIP 2 | PASS 21 ]
══ Skipped tests (2) ═══════════════════════════════════════════════════════════
• isFALSE(file.exists(sample_mzXML_file)) is TRUE (1):
'test_MsBackendMzR_MsBackendRawFileReader.R:1:1'
• isFALSE(require(MsBackendRawMgf)) is TRUE (1): 'test_top_n_mgf.R:1:1'
[ FAIL 0 | WARN 1 | SKIP 2 | PASS 21 ]
>
>
> be <- Spectra::backendInitialize(MsBackendRawFileReader::MsBackendRawFileReader(),
+ files = c(sample_raw_file))
>
> ## Run the MsBackend spectra variable test suite
> test_suite <- system.file("test_backends", "test_MsBackend",
+ package = "Spectra")
>
> #res <- test_file(paste0(test_suite, "/test_spectra_variables.R"),
> # reporter = check_reporter(), stop_on_failure = TRUE)
>
>
> ## Run the whole suite.
> res <- test_dir(test_suite, stop_on_failure = TRUE)
✔ | F W S OK | Context
⠏ | 0 | peaks_variables
⠙ | 2 | peaks_variables
⠸ | 4 | peaks_variables
✔ | 4 | peaks_variables [4.1s]
⠏ | 0 | spectra_subsetting
⠋ | 1 | spectra_subsetting
⠦ | 17 | spectra_subsetting
⠇ | 29 | spectra_subsetting
⠹ | 43 | spectra_subsetting
⠋ | 61 | spectra_subsetting
⠹ | 73 | spectra_subsetting
⠧ | 88 | spectra_subsetting
⠹ | 103 | spectra_subsetting
⠸ | 114 | spectra_subsetting
⠦ | 127 | spectra_subsetting
⠙ | 142 | spectra_subsetting
⠸ | 154 | spectra_subsetting
⠇ | 169 | spectra_subsetting
⠸ | 184 | spectra_subsetting
⠇ | 199 | spectra_subsetting
⠸ | 214 | spectra_subsetting
⠧ | 228 | spectra_subsetting
⠋ | 241 | spectra_subsetting
⠇ | 259 | spectra_subsetting
⠹ | 263 | spectra_subsetting
⠦ | 277 | spectra_subsetting
⠙ | 292 | spectra_subsetting
⠧ | 308 | spectra_subsetting
⠙ | 322 | spectra_subsetting
⠧ | 338 | spectra_subsetting
⠹ | 353 | spectra_subsetting
⠦ | 367 | spectra_subsetting
⠙ | 382 | spectra_subsetting
⠧ | 398 | spectra_subsetting
⠹ | 413 | spectra_subsetting
⠼ | 425 | spectra_subsetting
⠏ | 440 | spectra_subsetting
⠴ | 456 | spectra_subsetting
⠙ | 472 | spectra_subsetting
⠦ | 487 | spectra_subsetting
⠙ | 502 | spectra_subsetting
⠏ | 520 | spectra_subsetting
⠼ | 535 | spectra_subsetting
⠋ | 551 | spectra_subsetting
⠧ | 568 | spectra_subsetting
⠹ | 583 | spectra_subsetting
⠇ | 599 | spectra_subsetting
⠼ | 615 | spectra_subsetting
⠧ | 628 | spectra_subsetting
⠸ | 644 | spectra_subsetting
⠋ | 661 | spectra_subsetting
⠦ | 677 | spectra_subsetting
⠙ | 692 | spectra_subsetting
⠇ | 709 | spectra_subsetting
⠦ | 727 | spectra_subsetting
⠏ | 740 | spectra_subsetting
⠦ | 757 | spectra_subsetting
⠼ | 775 | spectra_subsetting
⠏ | 790 | spectra_subsetting
⠧ | 808 | spectra_subsetting
⠴ | 826 | spectra_subsetting
⠧ | 838 | spectra_subsetting
⠹ | 853 | spectra_subsetting
⠧ | 868 | spectra_subsetting
⠸ | 884 | spectra_subsetting
⠧ | 898 | spectra_subsetting
⠸ | 914 | spectra_subsetting
⠏ | 930 | spectra_subsetting
⠹ | 943 | spectra_subsetting
⠇ | 959 | spectra_subsetting
⠹ | 973 | spectra_subsetting
⠧ | 988 | spectra_subsetting
⠹ | 1003 | spectra_subsetting
⠇ | 1019 | spectra_subsetting
⠴ | 1036 | spectra_subsetting
⠋ | 1051 | spectra_subsetting
⠴ | 1066 | spectra_subsetting
⠋ | 1081 | spectra_subsetting
⠴ | 1096 | spectra_subsetting
⠋ | 1111 | spectra_subsetting
⠴ | 1126 | spectra_subsetting
⠙ | 1142 | spectra_subsetting
⠴ | 1156 | spectra_subsetting
⠙ | 1172 | spectra_subsetting
⠇ | 1189 | spectra_subsetting
⠹ | 1203 | spectra_subsetting
⠇ | 1219 | spectra_subsetting
⠸ | 1234 | spectra_subsetting
⠴ | 1246 | spectra_subsetting
⠋ | 1261 | spectra_subsetting
⠧ | 1278 | spectra_subsetting
⠸ | 1294 | spectra_subsetting
⠇ | 1309 | spectra_subsetting
⠼ | 1325 | spectra_subsetting
⠙ | 1342 | spectra_subsetting
⠧ | 1348 | spectra_subsetting
⠴ | 1366 | spectra_subsetting
⠸ | 1384 | spectra_subsetting
⠇ | 1399 | spectra_subsetting
⠸ | 1414 | spectra_subsetting
⠋ | 1431 | spectra_subsetting
⠦ | 1447 | spectra_subsetting
⠙ | 1462 | spectra_subsetting
⠏ | 1480 | spectra_subsetting
⠧ | 1498 | spectra_subsetting
⠸ | 1514 | spectra_subsetting
⠋ | 1531 | spectra_subsetting
⠧ | 1548 | spectra_subsetting
⠙ | 1562 | spectra_subsetting
⠇ | 1579 | spectra_subsetting
⠸ | 1594 | spectra_subsetting
⠙ | 1612 | spectra_subsetting
⠧ | 1628 | spectra_subsetting
⠼ | 1645 | spectra_subsetting
⠹ | 1663 | spectra_subsetting
⠇ | 1679 | spectra_subsetting
⠴ | 1696 | spectra_subsetting
⠙ | 1712 | spectra_subsetting
⠴ | 1726 | spectra_subsetting
⠧ | 1728 | spectra_subsetting
⠏ | 1730 | spectra_subsetting
⠙ | 1732 | spectra_subsetting
⠸ | 1734 | spectra_subsetting
⠴ | 1736 | spectra_subsetting
⠧ | 1738 | spectra_subsetting
⠏ | 1740 | spectra_subsetting
⠙ | 1742 | spectra_subsetting
⠸ | 1744 | spectra_subsetting
⠴ | 1746 | spectra_subsetting
⠧ | 1748 | spectra_subsetting
⠏ | 1750 | spectra_subsetting
⠙ | 1752 | spectra_subsetting
⠸ | 1754 | spectra_subsetting
⠴ | 1756 | spectra_subsetting
⠧ | 1758 | spectra_subsetting
⠏ | 1760 | spectra_subsetting
⠙ | 1762 | spectra_subsetting
⠸ | 1764 | spectra_subsetting
⠴ | 1766 | spectra_subsetting
⠧ | 1768 | spectra_subsetting
⠏ | 1770 | spectra_subsetting
⠙ | 1772 | spectra_subsetting
⠸ | 1774 | spectra_subsetting
⠴ | 1776 | spectra_subsetting
⠧ | 1778 | spectra_subsetting
⠏ | 1780 | spectra_subsetting
⠙ | 1782 | spectra_subsetting
⠸ | 1784 | spectra_subsetting
⠴ | 1786 | spectra_subsetting
⠧ | 1788 | spectra_subsetting
⠏ | 1790 | spectra_subsetting
⠙ | 1792 | spectra_subsetting
⠸ | 1794 | spectra_subsetting
⠴ | 1796 | spectra_subsetting
⠧ | 1798 | spectra_subsetting
⠏ | 1800 | spectra_subsetting
⠙ | 1802 | spectra_subsetting
⠸ | 1804 | spectra_subsetting
⠴ | 1806 | spectra_subsetting
⠧ | 1808 | spectra_subsetting
⠏ | 1810 | spectra_subsetting
⠙ | 1812 | spectra_subsetting
⠸ | 1814 | spectra_subsetting
⠴ | 1816 | spectra_subsetting
⠧ | 1818 | spectra_subsetting
⠏ | 1820 | spectra_subsetting
⠙ | 1822 | spectra_subsetting
⠸ | 1824 | spectra_subsetting
⠴ | 1826 | spectra_subsetting
⠧ | 1828 | spectra_subsetting
⠏ | 1830 | spectra_subsetting
⠙ | 1832 | spectra_subsetting
⠸ | 1834 | spectra_subsetting
⠴ | 1836 | spectra_subsetting
⠧ | 1838 | spectra_subsetting
⠏ | 1840 | spectra_subsetting
⠙ | 1842 | spectra_subsetting
⠸ | 1844 | spectra_subsetting
⠴ | 1846 | spectra_subsetting
⠧ | 1848 | spectra_subsetting
⠏ | 1850 | spectra_subsetting
⠙ | 1852 | spectra_subsetting
⠸ | 1854 | spectra_subsetting
⠴ | 1856 | spectra_subsetting
⠧ | 1858 | spectra_subsetting
⠏ | 1860 | spectra_subsetting
⠙ | 1862 | spectra_subsetting
⠸ | 1864 | spectra_subsetting
⠴ | 1866 | spectra_subsetting
⠧ | 1868 | spectra_subsetting
⠏ | 1870 | spectra_subsetting
⠙ | 1872 | spectra_subsetting
⠸ | 1874 | spectra_subsetting
⠴ | 1876 | spectra_subsetting
⠧ | 1878 | spectra_subsetting
⠏ | 1880 | spectra_subsetting
⠙ | 1882 | spectra_subsetting
⠸ | 1884 | spectra_subsetting
⠴ | 1886 | spectra_subsetting
⠧ | 1888 | spectra_subsetting
⠏ | 1890 | spectra_subsetting
⠙ | 1892 | spectra_subsetting
⠸ | 1894 | spectra_subsetting
⠴ | 1896 | spectra_subsetting
⠧ | 1898 | spectra_subsetting
⠏ | 1900 | spectra_subsetting
⠙ | 1902 | spectra_subsetting
⠸ | 1904 | spectra_subsetting
⠴ | 1906 | spectra_subsetting
⠧ | 1908 | spectra_subsetting
⠏ | 1910 | spectra_subsetting
⠙ | 1912 | spectra_subsetting
⠸ | 1914 | spectra_subsetting
⠴ | 1916 | spectra_subsetting
⠧ | 1918 | spectra_subsetting
⠏ | 1920 | spectra_subsetting
⠙ | 1922 | spectra_subsetting
⠸ | 1924 | spectra_subsetting
⠴ | 1926 | spectra_subsetting
⠧ | 1928 | spectra_subsetting
⠏ | 1930 | spectra_subsetting
⠙ | 1932 | spectra_subsetting
⠸ | 1934 | spectra_subsetting
⠴ | 1936 | spectra_subsetting
⠧ | 1938 | spectra_subsetting
⠏ | 1940 | spectra_subsetting
⠙ | 1942 | spectra_subsetting
⠸ | 1944 | spectra_subsetting
⠴ | 1946 | spectra_subsetting
⠧ | 1948 | spectra_subsetting
⠏ | 1950 | spectra_subsetting
⠙ | 1952 | spectra_subsetting
⠸ | 1954 | spectra_subsetting
⠴ | 1956 | spectra_subsetting
⠧ | 1958 | spectra_subsetting
⠏ | 1960 | spectra_subsetting
⠙ | 1962 | spectra_subsetting
⠸ | 1964 | spectra_subsetting
⠴ | 1966 | spectra_subsetting
⠧ | 1968 | spectra_subsetting
⠏ | 1970 | spectra_subsetting
⠙ | 1972 | spectra_subsetting
⠸ | 1974 | spectra_subsetting
⠴ | 1976 | spectra_subsetting
⠧ | 1978 | spectra_subsetting
⠏ | 1980 | spectra_subsetting
⠙ | 1982 | spectra_subsetting
⠸ | 1984 | spectra_subsetting
⠴ | 1986 | spectra_subsetting
⠧ | 1988 | spectra_subsetting
⠏ | 1990 | spectra_subsetting
⠙ | 1992 | spectra_subsetting
⠸ | 1994 | spectra_subsetting
⠴ | 1996 | spectra_subsetting
⠧ | 1998 | spectra_subsetting
⠏ | 2000 | spectra_subsetting
⠙ | 2002 | spectra_subsetting
⠸ | 2004 | spectra_subsetting
⠴ | 2006 | spectra_subsetting
⠧ | 2008 | spectra_subsetting
⠏ | 2010 | spectra_subsetting
⠙ | 2012 | spectra_subsetting
⠸ | 2014 | spectra_subsetting
⠴ | 2016 | spectra_subsetting
⠧ | 2018 | spectra_subsetting
⠏ | 2020 | spectra_subsetting
⠙ | 2022 | spectra_subsetting
⠸ | 2024 | spectra_subsetting
⠴ | 2026 | spectra_subsetting
⠧ | 2028 | spectra_subsetting
⠏ | 2030 | spectra_subsetting
⠙ | 2032 | spectra_subsetting
⠸ | 2034 | spectra_subsetting
⠴ | 2036 | spectra_subsetting
⠧ | 2038 | spectra_subsetting
⠏ | 2040 | spectra_subsetting
⠙ | 2042 | spectra_subsetting
⠸ | 2044 | spectra_subsetting
⠴ | 2046 | spectra_subsetting
⠧ | 2048 | spectra_subsetting
⠏ | 2050 | spectra_subsetting
⠙ | 2052 | spectra_subsetting
⠸ | 2054 | spectra_subsetting
⠴ | 2056 | spectra_subsetting
⠧ | 2058 | spectra_subsetting
⠏ | 2060 | spectra_subsetting
⠙ | 2062 | spectra_subsetting
⠸ | 2064 | spectra_subsetting
⠴ | 2066 | spectra_subsetting
⠧ | 2068 | spectra_subsetting
⠏ | 2070 | spectra_subsetting
⠙ | 2072 | spectra_subsetting
⠸ | 2074 | spectra_subsetting
⠴ | 2076 | spectra_subsetting
⠧ | 2078 | spectra_subsetting
⠏ | 2080 | spectra_subsetting
⠙ | 2082 | spectra_subsetting
⠸ | 2084 | spectra_subsetting
⠴ | 2086 | spectra_subsetting
⠧ | 2088 | spectra_subsetting
⠏ | 2090 | spectra_subsetting
⠙ | 2092 | spectra_subsetting
⠸ | 2094 | spectra_subsetting
⠴ | 2096 | spectra_subsetting
⠧ | 2098 | spectra_subsetting
⠏ | 2100 | spectra_subsetting
⠙ | 2102 | spectra_subsetting
⠸ | 2104 | spectra_subsetting
⠴ | 2106 | spectra_subsetting
⠧ | 2108 | spectra_subsetting
⠏ | 2110 | spectra_subsetting
⠙ | 2112 | spectra_subsetting
⠸ | 2114 | spectra_subsetting
⠴ | 2116 | spectra_subsetting
⠧ | 2118 | spectra_subsetting
⠏ | 2120 | spectra_subsetting
⠙ | 2122 | spectra_subsetting
⠸ | 2124 | spectra_subsetting
⠴ | 2126 | spectra_subsetting
⠧ | 2128 | spectra_subsetting
⠏ | 2130 | spectra_subsetting
⠙ | 2132 | spectra_subsetting
⠸ | 2134 | spectra_subsetting
⠴ | 2136 | spectra_subsetting
⠧ | 2138 | spectra_subsetting
⠏ | 2140 | spectra_subsetting
⠙ | 2142 | spectra_subsetting
⠸ | 2144 | spectra_subsetting
⠴ | 2146 | spectra_subsetting
⠧ | 2148 | spectra_subsetting
⠏ | 2150 | spectra_subsetting
⠙ | 2152 | spectra_subsetting
⠸ | 2154 | spectra_subsetting
⠴ | 2156 | spectra_subsetting
⠧ | 2158 | spectra_subsetting
⠏ | 2160 | spectra_subsetting
⠙ | 2162 | spectra_subsetting
⠸ | 2164 | spectra_subsetting
⠴ | 2166 | spectra_subsetting
⠧ | 2168 | spectra_subsetting
⠏ | 2170 | spectra_subsetting
⠙ | 2172 | spectra_subsetting
⠸ | 2174 | spectra_subsetting
⠴ | 2176 | spectra_subsetting
⠧ | 2178 | spectra_subsetting
⠏ | 2180 | spectra_subsetting
⠙ | 2182 | spectra_subsetting
⠸ | 2184 | spectra_subsetting
⠴ | 2186 | spectra_subsetting
⠧ | 2188 | spectra_subsetting
⠏ | 2190 | spectra_subsetting
⠙ | 2192 | spectra_subsetting
⠸ | 2194 | spectra_subsetting
⠴ | 2196 | spectra_subsetting
⠧ | 2198 | spectra_subsetting
⠏ | 2200 | spectra_subsetting
⠙ | 2202 | spectra_subsetting
⠸ | 2204 | spectra_subsetting
⠴ | 2206 | spectra_subsetting
⠧ | 2208 | spectra_subsetting
⠏ | 2210 | spectra_subsetting
⠙ | 2212 | spectra_subsetting
⠸ | 2214 | spectra_subsetting
⠴ | 2216 | spectra_subsetting
⠧ | 2218 | spectra_subsetting
⠏ | 2220 | spectra_subsetting
⠙ | 2222 | spectra_subsetting
⠸ | 2224 | spectra_subsetting
⠴ | 2226 | spectra_subsetting
⠧ | 2228 | spectra_subsetting
⠏ | 2230 | spectra_subsetting
⠙ | 2232 | spectra_subsetting
⠸ | 2234 | spectra_subsetting
⠴ | 2236 | spectra_subsetting
⠧ | 2238 | spectra_subsetting
⠏ | 2240 | spectra_subsetting
⠙ | 2242 | spectra_subsetting
⠸ | 2244 | spectra_subsetting
⠴ | 2246 | spectra_subsetting
⠧ | 2248 | spectra_subsetting
⠏ | 2250 | spectra_subsetting
⠙ | 2252 | spectra_subsetting
⠸ | 2254 | spectra_subsetting
⠴ | 2256 | spectra_subsetting
⠧ | 2258 | spectra_subsetting
⠏ | 2260 | spectra_subsetting
⠙ | 2262 | spectra_subsetting
⠸ | 2264 | spectra_subsetting
⠴ | 2266 | spectra_subsetting
⠧ | 2268 | spectra_subsetting
⠏ | 2270 | spectra_subsetting
⠙ | 2272 | spectra_subsetting
⠸ | 2274 | spectra_subsetting
⠴ | 2276 | spectra_subsetting
⠧ | 2278 | spectra_subsetting
⠏ | 2280 | spectra_subsetting
⠙ | 2282 | spectra_subsetting
⠸ | 2284 | spectra_subsetting
⠴ | 2286 | spectra_subsetting
⠧ | 2288 | spectra_subsetting
⠏ | 2290 | spectra_subsetting
⠙ | 2292 | spectra_subsetting
⠸ | 2294 | spectra_subsetting
⠴ | 2296 | spectra_subsetting
⠧ | 2298 | spectra_subsetting
⠏ | 2300 | spectra_subsetting
⠸ | 2304 | spectra_subsetting
⠙ | 2312 | spectra_subsetting
⠦ | 2317 | spectra_subsetting
✔ | 2317 | spectra_subsetting [45.6s]
⠏ | 0 | spectra_variables
⠙ | 12 | spectra_variables
⠸ | 14 | spectra_variables
⠴ | 16 | spectra_variables
⠹ | 43 | spectra_variables
✔ | 1 62 | spectra_variables [8.2s]
══ Results ═════════════════════════════════════════════════════════════════════
Duration: 58.0 s
── Skipped tests (1) ───────────────────────────────────────────────────────────
• empty test (1): 'test_spectra_variables.R:262:1'
[ FAIL 0 | WARN 0 | SKIP 1 | PASS 2383 ]
>
> proc.time()
user system elapsed
85.938 4.816 88.678
MsBackendRawFileReader.Rcheck/MsBackendRawFileReader-Ex.timings
| name | user | system | elapsed | |
| MsBackendRawFileReader-class | 3.492 | 0.489 | 3.758 | |
| MsBackendRawFileReader | 5.373 | 1.278 | 6.054 | |
| hidden_aliases | 2.465 | 0.453 | 2.638 | |
| ioBenchmark | 57.006 | 4.256 | 13.100 | |