| Back to Multiple platform build/check report for BioC 3.18: simplified long |
|
This page was generated on 2024-04-17 11:37:01 -0400 (Wed, 17 Apr 2024).
| Hostname | OS | Arch (*) | R version | Installed pkgs |
|---|---|---|---|---|
| nebbiolo2 | Linux (Ubuntu 22.04.3 LTS) | x86_64 | 4.3.3 (2024-02-29) -- "Angel Food Cake" | 4676 |
| palomino4 | Windows Server 2022 Datacenter | x64 | 4.3.3 (2024-02-29 ucrt) -- "Angel Food Cake" | 4414 |
| merida1 | macOS 12.7.1 Monterey | x86_64 | 4.3.3 (2024-02-29) -- "Angel Food Cake" | 4437 |
| Click on any hostname to see more info about the system (e.g. compilers) (*) as reported by 'uname -p', except on Windows and Mac OS X | ||||
| Package 1325/2266 | Hostname | OS / Arch | INSTALL | BUILD | CHECK | BUILD BIN | ||||||||
| MsBackendRawFileReader 1.8.1 (landing page) Christian Panse
| nebbiolo2 | Linux (Ubuntu 22.04.3 LTS) / x86_64 | OK | OK | ERROR | |||||||||
| palomino4 | Windows Server 2022 Datacenter / x64 | OK | OK | OK | OK | |||||||||
| merida1 | macOS 12.7.1 Monterey / x86_64 | OK | OK | OK | OK | |||||||||
| kjohnson1 | macOS 13.6.1 Ventura / arm64 | see weekly results here | ||||||||||||
|
To the developers/maintainers of the MsBackendRawFileReader package: - Allow up to 24 hours (and sometimes 48 hours) for your latest push to git@git.bioconductor.org:packages/MsBackendRawFileReader.git to reflect on this report. See Troubleshooting Build Report for more information. - Use the following Renviron settings to reproduce errors and warnings. - If 'R CMD check' started to fail recently on the Linux builder(s) over a missing dependency, add the missing dependency to 'Suggests:' in your DESCRIPTION file. See Renviron.bioc for more information. |
| Package: MsBackendRawFileReader |
| Version: 1.8.1 |
| Command: F:\biocbuild\bbs-3.18-bioc\R\bin\R.exe CMD check --no-multiarch --install=check:MsBackendRawFileReader.install-out.txt --library=F:\biocbuild\bbs-3.18-bioc\R\library --no-vignettes --timings MsBackendRawFileReader_1.8.1.tar.gz |
| StartedAt: 2024-04-16 02:56:42 -0400 (Tue, 16 Apr 2024) |
| EndedAt: 2024-04-16 03:01:59 -0400 (Tue, 16 Apr 2024) |
| EllapsedTime: 317.0 seconds |
| RetCode: 0 |
| Status: OK |
| CheckDir: MsBackendRawFileReader.Rcheck |
| Warnings: 0 |
##############################################################################
##############################################################################
###
### Running command:
###
### F:\biocbuild\bbs-3.18-bioc\R\bin\R.exe CMD check --no-multiarch --install=check:MsBackendRawFileReader.install-out.txt --library=F:\biocbuild\bbs-3.18-bioc\R\library --no-vignettes --timings MsBackendRawFileReader_1.8.1.tar.gz
###
##############################################################################
##############################################################################
* using log directory 'F:/biocbuild/bbs-3.18-bioc/meat/MsBackendRawFileReader.Rcheck'
* using R version 4.3.3 (2024-02-29 ucrt)
* using platform: x86_64-w64-mingw32 (64-bit)
* R was compiled by
gcc.exe (GCC) 12.3.0
GNU Fortran (GCC) 12.3.0
* running under: Windows Server 2022 x64 (build 20348)
* using session charset: UTF-8
* using option '--no-vignettes'
* checking for file 'MsBackendRawFileReader/DESCRIPTION' ... OK
* checking extension type ... Package
* this is package 'MsBackendRawFileReader' version '1.8.1'
* package encoding: UTF-8
* checking package namespace information ... OK
* checking package dependencies ... OK
* checking if this is a source package ... OK
* checking if there is a namespace ... OK
* checking for hidden files and directories ... OK
* checking for portable file names ... OK
* checking whether package 'MsBackendRawFileReader' can be installed ... OK
* checking installed package size ... OK
* checking package directory ... OK
* checking 'build' directory ... OK
* checking DESCRIPTION meta-information ... OK
* checking top-level files ... OK
* checking for left-over files ... OK
* checking index information ... OK
* checking package subdirectories ... OK
* checking R files for non-ASCII characters ... OK
* checking R files for syntax errors ... OK
* checking whether the package can be loaded ... OK
* checking whether the package can be loaded with stated dependencies ... OK
* checking whether the package can be unloaded cleanly ... OK
* checking whether the namespace can be loaded with stated dependencies ... OK
* checking whether the namespace can be unloaded cleanly ... OK
* checking startup messages can be suppressed ... OK
* checking dependencies in R code ... OK
* checking S3 generic/method consistency ... OK
* checking replacement functions ... OK
* checking foreign function calls ... OK
* checking R code for possible problems ... OK
* checking Rd files ... OK
* checking Rd metadata ... OK
* checking Rd cross-references ... OK
* checking for missing documentation entries ... OK
* checking for code/documentation mismatches ... OK
* checking Rd \usage sections ... OK
* checking Rd contents ... OK
* checking for unstated dependencies in examples ... OK
* checking files in 'vignettes' ... OK
* checking examples ... OK
Examples with CPU (user + system) or elapsed time > 5s
user system elapsed
ioBenchmark 8.55 1.94 52.14
MsBackendRawFileReader-class 0.84 0.08 10.78
MsBackendRawFileReader 0.89 0.01 25.61
hidden_aliases 0.26 0.02 10.37
* checking for unstated dependencies in 'tests' ... OK
* checking tests ...
Running 'testthat.R'
OK
* checking for unstated dependencies in vignettes ... OK
* checking package vignettes in 'inst/doc' ... OK
* checking running R code from vignettes ... SKIPPED
* checking re-building of vignette outputs ... SKIPPED
* checking PDF version of manual ... OK
* DONE
Status: OK
MsBackendRawFileReader.Rcheck/00install.out
############################################################################## ############################################################################## ### ### Running command: ### ### F:\biocbuild\bbs-3.18-bioc\R\bin\R.exe CMD INSTALL MsBackendRawFileReader ### ############################################################################## ############################################################################## * installing to library 'F:/biocbuild/bbs-3.18-bioc/R/library' * installing *source* package 'MsBackendRawFileReader' ... ** using staged installation ** R ** inst ** byte-compile and prepare package for lazy loading ** help *** installing help indices ** building package indices ** installing vignettes ** testing if installed package can be loaded from temporary location ** testing if installed package can be loaded from final location ** testing if installed package keeps a record of temporary installation path * DONE (MsBackendRawFileReader)
MsBackendRawFileReader.Rcheck/tests/testthat.Rout
R version 4.3.3 (2024-02-29 ucrt) -- "Angel Food Cake"
Copyright (C) 2024 The R Foundation for Statistical Computing
Platform: x86_64-w64-mingw32/x64 (64-bit)
R is free software and comes with ABSOLUTELY NO WARRANTY.
You are welcome to redistribute it under certain conditions.
Type 'license()' or 'licence()' for distribution details.
R is a collaborative project with many contributors.
Type 'contributors()' for more information and
'citation()' on how to cite R or R packages in publications.
Type 'demo()' for some demos, 'help()' for on-line help, or
'help.start()' for an HTML browser interface to help.
Type 'q()' to quit R.
> library("testthat")
> library("MsBackendRawFileReader")
Loading required package: Spectra
Loading required package: S4Vectors
Loading required package: stats4
Loading required package: BiocGenerics
Attaching package: 'BiocGenerics'
The following objects are masked from 'package:stats':
IQR, mad, sd, var, xtabs
The following objects are masked from 'package:base':
Filter, Find, Map, Position, Reduce, anyDuplicated, aperm, append,
as.data.frame, basename, cbind, colnames, dirname, do.call,
duplicated, eval, evalq, get, grep, grepl, intersect, is.unsorted,
lapply, mapply, match, mget, order, paste, pmax, pmax.int, pmin,
pmin.int, rank, rbind, rownames, sapply, setdiff, sort, table,
tapply, union, unique, unsplit, which.max, which.min
Attaching package: 'S4Vectors'
The following object is masked from 'package:utils':
findMatches
The following objects are masked from 'package:base':
I, expand.grid, unname
Loading required package: BiocParallel
Loading required package: ProtGenerics
Attaching package: 'ProtGenerics'
The following object is masked from 'package:stats':
smooth
> library("Spectra")
>
>
> sample_raw_file <- file.path(system.file(package = "rawrr"),
+ 'extdata', 'sample.raw')
>
> sample_mzXML_file <- file.path(path.package(package = 'MsBackendRawFileReader'),
+ 'extdata', 'sample.mzXML')
>
>
> sample_raw <- backendInitialize(MsBackendRawFileReader::MsBackendRawFileReader(), files = sample_raw_file)
>
>
> #sample_mzr <- backendInitialize(MsBackendMzR(), files = sample_mzXML_file)
>
>
> mgf_file <- file.path(system.file(package = "MsBackendRawFileReader"),
+ 'extdata', '3159619b11ed_4590_9594.mgf')
>
>
> rv <- lapply(1:2, function(x){
+ file.copy(from = sample_raw_file, to = tempfile(fileext='.raw'))})
>
>
> register(SnowParam(workers = 1, type = "SOCK") , default = TRUE);
> sample_raw_2 <- backendInitialize(MsBackendRawFileReader(),
+ files = file.path(tempdir(),
+ list.files(path = tempdir(), pattern = 'raw$')))
>
>
> test_check("MsBackendRawFileReader")
[ FAIL 0 | WARN 1 | SKIP 2 | PASS 21 ]
══ Skipped tests (2) ═══════════════════════════════════════════════════════════
• isFALSE(file.exists(sample_mzXML_file)) is TRUE (1):
'test_MsBackendMzR_MsBackendRawFileReader.R:1:1'
• isFALSE(require(MsBackendRawMgf)) is TRUE (1): 'test_top_n_mgf.R:1:1'
[ FAIL 0 | WARN 1 | SKIP 2 | PASS 21 ]
>
>
> be <- Spectra::backendInitialize(MsBackendRawFileReader::MsBackendRawFileReader(),
+ files = c(sample_raw_file))
>
> ## Run the MsBackend spectra variable test suite
> test_suite <- system.file("test_backends", "test_MsBackend",
+ package = "Spectra")
>
> #res <- test_file(paste0(test_suite, "/test_spectra_variables.R"),
> # reporter = check_reporter(), stop_on_failure = TRUE)
>
>
> ## Run the whole suite.
> res <- test_dir(test_suite, stop_on_failure = TRUE)
✔ | F W S OK | Context
⠏ | 0 | peaks_variables
⠙ | 2 | peaks_variables
⠸ | 4 | peaks_variables
✔ | 4 | peaks_variables [7.0s]
⠏ | 0 | spectra_subsetting
⠋ | 1 | spectra_subsetting
⠏ | 10 | spectra_subsetting
⠼ | 25 | spectra_subsetting
⠦ | 37 | spectra_subsetting
⠙ | 52 | spectra_subsetting
⠦ | 67 | spectra_subsetting
⠇ | 79 | spectra_subsetting
⠸ | 94 | spectra_subsetting
⠴ | 106 | spectra_subsetting
⠋ | 121 | spectra_subsetting
⠸ | 134 | spectra_subsetting
⠧ | 148 | spectra_subsetting
⠋ | 161 | spectra_subsetting
⠼ | 175 | spectra_subsetting
⠏ | 190 | spectra_subsetting
⠙ | 202 | spectra_subsetting
⠸ | 214 | spectra_subsetting
⠹ | 223 | spectra_subsetting
⠹ | 233 | spectra_subsetting
⠧ | 238 | spectra_subsetting
⠦ | 247 | spectra_subsetting
⠴ | 256 | spectra_subsetting
⠧ | 268 | spectra_subsetting
⠏ | 280 | spectra_subsetting
⠙ | 292 | spectra_subsetting
⠋ | 301 | spectra_subsetting
⠏ | 310 | spectra_subsetting
⠙ | 322 | spectra_subsetting
⠋ | 331 | spectra_subsetting
⠋ | 341 | spectra_subsetting
⠇ | 349 | spectra_subsetting
⠸ | 364 | spectra_subsetting
⠴ | 376 | spectra_subsetting
⠋ | 391 | spectra_subsetting
⠏ | 400 | spectra_subsetting
⠙ | 412 | spectra_subsetting
⠼ | 425 | spectra_subsetting
⠸ | 434 | spectra_subsetting
⠸ | 444 | spectra_subsetting
⠙ | 452 | spectra_subsetting
⠏ | 460 | spectra_subsetting
⠙ | 472 | spectra_subsetting
⠸ | 484 | spectra_subsetting
⠸ | 494 | spectra_subsetting
⠼ | 505 | spectra_subsetting
⠦ | 517 | spectra_subsetting
⠇ | 529 | spectra_subsetting
⠋ | 541 | spectra_subsetting
⠹ | 553 | spectra_subsetting
⠼ | 565 | spectra_subsetting
⠦ | 577 | spectra_subsetting
⠙ | 592 | spectra_subsetting
⠋ | 601 | spectra_subsetting
⠙ | 612 | spectra_subsetting
⠏ | 620 | spectra_subsetting
⠇ | 629 | spectra_subsetting
⠦ | 637 | spectra_subsetting
⠦ | 647 | spectra_subsetting
⠴ | 656 | spectra_subsetting
⠦ | 667 | spectra_subsetting
⠦ | 677 | spectra_subsetting
⠴ | 686 | spectra_subsetting
⠼ | 695 | spectra_subsetting
⠸ | 704 | spectra_subsetting
⠸ | 714 | spectra_subsetting
⠙ | 722 | spectra_subsetting
⠋ | 731 | spectra_subsetting
⠙ | 742 | spectra_subsetting
⠴ | 756 | spectra_subsetting
⠇ | 769 | spectra_subsetting
⠋ | 781 | spectra_subsetting
⠋ | 791 | spectra_subsetting
⠏ | 800 | spectra_subsetting
⠏ | 810 | spectra_subsetting
⠏ | 820 | spectra_subsetting
⠇ | 829 | spectra_subsetting
⠇ | 839 | spectra_subsetting
⠏ | 850 | spectra_subsetting
⠼ | 865 | spectra_subsetting
⠼ | 875 | spectra_subsetting
⠸ | 884 | spectra_subsetting
⠼ | 895 | spectra_subsetting
⠸ | 904 | spectra_subsetting
⠸ | 914 | spectra_subsetting
⠦ | 927 | spectra_subsetting
⠦ | 937 | spectra_subsetting
⠙ | 952 | spectra_subsetting
⠼ | 965 | spectra_subsetting
⠹ | 973 | spectra_subsetting
⠙ | 982 | spectra_subsetting
⠋ | 991 | spectra_subsetting
⠏ | 1000 | spectra_subsetting
⠇ | 1009 | spectra_subsetting
⠸ | 1024 | spectra_subsetting
⠴ | 1036 | spectra_subsetting
⠼ | 1045 | spectra_subsetting
⠧ | 1058 | spectra_subsetting
⠙ | 1072 | spectra_subsetting
⠼ | 1085 | spectra_subsetting
⠴ | 1096 | spectra_subsetting
⠧ | 1108 | spectra_subsetting
⠏ | 1120 | spectra_subsetting
⠇ | 1129 | spectra_subsetting
⠧ | 1138 | spectra_subsetting
⠦ | 1147 | spectra_subsetting
⠴ | 1156 | spectra_subsetting
⠼ | 1165 | spectra_subsetting
⠸ | 1174 | spectra_subsetting
⠸ | 1184 | spectra_subsetting
⠸ | 1194 | spectra_subsetting
⠙ | 1202 | spectra_subsetting
⠹ | 1213 | spectra_subsetting
⠙ | 1222 | spectra_subsetting
⠋ | 1231 | spectra_subsetting
⠏ | 1240 | spectra_subsetting
⠇ | 1249 | spectra_subsetting
⠋ | 1261 | spectra_subsetting
⠋ | 1271 | spectra_subsetting
⠹ | 1283 | spectra_subsetting
⠼ | 1295 | spectra_subsetting
⠹ | 1303 | spectra_subsetting
⠙ | 1312 | spectra_subsetting
⠋ | 1321 | spectra_subsetting
⠸ | 1334 | spectra_subsetting
⠹ | 1343 | spectra_subsetting
⠏ | 1350 | spectra_subsetting
⠹ | 1363 | spectra_subsetting
⠼ | 1375 | spectra_subsetting
⠧ | 1388 | spectra_subsetting
⠏ | 1400 | spectra_subsetting
⠧ | 1408 | spectra_subsetting
⠦ | 1417 | spectra_subsetting
⠧ | 1428 | spectra_subsetting
⠇ | 1439 | spectra_subsetting
⠹ | 1453 | spectra_subsetting
⠸ | 1464 | spectra_subsetting
⠧ | 1478 | spectra_subsetting
⠋ | 1491 | spectra_subsetting
⠸ | 1504 | spectra_subsetting
⠴ | 1516 | spectra_subsetting
⠴ | 1526 | spectra_subsetting
⠹ | 1543 | spectra_subsetting
⠼ | 1555 | spectra_subsetting
⠼ | 1565 | spectra_subsetting
⠴ | 1576 | spectra_subsetting
⠧ | 1588 | spectra_subsetting
⠦ | 1597 | spectra_subsetting
⠇ | 1609 | spectra_subsetting
⠙ | 1622 | spectra_subsetting
⠹ | 1633 | spectra_subsetting
⠙ | 1642 | spectra_subsetting
⠙ | 1652 | spectra_subsetting
⠹ | 1663 | spectra_subsetting
⠙ | 1672 | spectra_subsetting
⠋ | 1681 | spectra_subsetting
⠋ | 1691 | spectra_subsetting
⠏ | 1700 | spectra_subsetting
⠋ | 1711 | spectra_subsetting
⠏ | 1720 | spectra_subsetting
⠦ | 1727 | spectra_subsetting
⠇ | 1729 | spectra_subsetting
⠋ | 1731 | spectra_subsetting
⠹ | 1733 | spectra_subsetting
⠼ | 1735 | spectra_subsetting
⠦ | 1737 | spectra_subsetting
⠇ | 1739 | spectra_subsetting
⠋ | 1741 | spectra_subsetting
⠹ | 1743 | spectra_subsetting
⠼ | 1745 | spectra_subsetting
⠦ | 1747 | spectra_subsetting
⠇ | 1749 | spectra_subsetting
⠋ | 1751 | spectra_subsetting
⠹ | 1753 | spectra_subsetting
⠼ | 1755 | spectra_subsetting
⠦ | 1757 | spectra_subsetting
⠇ | 1759 | spectra_subsetting
⠋ | 1761 | spectra_subsetting
⠹ | 1763 | spectra_subsetting
⠼ | 1765 | spectra_subsetting
⠦ | 1767 | spectra_subsetting
⠇ | 1769 | spectra_subsetting
⠋ | 1771 | spectra_subsetting
⠹ | 1773 | spectra_subsetting
⠼ | 1775 | spectra_subsetting
⠦ | 1777 | spectra_subsetting
⠇ | 1779 | spectra_subsetting
⠏ | 1780 | spectra_subsetting
⠙ | 1782 | spectra_subsetting
⠸ | 1784 | spectra_subsetting
⠼ | 1785 | spectra_subsetting
⠦ | 1787 | spectra_subsetting
⠇ | 1789 | spectra_subsetting
⠋ | 1791 | spectra_subsetting
⠹ | 1793 | spectra_subsetting
⠼ | 1795 | spectra_subsetting
⠦ | 1797 | spectra_subsetting
⠇ | 1799 | spectra_subsetting
⠏ | 1800 | spectra_subsetting
⠙ | 1802 | spectra_subsetting
⠸ | 1804 | spectra_subsetting
⠴ | 1806 | spectra_subsetting
⠧ | 1808 | spectra_subsetting
⠏ | 1810 | spectra_subsetting
⠙ | 1812 | spectra_subsetting
⠸ | 1814 | spectra_subsetting
⠴ | 1816 | spectra_subsetting
⠧ | 1818 | spectra_subsetting
⠏ | 1820 | spectra_subsetting
⠋ | 1821 | spectra_subsetting
⠹ | 1823 | spectra_subsetting
⠼ | 1825 | spectra_subsetting
⠦ | 1827 | spectra_subsetting
⠇ | 1829 | spectra_subsetting
⠋ | 1831 | spectra_subsetting
⠹ | 1833 | spectra_subsetting
⠼ | 1835 | spectra_subsetting
⠦ | 1837 | spectra_subsetting
⠇ | 1839 | spectra_subsetting
⠋ | 1841 | spectra_subsetting
⠹ | 1843 | spectra_subsetting
⠼ | 1845 | spectra_subsetting
⠦ | 1847 | spectra_subsetting
⠇ | 1849 | spectra_subsetting
⠋ | 1851 | spectra_subsetting
⠹ | 1853 | spectra_subsetting
⠼ | 1855 | spectra_subsetting
⠴ | 1856 | spectra_subsetting
⠧ | 1858 | spectra_subsetting
⠇ | 1859 | spectra_subsetting
⠏ | 1860 | spectra_subsetting
⠙ | 1862 | spectra_subsetting
⠸ | 1864 | spectra_subsetting
⠴ | 1866 | spectra_subsetting
⠧ | 1868 | spectra_subsetting
⠏ | 1870 | spectra_subsetting
⠙ | 1872 | spectra_subsetting
⠸ | 1874 | spectra_subsetting
⠼ | 1875 | spectra_subsetting
⠦ | 1877 | spectra_subsetting
⠇ | 1879 | spectra_subsetting
⠋ | 1881 | spectra_subsetting
⠹ | 1883 | spectra_subsetting
⠼ | 1885 | spectra_subsetting
⠴ | 1886 | spectra_subsetting
⠧ | 1888 | spectra_subsetting
⠏ | 1890 | spectra_subsetting
⠙ | 1892 | spectra_subsetting
⠸ | 1894 | spectra_subsetting
⠴ | 1896 | spectra_subsetting
⠧ | 1898 | spectra_subsetting
⠏ | 1900 | spectra_subsetting
⠙ | 1902 | spectra_subsetting
⠸ | 1904 | spectra_subsetting
⠴ | 1906 | spectra_subsetting
⠧ | 1908 | spectra_subsetting
⠏ | 1910 | spectra_subsetting
⠙ | 1912 | spectra_subsetting
⠸ | 1914 | spectra_subsetting
⠴ | 1916 | spectra_subsetting
⠧ | 1918 | spectra_subsetting
⠇ | 1919 | spectra_subsetting
⠋ | 1921 | spectra_subsetting
⠹ | 1923 | spectra_subsetting
⠼ | 1925 | spectra_subsetting
⠦ | 1927 | spectra_subsetting
⠧ | 1928 | spectra_subsetting
⠏ | 1930 | spectra_subsetting
⠙ | 1932 | spectra_subsetting
⠹ | 1933 | spectra_subsetting
⠼ | 1935 | spectra_subsetting
⠴ | 1936 | spectra_subsetting
⠧ | 1938 | spectra_subsetting
⠏ | 1940 | spectra_subsetting
⠋ | 1941 | spectra_subsetting
⠹ | 1943 | spectra_subsetting
⠼ | 1945 | spectra_subsetting
⠦ | 1947 | spectra_subsetting
⠇ | 1949 | spectra_subsetting
⠋ | 1951 | spectra_subsetting
⠹ | 1953 | spectra_subsetting
⠼ | 1955 | spectra_subsetting
⠴ | 1956 | spectra_subsetting
⠦ | 1957 | spectra_subsetting
⠧ | 1958 | spectra_subsetting
⠏ | 1960 | spectra_subsetting
⠋ | 1961 | spectra_subsetting
⠹ | 1963 | spectra_subsetting
⠼ | 1965 | spectra_subsetting
⠦ | 1967 | spectra_subsetting
⠇ | 1969 | spectra_subsetting
⠋ | 1971 | spectra_subsetting
⠹ | 1973 | spectra_subsetting
⠼ | 1975 | spectra_subsetting
⠦ | 1977 | spectra_subsetting
⠇ | 1979 | spectra_subsetting
⠋ | 1981 | spectra_subsetting
⠹ | 1983 | spectra_subsetting
⠼ | 1985 | spectra_subsetting
⠦ | 1987 | spectra_subsetting
⠇ | 1989 | spectra_subsetting
⠋ | 1991 | spectra_subsetting
⠹ | 1993 | spectra_subsetting
⠼ | 1995 | spectra_subsetting
⠦ | 1997 | spectra_subsetting
⠇ | 1999 | spectra_subsetting
⠋ | 2001 | spectra_subsetting
⠹ | 2003 | spectra_subsetting
⠼ | 2005 | spectra_subsetting
⠦ | 2007 | spectra_subsetting
⠇ | 2009 | spectra_subsetting
⠋ | 2011 | spectra_subsetting
⠹ | 2013 | spectra_subsetting
⠼ | 2015 | spectra_subsetting
⠦ | 2017 | spectra_subsetting
⠇ | 2019 | spectra_subsetting
⠋ | 2021 | spectra_subsetting
⠹ | 2023 | spectra_subsetting
⠼ | 2025 | spectra_subsetting
⠦ | 2027 | spectra_subsetting
⠇ | 2029 | spectra_subsetting
⠋ | 2031 | spectra_subsetting
⠹ | 2033 | spectra_subsetting
⠼ | 2035 | spectra_subsetting
⠦ | 2037 | spectra_subsetting
⠇ | 2039 | spectra_subsetting
⠋ | 2041 | spectra_subsetting
⠹ | 2043 | spectra_subsetting
⠼ | 2045 | spectra_subsetting
⠦ | 2047 | spectra_subsetting
⠇ | 2049 | spectra_subsetting
⠋ | 2051 | spectra_subsetting
⠹ | 2053 | spectra_subsetting
⠼ | 2055 | spectra_subsetting
⠦ | 2057 | spectra_subsetting
⠇ | 2059 | spectra_subsetting
⠋ | 2061 | spectra_subsetting
⠹ | 2063 | spectra_subsetting
⠼ | 2065 | spectra_subsetting
⠦ | 2067 | spectra_subsetting
⠇ | 2069 | spectra_subsetting
⠋ | 2071 | spectra_subsetting
⠹ | 2073 | spectra_subsetting
⠼ | 2075 | spectra_subsetting
⠦ | 2077 | spectra_subsetting
⠇ | 2079 | spectra_subsetting
⠋ | 2081 | spectra_subsetting
⠹ | 2083 | spectra_subsetting
⠼ | 2085 | spectra_subsetting
⠦ | 2087 | spectra_subsetting
⠇ | 2089 | spectra_subsetting
⠋ | 2091 | spectra_subsetting
⠹ | 2093 | spectra_subsetting
⠼ | 2095 | spectra_subsetting
⠦ | 2097 | spectra_subsetting
⠧ | 2098 | spectra_subsetting
⠏ | 2100 | spectra_subsetting
⠋ | 2101 | spectra_subsetting
⠹ | 2103 | spectra_subsetting
⠸ | 2104 | spectra_subsetting
⠴ | 2106 | spectra_subsetting
⠦ | 2107 | spectra_subsetting
⠇ | 2109 | spectra_subsetting
⠋ | 2111 | spectra_subsetting
⠹ | 2113 | spectra_subsetting
⠼ | 2115 | spectra_subsetting
⠦ | 2117 | spectra_subsetting
⠇ | 2119 | spectra_subsetting
⠋ | 2121 | spectra_subsetting
⠹ | 2123 | spectra_subsetting
⠼ | 2125 | spectra_subsetting
⠦ | 2127 | spectra_subsetting
⠇ | 2129 | spectra_subsetting
⠋ | 2131 | spectra_subsetting
⠹ | 2133 | spectra_subsetting
⠼ | 2135 | spectra_subsetting
⠦ | 2137 | spectra_subsetting
⠇ | 2139 | spectra_subsetting
⠋ | 2141 | spectra_subsetting
⠹ | 2143 | spectra_subsetting
⠼ | 2145 | spectra_subsetting
⠦ | 2147 | spectra_subsetting
⠇ | 2149 | spectra_subsetting
⠋ | 2151 | spectra_subsetting
⠹ | 2153 | spectra_subsetting
⠴ | 2156 | spectra_subsetting
⠧ | 2158 | spectra_subsetting
⠏ | 2160 | spectra_subsetting
⠙ | 2162 | spectra_subsetting
⠸ | 2164 | spectra_subsetting
⠴ | 2166 | spectra_subsetting
⠧ | 2168 | spectra_subsetting
⠏ | 2170 | spectra_subsetting
⠙ | 2172 | spectra_subsetting
⠸ | 2174 | spectra_subsetting
⠴ | 2176 | spectra_subsetting
⠧ | 2178 | spectra_subsetting
⠏ | 2180 | spectra_subsetting
⠙ | 2182 | spectra_subsetting
⠸ | 2184 | spectra_subsetting
⠴ | 2186 | spectra_subsetting
⠧ | 2188 | spectra_subsetting
⠏ | 2190 | spectra_subsetting
⠙ | 2192 | spectra_subsetting
⠸ | 2194 | spectra_subsetting
⠴ | 2196 | spectra_subsetting
⠧ | 2198 | spectra_subsetting
⠏ | 2200 | spectra_subsetting
⠋ | 2201 | spectra_subsetting
⠹ | 2203 | spectra_subsetting
⠼ | 2205 | spectra_subsetting
⠦ | 2207 | spectra_subsetting
⠇ | 2209 | spectra_subsetting
⠋ | 2211 | spectra_subsetting
⠹ | 2213 | spectra_subsetting
⠼ | 2215 | spectra_subsetting
⠴ | 2216 | spectra_subsetting
⠧ | 2218 | spectra_subsetting
⠏ | 2220 | spectra_subsetting
⠙ | 2222 | spectra_subsetting
⠸ | 2224 | spectra_subsetting
⠴ | 2226 | spectra_subsetting
⠧ | 2228 | spectra_subsetting
⠏ | 2230 | spectra_subsetting
⠙ | 2232 | spectra_subsetting
⠸ | 2234 | spectra_subsetting
⠴ | 2236 | spectra_subsetting
⠧ | 2238 | spectra_subsetting
⠏ | 2240 | spectra_subsetting
⠙ | 2242 | spectra_subsetting
⠸ | 2244 | spectra_subsetting
⠼ | 2245 | spectra_subsetting
⠦ | 2247 | spectra_subsetting
⠇ | 2249 | spectra_subsetting
⠋ | 2251 | spectra_subsetting
⠹ | 2253 | spectra_subsetting
⠼ | 2255 | spectra_subsetting
⠦ | 2257 | spectra_subsetting
⠇ | 2259 | spectra_subsetting
⠋ | 2261 | spectra_subsetting
⠹ | 2263 | spectra_subsetting
⠼ | 2265 | spectra_subsetting
⠦ | 2267 | spectra_subsetting
⠇ | 2269 | spectra_subsetting
⠋ | 2271 | spectra_subsetting
⠹ | 2273 | spectra_subsetting
⠼ | 2275 | spectra_subsetting
⠦ | 2277 | spectra_subsetting
⠇ | 2279 | spectra_subsetting
⠏ | 2280 | spectra_subsetting
⠙ | 2282 | spectra_subsetting
⠸ | 2284 | spectra_subsetting
⠴ | 2286 | spectra_subsetting
⠧ | 2288 | spectra_subsetting
⠏ | 2290 | spectra_subsetting
⠙ | 2292 | spectra_subsetting
⠸ | 2294 | spectra_subsetting
⠼ | 2295 | spectra_subsetting
⠦ | 2297 | spectra_subsetting
⠇ | 2299 | spectra_subsetting
⠏ | 2300 | spectra_subsetting
⠹ | 2303 | spectra_subsetting
⠼ | 2305 | spectra_subsetting
⠏ | 2310 | spectra_subsetting
⠴ | 2316 | spectra_subsetting
✔ | 2317 | spectra_subsetting [62.4s]
⠏ | 0 | spectra_variables
⠙ | 12 | spectra_variables
⠸ | 14 | spectra_variables
⠴ | 16 | spectra_variables
⠙ | 32 | spectra_variables
⠹ | 43 | spectra_variables
⠸ | 54 | spectra_variables
✔ | 1 62 | spectra_variables [14.0s]
══ Results ═════════════════════════════════════════════════════════════════════
Duration: 83.4 s
── Skipped tests (1) ───────────────────────────────────────────────────────────
• empty test (1): 'test_spectra_variables.R:262:1'
[ FAIL 0 | WARN 0 | SKIP 1 | PASS 2383 ]
>
> proc.time()
user system elapsed
73.67 4.04 141.06
MsBackendRawFileReader.Rcheck/MsBackendRawFileReader-Ex.timings
| name | user | system | elapsed | |
| MsBackendRawFileReader-class | 0.84 | 0.08 | 10.78 | |
| MsBackendRawFileReader | 0.89 | 0.01 | 25.61 | |
| hidden_aliases | 0.26 | 0.02 | 10.37 | |
| ioBenchmark | 8.55 | 1.94 | 52.14 | |