| Back to Multiple platform build/check report for BioC 3.18: simplified long |
|
This page was generated on 2023-11-02 11:40:57 -0400 (Thu, 02 Nov 2023).
| Hostname | OS | Arch (*) | R version | Installed pkgs |
|---|---|---|---|---|
| nebbiolo2 | Linux (Ubuntu 22.04.2 LTS) | x86_64 | 4.3.1 (2023-06-16) -- "Beagle Scouts" | 4729 |
| palomino4 | Windows Server 2022 Datacenter | x64 | 4.3.1 (2023-06-16 ucrt) -- "Beagle Scouts" | 4463 |
| lconway | macOS 12.6.5 Monterey | x86_64 | 4.3.1 Patched (2023-06-17 r84564) -- "Beagle Scouts" | 4478 |
| kunpeng2 | Linux (openEuler 22.03 LTS-SP1) | aarch64 | 4.3.1 (2023-06-16) -- "Beagle Scouts" | 4464 |
| Click on any hostname to see more info about the system (e.g. compilers) (*) as reported by 'uname -p', except on Windows and Mac OS X | ||||
| Package 1297/2266 | Hostname | OS / Arch | INSTALL | BUILD | CHECK | BUILD BIN | ||||||||
| MOFA2 1.12.0 (landing page) Ricard Argelaguet
| nebbiolo2 | Linux (Ubuntu 22.04.2 LTS) / x86_64 | OK | OK | OK | |||||||||
| palomino4 | Windows Server 2022 Datacenter / x64 | OK | OK | OK | OK | |||||||||
| lconway | macOS 12.6.5 Monterey / x86_64 | OK | OK | OK | OK | |||||||||
| kjohnson1 | macOS 13.6.1 Ventura / arm64 | see weekly results here | ||||||||||||
| kunpeng2 | Linux (openEuler 22.03 LTS-SP1) / aarch64 | OK | OK | OK | ||||||||||
|
To the developers/maintainers of the MOFA2 package: - Allow up to 24 hours (and sometimes 48 hours) for your latest push to git@git.bioconductor.org:packages/MOFA2.git to reflect on this report. See Troubleshooting Build Report for more information. - Use the following Renviron settings to reproduce errors and warnings. - If 'R CMD check' started to fail recently on the Linux builder(s) over a missing dependency, add the missing dependency to 'Suggests:' in your DESCRIPTION file. See Renviron.bioc for more information. - See Martin Grigorov's blog post for how to debug Linux ARM64 related issues on a x86_64 host. |
| Package: MOFA2 |
| Version: 1.12.0 |
| Command: /home/biocbuild/R/R-4.3.1/bin/R CMD check --install=check:MOFA2.install-out.txt --library=/home/biocbuild/R/R-4.3.1/site-library --no-vignettes --timings MOFA2_1.12.0.tar.gz |
| StartedAt: 2023-11-02 12:20:07 -0000 (Thu, 02 Nov 2023) |
| EndedAt: 2023-11-02 12:24:40 -0000 (Thu, 02 Nov 2023) |
| EllapsedTime: 273.1 seconds |
| RetCode: 0 |
| Status: OK |
| CheckDir: MOFA2.Rcheck |
| Warnings: 0 |
##############################################################################
##############################################################################
###
### Running command:
###
### /home/biocbuild/R/R-4.3.1/bin/R CMD check --install=check:MOFA2.install-out.txt --library=/home/biocbuild/R/R-4.3.1/site-library --no-vignettes --timings MOFA2_1.12.0.tar.gz
###
##############################################################################
##############################################################################
* using log directory ‘/home/biocbuild/bbs-3.18-bioc/meat/MOFA2.Rcheck’
* using R version 4.3.1 (2023-06-16)
* using platform: aarch64-unknown-linux-gnu (64-bit)
* R was compiled by
gcc (GCC) 10.3.1
GNU Fortran (GCC) 10.3.1
* running under: openEuler 22.03 (LTS-SP1)
* using session charset: UTF-8
* using option ‘--no-vignettes’
* checking for file ‘MOFA2/DESCRIPTION’ ... OK
* checking extension type ... Package
* this is package ‘MOFA2’ version ‘1.12.0’
* package encoding: UTF-8
* checking package namespace information ... OK
* checking package dependencies ... OK
* checking if this is a source package ... OK
* checking if there is a namespace ... OK
* checking for hidden files and directories ... OK
* checking for portable file names ... OK
* checking for sufficient/correct file permissions ... OK
* checking whether package ‘MOFA2’ can be installed ... NOTE
Found the following notes/warnings:
Non-staged installation was used
See ‘/home/biocbuild/bbs-3.18-bioc/meat/MOFA2.Rcheck/00install.out’ for details.
* checking installed package size ... OK
* checking package directory ... OK
* checking ‘build’ directory ... OK
* checking DESCRIPTION meta-information ... OK
* checking top-level files ... OK
* checking for left-over files ... OK
* checking index information ... OK
* checking package subdirectories ... OK
* checking R files for non-ASCII characters ... OK
* checking R files for syntax errors ... OK
* checking whether the package can be loaded ... OK
* checking whether the package can be loaded with stated dependencies ... OK
* checking whether the package can be unloaded cleanly ... OK
* checking whether the namespace can be loaded with stated dependencies ... OK
* checking whether the namespace can be unloaded cleanly ... OK
* checking loading without being on the library search path ... OK
* checking dependencies in R code ... OK
* checking S3 generic/method consistency ... OK
* checking replacement functions ... OK
* checking foreign function calls ... OK
* checking R code for possible problems ... NOTE
.plot_factors_vs_cov_1d: no visible binding for global variable
‘value.factor’
.plot_factors_vs_cov_1d: no visible binding for global variable
‘value_scaled’
.plot_factors_vs_cov_1d: no visible binding for global variable
‘value.covariate’
.plot_factors_vs_cov_1d: no visible binding for global variable ‘value’
.plot_factors_vs_cov_2d: no visible binding for global variable
‘value.factor’
.set_xax: no visible binding for global variable ‘value’
add_mofa_factors_to_seurat: no visible global function definition for
‘CreateDimReducObject’
create_mofa_from_SingleCellExperiment: no visible global function
definition for ‘colData’
get_interpolated_factors: no visible binding for global variable ‘L1’
get_interpolated_factors: no visible binding for global variable ‘L2’
get_interpolated_factors: no visible binding for global variable
‘value’
get_interpolated_factors: no visible binding for global variable
‘covariate’
get_interpolated_factors: no visible binding for global variable
‘covariate_value’
get_interpolated_factors: no visible binding for global variable
‘sample_id’
interpolate_factors: no visible binding for global variable ‘.’
plot_alignment: no visible binding for global variable ‘group’
plot_alignment: no visible binding for global variable ‘value.warped’
plot_alignment: no visible binding for global variable
‘value.unaligned’
plot_contribution_scores: no visible binding for global variable ‘view’
plot_data_overview: no visible binding for global variable ‘view’
plot_data_overview: no visible binding for global variable ‘ptotal’
plot_data_overview: no visible binding for global variable ‘ntotal’
plot_data_overview: no visible binding for global variable ‘group’
plot_data_overview: no visible binding for global variable
‘group_label’
plot_dimred: no visible binding for global variable ‘.’
plot_enrichment_detailed: no visible binding for global variable
‘pathway’
plot_enrichment_detailed: no visible binding for global variable
‘feature.statistic’
plot_factors_vs_cov: no visible binding for global variable ‘E2’
plot_factors_vs_cov: no visible binding for global variable ‘value’
plot_interpolation_vs_covariate: no visible binding for global variable
‘variance’
plot_interpolation_vs_covariate: no visible binding for global variable
‘group’
plot_interpolation_vs_covariate: no visible binding for global variable
‘value.covariate’
plot_interpolation_vs_covariate: no visible binding for global variable
‘value.factor’
plot_interpolation_vs_covariate: no visible binding for global variable
‘ymin’
plot_interpolation_vs_covariate: no visible binding for global variable
‘ymax’
plot_sharedness: no visible binding for global variable ‘sharedness’
plot_sharedness: no visible binding for global variable ‘value’
plot_smoothness: no visible binding for global variable ‘value’
plot_smoothness: no visible binding for global variable ‘smoothness’
plot_top_weights: no visible binding for global variable ‘value’
plot_weights: no visible binding for global variable ‘value’
plot_weights: no visible binding for global variable ‘.’
summarise_factors: no visible binding for global variable ‘value’
summarise_factors: no visible binding for global variable ‘level’
summarise_factors: no visible binding for global variable ‘group’
Undefined global functions or variables:
. CreateDimReducObject E2 L1 L2 colData covariate covariate_value
feature.statistic group group_label level ntotal pathway ptotal
sample_id sharedness smoothness value value.covariate value.factor
value.unaligned value.warped value_scaled variance view ymax ymin
* checking Rd files ... OK
* checking Rd metadata ... OK
* checking Rd cross-references ... NOTE
Package unavailable to check Rd xrefs: ‘PCGSE’
* checking for missing documentation entries ... OK
* checking for code/documentation mismatches ... OK
* checking Rd \usage sections ... OK
* checking Rd contents ... OK
* checking for unstated dependencies in examples ... OK
* checking line endings in shell scripts ... OK
* checking files in ‘vignettes’ ... OK
* checking examples ... OK
* checking for unstated dependencies in ‘tests’ ... OK
* checking tests ...
Running ‘testthat.R’
OK
* checking for unstated dependencies in vignettes ... OK
* checking package vignettes in ‘inst/doc’ ... OK
* checking running R code from vignettes ... SKIPPED
* checking re-building of vignette outputs ... SKIPPED
* checking PDF version of manual ... OK
* DONE
Status: 3 NOTEs
See
‘/home/biocbuild/bbs-3.18-bioc/meat/MOFA2.Rcheck/00check.log’
for details.
MOFA2.Rcheck/00install.out
############################################################################## ############################################################################## ### ### Running command: ### ### /home/biocbuild/R/R-4.3.1/bin/R CMD INSTALL MOFA2 ### ############################################################################## ############################################################################## * installing to library ‘/home/biocbuild/R/R-4.3.1/site-library’ * installing *source* package ‘MOFA2’ ... ** using non-staged installation via StagedInstall field ** R ** inst ** byte-compile and prepare package for lazy loading Creating a generic function for ‘rownames’ from package ‘base’ in package ‘MOFA2’ Creating a generic function for ‘colnames’ from package ‘base’ in package ‘MOFA2’ Creating a generic function for ‘nrow’ from package ‘base’ in package ‘MOFA2’ Creating a generic function for ‘ncol’ from package ‘base’ in package ‘MOFA2’ Creating a generic function for ‘rownames<-’ from package ‘base’ in package ‘MOFA2’ Creating a generic function for ‘colnames<-’ from package ‘base’ in package ‘MOFA2’ ** help *** installing help indices ** building package indices ** installing vignettes ** testing if installed package can be loaded * DONE (MOFA2)
MOFA2.Rcheck/tests/testthat.Rout
R version 4.3.1 (2023-06-16) -- "Beagle Scouts"
Copyright (C) 2023 The R Foundation for Statistical Computing
Platform: aarch64-unknown-linux-gnu (64-bit)
R is free software and comes with ABSOLUTELY NO WARRANTY.
You are welcome to redistribute it under certain conditions.
Type 'license()' or 'licence()' for distribution details.
R is a collaborative project with many contributors.
Type 'contributors()' for more information and
'citation()' on how to cite R or R packages in publications.
Type 'demo()' for some demos, 'help()' for on-line help, or
'help.start()' for an HTML browser interface to help.
Type 'q()' to quit R.
> library(testthat)
> library(MOFA2)
Attaching package: 'MOFA2'
The following object is masked from 'package:stats':
predict
>
> test_check("MOFA2")
single_group
100
____________
| |
view_0 1000 | 100% |
|____________|
____________
| |
view_1 1000 | 100% |
|____________|
[ FAIL 0 | WARN 0 | SKIP 0 | PASS 25 ]
>
> proc.time()
user system elapsed
14.182 0.988 15.456
MOFA2.Rcheck/MOFA2-Ex.timings
| name | user | system | elapsed | |
| add_mofa_factors_to_seurat | 0.006 | 0.000 | 0.005 | |
| calculate_contribution_scores | 0.264 | 0.005 | 0.282 | |
| calculate_variance_explained | 2.237 | 0.080 | 2.332 | |
| calculate_variance_explained_per_sample | 0.809 | 0.072 | 0.883 | |
| cluster_samples | 0.214 | 0.012 | 0.227 | |
| compare_elbo | 0.430 | 0.027 | 0.460 | |
| compare_factors | 0.484 | 0.047 | 0.538 | |
| covariates_names | 0.291 | 0.008 | 0.311 | |
| create_mofa | 0.631 | 0.012 | 0.648 | |
| create_mofa_from_df | 1.168 | 0.044 | 1.222 | |
| create_mofa_from_matrix | 0.014 | 0.000 | 0.014 | |
| factors_names | 0.264 | 2.196 | 4.230 | |
| features_metadata | 0.241 | 0.017 | 0.276 | |
| features_names | 0.226 | 0.015 | 0.250 | |
| get_covariates | 0.289 | 0.009 | 0.305 | |
| get_data | 0.650 | 0.008 | 0.659 | |
| get_default_data_options | 0.630 | 0.000 | 0.642 | |
| get_default_mefisto_options | 0.748 | 0.031 | 0.789 | |
| get_default_model_options | 0.591 | 0.008 | 0.600 | |
| get_default_stochastic_options | 0.628 | 0.004 | 0.633 | |
| get_default_training_options | 0.633 | 0.004 | 0.639 | |
| get_dimensions | 0.241 | 0.008 | 0.250 | |
| get_elbo | 0.229 | 0.008 | 0.237 | |
| get_expectations | 0.231 | 0.008 | 0.239 | |
| get_factors | 0.231 | 0.004 | 0.235 | |
| get_imputed_data | 0.235 | 0.000 | 0.236 | |
| get_lengthscales | 0.278 | 0.004 | 0.282 | |
| get_scales | 0.295 | 0.000 | 0.296 | |
| get_variance_explained | 0.229 | 0.000 | 0.230 | |
| get_weights | 0.249 | 0.000 | 0.249 | |
| groups_names | 0.219 | 0.008 | 0.228 | |
| impute | 0.246 | 0.012 | 0.257 | |
| interpolate_factors | 0.323 | 0.008 | 0.332 | |
| load_model | 0.214 | 0.012 | 0.227 | |
| make_example_data | 0.000 | 0.004 | 0.004 | |
| plot_ascii_data | 0.230 | 0.000 | 0.231 | |
| plot_data_heatmap | 0.305 | 0.000 | 0.306 | |
| plot_data_overview | 0.421 | 0.008 | 0.429 | |
| plot_data_scatter | 1.924 | 0.040 | 2.021 | |
| plot_data_vs_cov | 0.708 | 0.000 | 0.709 | |
| plot_dimred | 4.426 | 0.074 | 4.529 | |
| plot_factor | 1.508 | 0.045 | 1.555 | |
| plot_factor_cor | 0.236 | 0.007 | 0.246 | |
| plot_factors | 0.777 | 0.008 | 0.787 | |
| plot_factors_vs_cov | 0.671 | 0.004 | 0.676 | |
| plot_group_kernel | 0.459 | 0.008 | 0.467 | |
| plot_interpolation_vs_covariate | 0.674 | 0.000 | 0.677 | |
| plot_smoothness | 0.322 | 0.000 | 0.323 | |
| plot_top_weights | 1.081 | 0.036 | 1.121 | |
| plot_variance_explained | 2.054 | 0.024 | 2.086 | |
| plot_variance_explained_by_covariates | 1.388 | 0.012 | 1.408 | |
| plot_variance_explained_per_feature | 0.457 | 0.012 | 0.472 | |
| plot_weights | 2.811 | 0.048 | 2.875 | |
| plot_weights_heatmap | 0.481 | 0.004 | 0.486 | |
| plot_weights_scatter | 0.533 | 0.024 | 0.558 | |
| predict | 0.230 | 0.004 | 0.234 | |
| prepare_mofa | 0.623 | 0.012 | 0.637 | |
| run_mofa | 1.243 | 0.024 | 1.268 | |
| run_tsne | 0.199 | 0.011 | 0.211 | |
| run_umap | 0.212 | 0.000 | 0.212 | |
| samples_metadata | 0.217 | 0.008 | 0.226 | |
| samples_names | 0.216 | 0.004 | 0.220 | |
| set_covariates | 0.039 | 0.000 | 0.039 | |
| subset_factors | 0.263 | 0.004 | 0.267 | |
| subset_groups | 0.221 | 0.000 | 0.222 | |
| subset_samples | 0.230 | 0.000 | 0.231 | |
| subset_views | 0.199 | 0.012 | 0.211 | |
| views_names | 0.207 | 0.004 | 0.211 | |