| Back to Mac ARM64 build report for BioC 3.16 |
|
This page was generated on 2023-04-19 11:01:52 -0400 (Wed, 19 Apr 2023).
| Hostname | OS | Arch (*) | R version | Installed pkgs |
|---|---|---|---|---|
| kjohnson | macOS 13.0 Ventura | arm64 | 4.2.2 (2022-10-31) -- "Innocent and Trusting" | 4256 |
| Click on any hostname to see more info about the system (e.g. compilers) (*) as reported by 'uname -p', except on Windows and Mac OS X | ||||
|
To the developers/maintainers of the SingleCellExperiment package: Make sure to use the following settings in order to reproduce any error or warning you see on this page. |
| Package 1887/2183 | Hostname | OS / Arch | INSTALL | BUILD | BUILD BIN | ||||||||
| SingleCellExperiment 1.20.1 (landing page) Davide Risso
| kjohnson | macOS 13.0 Ventura / arm64 | OK | OK | OK | ||||||||
| QUICK STATS | OS / Arch | INSTALL | BUILD | BUILD BIN | |||||||||||||
| kjohnson | macOS 13.0 Ventura / arm64 |
|
|
| |||||||||||||
| Package 1/140 | Hostname | OS / Arch | INSTALL | BUILD | BUILD BIN | ||||||||||||
| ADImpute 1.8.0 (landing page) Ana Carolina Leote
| kjohnson | macOS 13.0 Ventura / arm64 | OK | OK | OK | ||||||||||||
| Package 2/140 | Hostname | OS / Arch | INSTALL | BUILD | BUILD BIN | ||||||||||||
| aggregateBioVar 1.8.0 (landing page) Jason Ratcliff
| kjohnson | macOS 13.0 Ventura / arm64 | OK | OK | OK | ||||||||||||
| Package 3/140 | Hostname | OS / Arch | INSTALL | BUILD | BUILD BIN | ||||||||||||
| airpart 1.6.0 (landing page) Wancen Mu
| kjohnson | macOS 13.0 Ventura / arm64 | OK | OK | OK | ||||||||||||
| Package 4/140 | Hostname | OS / Arch | INSTALL | BUILD | BUILD BIN | ||||||||||||
| ANCOMBC 2.0.3 (landing page) Huang Lin
| kjohnson | macOS 13.0 Ventura / arm64 | OK | OK | OK | ||||||||||||
| Package 5/140 | Hostname | OS / Arch | INSTALL | BUILD | BUILD BIN | ||||||||||||
| APL 1.2.0 (landing page) Elzbieta Gralinska
| kjohnson | macOS 13.0 Ventura / arm64 | OK | ERROR | skipped | ||||||||||||
| Package 6/140 | Hostname | OS / Arch | INSTALL | BUILD | BUILD BIN | ||||||||||||
| ASURAT 1.2.0 (landing page) Keita Iida
| kjohnson | macOS 13.0 Ventura / arm64 | OK | OK | OK | ||||||||||||
| Package 7/140 | Hostname | OS / Arch | INSTALL | BUILD | BUILD BIN | ||||||||||||
| BASiCS 2.10.5 (landing page) Catalina Vallejos
| kjohnson | macOS 13.0 Ventura / arm64 | OK | OK | OK | ||||||||||||
| Package 8/140 | Hostname | OS / Arch | INSTALL | BUILD | BUILD BIN | ||||||||||||
| BASiCStan 1.0.0 (landing page) Alan O'Callaghan
| kjohnson | macOS 13.0 Ventura / arm64 | OK | OK | OK | ||||||||||||
| Package 9/140 | Hostname | OS / Arch | INSTALL | BUILD | BUILD BIN | ||||||||||||
| batchelor 1.14.1 (landing page) Aaron Lun
| kjohnson | macOS 13.0 Ventura / arm64 | OK | OK | OK | ||||||||||||
| Package 10/140 | Hostname | OS / Arch | INSTALL | BUILD | BUILD BIN | ||||||||||||
| BayesSpace 1.8.2 (landing page) Matt Stone
| kjohnson | macOS 13.0 Ventura / arm64 | OK | OK | OK | ||||||||||||
| Package 11/140 | Hostname | OS / Arch | INSTALL | BUILD | BUILD BIN | ||||||||||||
| bayNorm 1.16.2 (landing page) Wenhao Tang
| kjohnson | macOS 13.0 Ventura / arm64 | OK | OK | OK | ||||||||||||
| Package 12/140 | Hostname | OS / Arch | INSTALL | BUILD | BUILD BIN | ||||||||||||
| BEARscc 1.18.0 (landing page) Benjamin Schuster-Boeckler
| kjohnson | macOS 13.0 Ventura / arm64 | OK | OK | OK | ||||||||||||
| Package 13/140 | Hostname | OS / Arch | INSTALL | BUILD | BUILD BIN | ||||||||||||
| BUSseq 1.4.2 (landing page) Fangda Song
| kjohnson | macOS 13.0 Ventura / arm64 | OK | OK | OK | ||||||||||||
| Package 14/140 | Hostname | OS / Arch | INSTALL | BUILD | BUILD BIN | ||||||||||||
| CATALYST 1.22.0 (landing page) Helena L. Crowell
| kjohnson | macOS 13.0 Ventura / arm64 | OK | OK | OK | ||||||||||||
| Package 15/140 | Hostname | OS / Arch | INSTALL | BUILD | BUILD BIN | ||||||||||||
| ccfindR 1.18.0 (landing page) Jun Woo
| kjohnson | macOS 13.0 Ventura / arm64 | OK | OK | OK | ||||||||||||
| Package 16/140 | Hostname | OS / Arch | INSTALL | BUILD | BUILD BIN | ||||||||||||
| celda 1.14.2 (landing page) Joshua Campbell
| kjohnson | macOS 13.0 Ventura / arm64 | OK | OK | OK | ||||||||||||
| Package 17/140 | Hostname | OS / Arch | INSTALL | BUILD | BUILD BIN | ||||||||||||
| CellBench 1.14.0 (landing page) Shian Su
| kjohnson | macOS 13.0 Ventura / arm64 | OK | OK | OK | ||||||||||||
| Package 18/140 | Hostname | OS / Arch | INSTALL | BUILD | BUILD BIN | ||||||||||||
| CelliD 1.6.2 (landing page) Akira Cortal
| kjohnson | macOS 13.0 Ventura / arm64 | OK | OK | OK | ||||||||||||
| Package 19/140 | Hostname | OS / Arch | INSTALL | BUILD | BUILD BIN | ||||||||||||
| CellMixS 1.14.0 (landing page) Almut Lütge
| kjohnson | macOS 13.0 Ventura / arm64 | OK | OK | OK | ||||||||||||
| Package 20/140 | Hostname | OS / Arch | INSTALL | BUILD | BUILD BIN | ||||||||||||
| CellTrails 1.16.0 (landing page) Daniel Ellwanger
| kjohnson | macOS 13.0 Ventura / arm64 | OK | OK | OK | ||||||||||||
| Package 21/140 | Hostname | OS / Arch | INSTALL | BUILD | BUILD BIN | ||||||||||||
| Cepo 1.4.0 (landing page) Hani Jieun Kim
| kjohnson | macOS 13.0 Ventura / arm64 | OK | OK | OK | ||||||||||||
| Package 22/140 | Hostname | OS / Arch | INSTALL | BUILD | BUILD BIN | ||||||||||||
| CHETAH 1.14.0 (landing page) Jurrian de Kanter
| kjohnson | macOS 13.0 Ventura / arm64 | OK | OK | OK | ||||||||||||
| Package 23/140 | Hostname | OS / Arch | INSTALL | BUILD | BUILD BIN | ||||||||||||
| ChromSCape 1.8.0 (landing page) Pacome Prompsy
| kjohnson | macOS 13.0 Ventura / arm64 | OK | OK | OK | ||||||||||||
| Package 24/140 | Hostname | OS / Arch | INSTALL | BUILD | BUILD BIN | ||||||||||||
| CiteFuse 1.10.0 (landing page) Yingxin Lin
| kjohnson | macOS 13.0 Ventura / arm64 | OK | OK | OK | ||||||||||||
| Package 25/140 | Hostname | OS / Arch | INSTALL | BUILD | BUILD BIN | ||||||||||||
| clusterExperiment 2.18.2 (landing page) Elizabeth Purdom
| kjohnson | macOS 13.0 Ventura / arm64 | OK | OK | OK | ||||||||||||
| Package 26/140 | Hostname | OS / Arch | INSTALL | BUILD | BUILD BIN | ||||||||||||
| clustifyr 1.10.0 (landing page) Kent Riemondy
| kjohnson | macOS 13.0 Ventura / arm64 | OK | OK | OK | ||||||||||||
| Package 27/140 | Hostname | OS / Arch | INSTALL | BUILD | BUILD BIN | ||||||||||||
| CoGAPS 3.18.0 (landing page) Elana J. Fertig
| kjohnson | macOS 13.0 Ventura / arm64 | ERROR | ERROR | skipped | ||||||||||||
| Package 28/140 | Hostname | OS / Arch | INSTALL | BUILD | BUILD BIN | ||||||||||||
Ilyess Rachedi
| kjohnson | macOS 13.0 Ventura / arm64 | OK | ERROR | skipped | ||||||||||||
| Package 29/140 | Hostname | OS / Arch | INSTALL | BUILD | BUILD BIN | ||||||||||||
| condiments 1.6.0 (landing page) Hector Roux de Bezieux
| kjohnson | macOS 13.0 Ventura / arm64 | OK | OK | OK | ||||||||||||
| Package 30/140 | Hostname | OS / Arch | INSTALL | BUILD | BUILD BIN | ||||||||||||
| corral 1.8.0 (landing page) Lauren Hsu
| kjohnson | macOS 13.0 Ventura / arm64 | OK | OK | OK | ||||||||||||
| Package 31/140 | Hostname | OS / Arch | INSTALL | BUILD | BUILD BIN | ||||||||||||
| cydar 1.22.0 (landing page) Aaron Lun
| kjohnson | macOS 13.0 Ventura / arm64 | OK | OK | OK | ||||||||||||
| Package 32/140 | Hostname | OS / Arch | INSTALL | BUILD | BUILD BIN | ||||||||||||
| cytomapper 1.10.1 (landing page) Nils Eling
| kjohnson | macOS 13.0 Ventura / arm64 | OK | OK | OK | ||||||||||||
| Package 33/140 | Hostname | OS / Arch | INSTALL | BUILD | BUILD BIN | ||||||||||||
| destiny 3.12.0 (landing page) Philipp Angerer
| kjohnson | macOS 13.0 Ventura / arm64 | OK | OK | OK | ||||||||||||
| Package 34/140 | Hostname | OS / Arch | INSTALL | BUILD | BUILD BIN | ||||||||||||
| DifferentialRegulation 1.2.2 (landing page) Simone Tiberi
| kjohnson | macOS 13.0 Ventura / arm64 | OK | OK | OK | ||||||||||||
| Package 35/140 | Hostname | OS / Arch | INSTALL | BUILD | BUILD BIN | ||||||||||||
| Dino 1.4.0 (landing page) Jared Brown
| kjohnson | macOS 13.0 Ventura / arm64 | OK | OK | OK | ||||||||||||
| Package 36/140 | Hostname | OS / Arch | INSTALL | BUILD | BUILD BIN | ||||||||||||
| distinct 1.10.2 (landing page) Simone Tiberi
| kjohnson | macOS 13.0 Ventura / arm64 | OK | OK | OK | ||||||||||||
| Package 37/140 | Hostname | OS / Arch | INSTALL | BUILD | BUILD BIN | ||||||||||||
| dittoSeq 1.10.0 (landing page) Daniel Bunis
| kjohnson | macOS 13.0 Ventura / arm64 | OK | OK | OK | ||||||||||||
| Package 38/140 | Hostname | OS / Arch | INSTALL | BUILD | BUILD BIN | ||||||||||||
| DropletUtils 1.18.1 (landing page) Jonathan Griffiths
| kjohnson | macOS 13.0 Ventura / arm64 | OK | OK | OK | ||||||||||||
| Package 39/140 | Hostname | OS / Arch | INSTALL | BUILD | BUILD BIN | ||||||||||||
| escape 1.8.0 (landing page) Nick Borcherding
| kjohnson | macOS 13.0 Ventura / arm64 | OK | OK | OK | ||||||||||||
| Package 40/140 | Hostname | OS / Arch | INSTALL | BUILD | BUILD BIN | ||||||||||||
| EWCE 1.6.0 (landing page) Alan Murphy
| kjohnson | macOS 13.0 Ventura / arm64 | OK | OK | OK | ||||||||||||
| Package 41/140 | Hostname | OS / Arch | INSTALL | BUILD | BUILD BIN | ||||||||||||
| ExperimentSubset 1.8.0 (landing page) Irzam Sarfraz
| kjohnson | macOS 13.0 Ventura / arm64 | OK | OK | OK | ||||||||||||
| Package 42/140 | Hostname | OS / Arch | INSTALL | BUILD | BUILD BIN | ||||||||||||
| fcoex 1.12.0 (landing page) Tiago Lubiana
| kjohnson | macOS 13.0 Ventura / arm64 | OK | OK | OK | ||||||||||||
| Package 43/140 | Hostname | OS / Arch | INSTALL | BUILD | BUILD BIN | ||||||||||||
| FEAST 1.6.0 (landing page) Kenong Su
| kjohnson | macOS 13.0 Ventura / arm64 | OK | OK | OK | ||||||||||||
| Package 44/140 | Hostname | OS / Arch | INSTALL | BUILD | BUILD BIN | ||||||||||||
| fishpond 2.4.1 (landing page) Michael Love
| kjohnson | macOS 13.0 Ventura / arm64 | OK | OK | OK | ||||||||||||
| Package 45/140 | Hostname | OS / Arch | INSTALL | BUILD | BUILD BIN | ||||||||||||
| FLAMES 1.4.3 (landing page) Oliver Voogd
| kjohnson | macOS 13.0 Ventura / arm64 | OK | OK | OK | ||||||||||||
| Package 46/140 | Hostname | OS / Arch | INSTALL | BUILD | BUILD BIN | ||||||||||||
| ggspavis 1.4.0 (landing page) Lukas M. Weber
| kjohnson | macOS 13.0 Ventura / arm64 | OK | OK | OK | ||||||||||||
| Package 47/140 | Hostname | OS / Arch | INSTALL | BUILD | BUILD BIN | ||||||||||||
| glmGamPoi 1.10.2 (landing page) Constantin Ahlmann-Eltze
| kjohnson | macOS 13.0 Ventura / arm64 | OK | OK | OK | ||||||||||||
| Package 48/140 | Hostname | OS / Arch | INSTALL | BUILD | BUILD BIN | ||||||||||||
| GSVA 1.46.0 (landing page) Robert Castelo
| kjohnson | macOS 13.0 Ventura / arm64 | OK | OK | OK | ||||||||||||
| Package 49/140 | Hostname | OS / Arch | INSTALL | BUILD | BUILD BIN | ||||||||||||
| HIPPO 1.10.0 (landing page) Tae Kim
| kjohnson | macOS 13.0 Ventura / arm64 | OK | OK | OK | ||||||||||||
| Package 50/140 | Hostname | OS / Arch | INSTALL | BUILD | BUILD BIN | ||||||||||||
| ILoReg 1.8.0 (landing page) Johannes Smolander
| kjohnson | macOS 13.0 Ventura / arm64 | OK | OK | OK | ||||||||||||
| Package 51/140 | Hostname | OS / Arch | INSTALL | BUILD | BUILD BIN | ||||||||||||
| imcRtools 1.4.2 (landing page) Nils Eling
| kjohnson | macOS 13.0 Ventura / arm64 | OK | OK | OK | ||||||||||||
| Package 52/140 | Hostname | OS / Arch | INSTALL | BUILD | BUILD BIN | ||||||||||||
| infercnv 1.14.2 (landing page) Christophe Georgescu
| kjohnson | macOS 13.0 Ventura / arm64 | OK | OK | OK | ||||||||||||
| Package 53/140 | Hostname | OS / Arch | INSTALL | BUILD | BUILD BIN | ||||||||||||
| IRISFGM 1.6.0 (landing page) Yuzhou Chang
| kjohnson | macOS 13.0 Ventura / arm64 | OK | OK | OK | ||||||||||||
| Package 54/140 | Hostname | OS / Arch | INSTALL | BUILD | BUILD BIN | ||||||||||||
| iSEE 2.10.0 (landing page) Kevin Rue-Albrecht
| kjohnson | macOS 13.0 Ventura / arm64 | OK | OK | OK | ||||||||||||
| Package 55/140 | Hostname | OS / Arch | INSTALL | BUILD | BUILD BIN | ||||||||||||
| iSEEhub 1.0.0 (landing page) Kevin Rue-Albrecht
| kjohnson | macOS 13.0 Ventura / arm64 | OK | OK | OK | ||||||||||||
| Package 56/140 | Hostname | OS / Arch | INSTALL | BUILD | BUILD BIN | ||||||||||||
| iSEEu 1.10.1 (landing page) Kevin Rue-Albrecht
| kjohnson | macOS 13.0 Ventura / arm64 | OK | OK | OK | ||||||||||||
| Package 57/140 | Hostname | OS / Arch | INSTALL | BUILD | BUILD BIN | ||||||||||||
| LineagePulse 1.18.0 (landing page) David S Fischer
| kjohnson | macOS 13.0 Ventura / arm64 | OK | OK | OK | ||||||||||||
| Package 58/140 | Hostname | OS / Arch | INSTALL | BUILD | BUILD BIN | ||||||||||||
| lisaClust 1.6.3 (landing page) Ellis Patrick
| kjohnson | macOS 13.0 Ventura / arm64 | OK | OK | OK | ||||||||||||
| Package 59/140 | Hostname | OS / Arch | INSTALL | BUILD | BUILD BIN | ||||||||||||
| LoomExperiment 1.16.0 (landing page) Bioconductor Package Maintainer
| kjohnson | macOS 13.0 Ventura / arm64 | OK | OK | OK | ||||||||||||
| Package 60/140 | Hostname | OS / Arch | INSTALL | BUILD | BUILD BIN | ||||||||||||
| MAST 1.24.1 (landing page) Andrew McDavid
| kjohnson | macOS 13.0 Ventura / arm64 | OK | OK | OK | ||||||||||||
| Package 61/140 | Hostname | OS / Arch | INSTALL | BUILD | BUILD BIN | ||||||||||||
| mbkmeans 1.14.0 (landing page) Davide Risso
| kjohnson | macOS 13.0 Ventura / arm64 | OK | OK | OK | ||||||||||||
| Package 62/140 | Hostname | OS / Arch | INSTALL | BUILD | BUILD BIN | ||||||||||||
| MetaNeighbor 1.18.0 (landing page) Stephan Fischer
| kjohnson | macOS 13.0 Ventura / arm64 | OK | OK | OK | ||||||||||||
| Package 63/140 | Hostname | OS / Arch | INSTALL | BUILD | BUILD BIN | ||||||||||||
| mia 1.6.0 (landing page) Tuomas Borman
| kjohnson | macOS 13.0 Ventura / arm64 | OK | OK | OK | ||||||||||||
| Package 64/140 | Hostname | OS / Arch | INSTALL | BUILD | BUILD BIN | ||||||||||||
| miloR 1.6.0 (landing page) Mike Morgan
| kjohnson | macOS 13.0 Ventura / arm64 | OK | OK | OK | ||||||||||||
| Package 65/140 | Hostname | OS / Arch | INSTALL | BUILD | BUILD BIN | ||||||||||||
| miQC 1.6.0 (landing page) Ariel Hippen
| kjohnson | macOS 13.0 Ventura / arm64 | OK | OK | OK | ||||||||||||
| Package 66/140 | Hostname | OS / Arch | INSTALL | BUILD | BUILD BIN | ||||||||||||
| MuData 1.2.0 (landing page) Danila Bredikhin
| kjohnson | macOS 13.0 Ventura / arm64 | OK | OK | OK | ||||||||||||
| Package 67/140 | Hostname | OS / Arch | INSTALL | BUILD | BUILD BIN | ||||||||||||
| mumosa 1.6.0 (landing page) Aaron Lun
| kjohnson | macOS 13.0 Ventura / arm64 | OK | OK | OK | ||||||||||||
| Package 68/140 | Hostname | OS / Arch | INSTALL | BUILD | BUILD BIN | ||||||||||||
| muscat 1.12.1 (landing page) Helena L. Crowell
| kjohnson | macOS 13.0 Ventura / arm64 | OK | ERROR | skipped | ||||||||||||
| Package 69/140 | Hostname | OS / Arch | INSTALL | BUILD | BUILD BIN | ||||||||||||
| Nebulosa 1.8.0 (landing page) Jose Alquicira-Hernandez
| kjohnson | macOS 13.0 Ventura / arm64 | OK | OK | OK | ||||||||||||
| Package 70/140 | Hostname | OS / Arch | INSTALL | BUILD | BUILD BIN | ||||||||||||
| netSmooth 1.18.0 (landing page) Jonathan Ronen
| kjohnson | macOS 13.0 Ventura / arm64 | OK | OK | OK | ||||||||||||
| Package 71/140 | Hostname | OS / Arch | INSTALL | BUILD | BUILD BIN | ||||||||||||
| NeuCA 1.4.0 (landing page) Hao Feng
| kjohnson | macOS 13.0 Ventura / arm64 | OK | ERROR | skipped | ||||||||||||
| Package 72/140 | Hostname | OS / Arch | INSTALL | BUILD | BUILD BIN | ||||||||||||
| NewWave 1.8.0 (landing page) Federico Agostinis
| kjohnson | macOS 13.0 Ventura / arm64 | OK | OK | OK | ||||||||||||
| Package 73/140 | Hostname | OS / Arch | INSTALL | BUILD | BUILD BIN | ||||||||||||
| nnSVG 1.2.0 (landing page) Lukas M. Weber
| kjohnson | macOS 13.0 Ventura / arm64 | OK | OK | OK | ||||||||||||
| Package 74/140 | Hostname | OS / Arch | INSTALL | BUILD | BUILD BIN | ||||||||||||
| peco 1.10.0 (landing page) Chiaowen Joyce Hsiao
| kjohnson | macOS 13.0 Ventura / arm64 | OK | OK | OK | ||||||||||||
| Package 75/140 | Hostname | OS / Arch | INSTALL | BUILD | BUILD BIN | ||||||||||||
| phemd 1.14.1 (landing page) William S Chen
| kjohnson | macOS 13.0 Ventura / arm64 | OK | OK | OK | ||||||||||||
| Package 76/140 | Hostname | OS / Arch | INSTALL | BUILD | BUILD BIN | ||||||||||||
| pipeComp 1.8.0 (landing page) Pierre-Luc Germain
| kjohnson | macOS 13.0 Ventura / arm64 | OK | OK | OK | ||||||||||||
| Package 77/140 | Hostname | OS / Arch | INSTALL | BUILD | BUILD BIN | ||||||||||||
| POWSC 1.6.0 (landing page) Kenong Su
| kjohnson | macOS 13.0 Ventura / arm64 | OK | OK | OK | ||||||||||||
| Package 78/140 | Hostname | OS / Arch | INSTALL | BUILD | BUILD BIN | ||||||||||||
| SC3 1.26.2 (landing page) Vladimir Kiselev
| kjohnson | macOS 13.0 Ventura / arm64 | OK | OK | OK | ||||||||||||
| Package 79/140 | Hostname | OS / Arch | INSTALL | BUILD | BUILD BIN | ||||||||||||
Nelson Johansen
| kjohnson | macOS 13.0 Ventura / arm64 | OK | ERROR | skipped | ||||||||||||
| Package 80/140 | Hostname | OS / Arch | INSTALL | BUILD | BUILD BIN | ||||||||||||
| scAnnotatR 1.4.0 (landing page) Johannes Griss
| kjohnson | macOS 13.0 Ventura / arm64 | OK | OK | OK | ||||||||||||
| Package 81/140 | Hostname | OS / Arch | INSTALL | BUILD | BUILD BIN | ||||||||||||
| SCArray 1.6.0 (landing page) Xiuwen Zheng
| kjohnson | macOS 13.0 Ventura / arm64 | OK | OK | OK | ||||||||||||
| Package 82/140 | Hostname | OS / Arch | INSTALL | BUILD | BUILD BIN | ||||||||||||
| scater 1.26.1 (landing page) Alan O'Callaghan
| kjohnson | macOS 13.0 Ventura / arm64 | OK | OK | OK | ||||||||||||
| Package 83/140 | Hostname | OS / Arch | INSTALL | BUILD | BUILD BIN | ||||||||||||
| scBFA 1.12.0 (landing page) Ruoxin Li
| kjohnson | macOS 13.0 Ventura / arm64 | OK | OK | OK | ||||||||||||
| Package 84/140 | Hostname | OS / Arch | INSTALL | BUILD | BUILD BIN | ||||||||||||
| scCB2 1.8.0 (landing page) Zijian Ni
| kjohnson | macOS 13.0 Ventura / arm64 | OK | OK | OK | ||||||||||||
| Package 85/140 | Hostname | OS / Arch | INSTALL | BUILD | BUILD BIN | ||||||||||||
| sccomp 1.2.1 (landing page) Stefano Mangiola
| kjohnson | macOS 13.0 Ventura / arm64 | OK | TIMEOUT | skipped | ||||||||||||
| Package 86/140 | Hostname | OS / Arch | INSTALL | BUILD | BUILD BIN | ||||||||||||
| scDataviz 1.8.0 (landing page) Kevin Blighe
| kjohnson | macOS 13.0 Ventura / arm64 | OK | OK | OK | ||||||||||||
| Package 87/140 | Hostname | OS / Arch | INSTALL | BUILD | BUILD BIN | ||||||||||||
| scDblFinder 1.12.0 (landing page) Pierre-Luc Germain
| kjohnson | macOS 13.0 Ventura / arm64 | OK | OK | OK | ||||||||||||
| Package 88/140 | Hostname | OS / Arch | INSTALL | BUILD | BUILD BIN | ||||||||||||
| scDD 1.22.0 (landing page) Keegan Korthauer
| kjohnson | macOS 13.0 Ventura / arm64 | OK | OK | OK | ||||||||||||
| Package 89/140 | Hostname | OS / Arch | INSTALL | BUILD | BUILD BIN | ||||||||||||
| scDDboost 1.0.0 (landing page) Xiuyu Ma
| kjohnson | macOS 13.0 Ventura / arm64 | OK | OK | OK | ||||||||||||
| Package 90/140 | Hostname | OS / Arch | INSTALL | BUILD | BUILD BIN | ||||||||||||
| scds 1.14.0 (landing page) Dennis Kostka
| kjohnson | macOS 13.0 Ventura / arm64 | OK | OK | OK | ||||||||||||
| Package 91/140 | Hostname | OS / Arch | INSTALL | BUILD | BUILD BIN | ||||||||||||
| scGPS 1.12.2 (landing page) Quan Nguyen
| kjohnson | macOS 13.0 Ventura / arm64 | OK | OK | OK | ||||||||||||
| Package 92/140 | Hostname | OS / Arch | INSTALL | BUILD | BUILD BIN | ||||||||||||
| schex 1.12.0 (landing page) Saskia Freytag
| kjohnson | macOS 13.0 Ventura / arm64 | OK | OK | OK | ||||||||||||
| Package 93/140 | Hostname | OS / Arch | INSTALL | BUILD | BUILD BIN | ||||||||||||
| scHOT 1.10.0 (landing page) Shila Ghazanfar
| kjohnson | macOS 13.0 Ventura / arm64 | OK | OK | OK | ||||||||||||
| Package 94/140 | Hostname | OS / Arch | INSTALL | BUILD | BUILD BIN | ||||||||||||
| scmap 1.20.2 (landing page) Vladimir Kiselev
| kjohnson | macOS 13.0 Ventura / arm64 | OK | OK | OK | ||||||||||||
| Package 95/140 | Hostname | OS / Arch | INSTALL | BUILD | BUILD BIN | ||||||||||||
| scMerge 1.14.0 (landing page) Yingxin Lin
| kjohnson | macOS 13.0 Ventura / arm64 | OK | OK | OK | ||||||||||||
| Package 96/140 | Hostname | OS / Arch | INSTALL | BUILD | BUILD BIN | ||||||||||||
| scMET 1.0.0 (landing page) Andreas C. Kapourani
| kjohnson | macOS 13.0 Ventura / arm64 | OK | OK | OK | ||||||||||||
| Package 97/140 | Hostname | OS / Arch | INSTALL | BUILD | BUILD BIN | ||||||||||||
| SCnorm 1.20.0 (landing page) Rhonda Bacher
| kjohnson | macOS 13.0 Ventura / arm64 | OK | OK | OK | ||||||||||||
| Package 98/140 | Hostname | OS / Arch | INSTALL | BUILD | BUILD BIN | ||||||||||||
| scone 1.22.0 (landing page) Davide Risso
| kjohnson | macOS 13.0 Ventura / arm64 | OK | OK | OK | ||||||||||||
| Package 99/140 | Hostname | OS / Arch | INSTALL | BUILD | BUILD BIN | ||||||||||||
| scp 1.8.0 (landing page) Christophe Vanderaa
| kjohnson | macOS 13.0 Ventura / arm64 | OK | OK | OK | ||||||||||||
| Package 100/140 | Hostname | OS / Arch | INSTALL | BUILD | BUILD BIN | ||||||||||||
| scPipe 1.20.6 (landing page) Shian Su
| kjohnson | macOS 13.0 Ventura / arm64 | OK | OK | OK | ||||||||||||
| Package 101/140 | Hostname | OS / Arch | INSTALL | BUILD | BUILD BIN | ||||||||||||
| scran 1.26.2 (landing page) Aaron Lun
| kjohnson | macOS 13.0 Ventura / arm64 | OK | OK | OK | ||||||||||||
| Package 102/140 | Hostname | OS / Arch | INSTALL | BUILD | BUILD BIN | ||||||||||||
| scReClassify 1.4.0 (landing page) Taiyun Kim
| kjohnson | macOS 13.0 Ventura / arm64 | OK | OK | OK | ||||||||||||
| Package 103/140 | Hostname | OS / Arch | INSTALL | BUILD | BUILD BIN | ||||||||||||
| scRepertoire 1.8.0 (landing page) Nick Borcherding
| kjohnson | macOS 13.0 Ventura / arm64 | OK | OK | OK | ||||||||||||
| Package 104/140 | Hostname | OS / Arch | INSTALL | BUILD | BUILD BIN | ||||||||||||
| scruff 1.16.0 (landing page) Zhe Wang
| kjohnson | macOS 13.0 Ventura / arm64 | OK | OK | OK | ||||||||||||
| Package 105/140 | Hostname | OS / Arch | INSTALL | BUILD | BUILD BIN | ||||||||||||
| scry 1.10.0 (landing page) Kelly Street
| kjohnson | macOS 13.0 Ventura / arm64 | OK | OK | OK | ||||||||||||
| Package 106/140 | Hostname | OS / Arch | INSTALL | BUILD | BUILD BIN | ||||||||||||
| scTensor 2.8.0 (landing page) Koki Tsuyuzaki
| kjohnson | macOS 13.0 Ventura / arm64 | OK | OK | OK | ||||||||||||
| Package 107/140 | Hostname | OS / Arch | INSTALL | BUILD | BUILD BIN | ||||||||||||
| scTGIF 1.12.0 (landing page) Koki Tsuyuzaki
| kjohnson | macOS 13.0 Ventura / arm64 | OK | OK | OK | ||||||||||||
| Package 108/140 | Hostname | OS / Arch | INSTALL | BUILD | BUILD BIN | ||||||||||||
| scTreeViz 1.4.0 (landing page) Jayaram Kancherla
| kjohnson | macOS 13.0 Ventura / arm64 | OK | OK | OK | ||||||||||||
| Package 109/140 | Hostname | OS / Arch | INSTALL | BUILD | BUILD BIN | ||||||||||||
| scuttle 1.8.4 (landing page) Aaron Lun
| kjohnson | macOS 13.0 Ventura / arm64 | OK | OK | OK | ||||||||||||
| Package 110/140 | Hostname | OS / Arch | INSTALL | BUILD | BUILD BIN | ||||||||||||
| singleCellTK 2.8.0 (landing page) Yichen Wang
| kjohnson | macOS 13.0 Ventura / arm64 | OK | OK | OK | ||||||||||||
| Package 111/140 | Hostname | OS / Arch | INSTALL | BUILD | BUILD BIN | ||||||||||||
| slalom 1.20.2 (landing page) Davis McCarthy
| kjohnson | macOS 13.0 Ventura / arm64 | OK | OK | OK | ||||||||||||
| Package 112/140 | Hostname | OS / Arch | INSTALL | BUILD | BUILD BIN | ||||||||||||
| slingshot 2.6.0 (landing page) Kelly Street
| kjohnson | macOS 13.0 Ventura / arm64 | OK | OK | OK | ||||||||||||
| Package 113/140 | Hostname | OS / Arch | INSTALL | BUILD | BUILD BIN | ||||||||||||
| Spaniel 1.12.0 (landing page) Rachel Queen
| kjohnson | macOS 13.0 Ventura / arm64 | OK | OK | OK | ||||||||||||
| Package 114/140 | Hostname | OS / Arch | INSTALL | BUILD | BUILD BIN | ||||||||||||
| SpatialExperiment 1.8.1 (landing page) Dario Righelli
| kjohnson | macOS 13.0 Ventura / arm64 | OK | OK | OK | ||||||||||||
| Package 115/140 | Hostname | OS / Arch | INSTALL | BUILD | BUILD BIN | ||||||||||||
| SpatialFeatureExperiment 1.0.3 (landing page) Lambda Moses
| kjohnson | macOS 13.0 Ventura / arm64 | OK | OK | OK | ||||||||||||
| Package 116/140 | Hostname | OS / Arch | INSTALL | BUILD | BUILD BIN | ||||||||||||
| spatialHeatmap 2.4.0 (landing page) Jianhai Zhang
| kjohnson | macOS 13.0 Ventura / arm64 | OK | OK | OK | ||||||||||||
| Package 117/140 | Hostname | OS / Arch | INSTALL | BUILD | BUILD BIN | ||||||||||||
| spicyR 1.10.7 (landing page) Ellis Patrick
| kjohnson | macOS 13.0 Ventura / arm64 | OK | OK | OK | ||||||||||||
| Package 118/140 | Hostname | OS / Arch | INSTALL | BUILD | BUILD BIN | ||||||||||||
| splatter 1.22.1 (landing page) Luke Zappia
| kjohnson | macOS 13.0 Ventura / arm64 | OK | OK | OK | ||||||||||||
| Package 119/140 | Hostname | OS / Arch | INSTALL | BUILD | BUILD BIN | ||||||||||||
| SPOTlight 1.2.0 (landing page) Marc Elosua-Bayes
| kjohnson | macOS 13.0 Ventura / arm64 | OK | OK | OK | ||||||||||||
| Package 120/140 | Hostname | OS / Arch | INSTALL | BUILD | BUILD BIN | ||||||||||||
| SPsimSeq 1.8.0 (landing page) Joris Meys
| kjohnson | macOS 13.0 Ventura / arm64 | OK | OK | OK | ||||||||||||
| Package 121/140 | Hostname | OS / Arch | INSTALL | BUILD | BUILD BIN | ||||||||||||
| standR 1.2.2 (landing page) Ning Liu
| kjohnson | macOS 13.0 Ventura / arm64 | OK | OK | OK | ||||||||||||
| Package 122/140 | Hostname | OS / Arch | INSTALL | BUILD | BUILD BIN | ||||||||||||
| Statial 1.0.1 (landing page) Farhan Ameen
| kjohnson | macOS 13.0 Ventura / arm64 | OK | OK | OK | ||||||||||||
| Package 123/140 | Hostname | OS / Arch | INSTALL | BUILD | BUILD BIN | ||||||||||||
| switchde 1.24.0 (landing page) Kieran Campbell
| kjohnson | macOS 13.0 Ventura / arm64 | OK | OK | OK | ||||||||||||
| Package 124/140 | Hostname | OS / Arch | INSTALL | BUILD | BUILD BIN | ||||||||||||
| TENxIO 1.0.1 (landing page) Marcel Ramos
| kjohnson | macOS 13.0 Ventura / arm64 | OK | OK | OK | ||||||||||||
| Package 125/140 | Hostname | OS / Arch | INSTALL | BUILD | BUILD BIN | ||||||||||||
| tidySingleCellExperiment 1.8.2 (landing page) Stefano Mangiola
| kjohnson | macOS 13.0 Ventura / arm64 | OK | ERROR | skipped | ||||||||||||
| Package 126/140 | Hostname | OS / Arch | INSTALL | BUILD | BUILD BIN | ||||||||||||
| tradeSeq 1.12.0 (landing page) Hector Roux de Bezieux
| kjohnson | macOS 13.0 Ventura / arm64 | OK | OK | OK | ||||||||||||
| Package 127/140 | Hostname | OS / Arch | INSTALL | BUILD | BUILD BIN | ||||||||||||
| TrajectoryUtils 1.6.0 (landing page) Aaron Lun
| kjohnson | macOS 13.0 Ventura / arm64 | OK | OK | OK | ||||||||||||
| Package 128/140 | Hostname | OS / Arch | INSTALL | BUILD | BUILD BIN | ||||||||||||
| traviz 1.4.0 (landing page) Koen Van den Berge
| kjohnson | macOS 13.0 Ventura / arm64 | OK | OK | OK | ||||||||||||
| Package 129/140 | Hostname | OS / Arch | INSTALL | BUILD | BUILD BIN | ||||||||||||
| treekoR 1.6.1 (landing page) Adam Chan
| kjohnson | macOS 13.0 Ventura / arm64 | OK | OK | OK | ||||||||||||
| Package 130/140 | Hostname | OS / Arch | INSTALL | BUILD | BUILD BIN | ||||||||||||
| TreeSummarizedExperiment 2.6.0 (landing page) Ruizhu Huang
| kjohnson | macOS 13.0 Ventura / arm64 | OK | OK | OK | ||||||||||||
| Package 131/140 | Hostname | OS / Arch | INSTALL | BUILD | BUILD BIN | ||||||||||||
| tricycle 1.6.0 (landing page) Shijie Zheng
| kjohnson | macOS 13.0 Ventura / arm64 | OK | OK | OK | ||||||||||||
| Package 132/140 | Hostname | OS / Arch | INSTALL | BUILD | BUILD BIN | ||||||||||||
| TSCAN 1.36.0 (landing page) Zhicheng Ji
| kjohnson | macOS 13.0 Ventura / arm64 | OK | OK | OK | ||||||||||||
| Package 133/140 | Hostname | OS / Arch | INSTALL | BUILD | BUILD BIN | ||||||||||||
| UCell 2.2.0 (landing page) Massimo Andreatta
| kjohnson | macOS 13.0 Ventura / arm64 | OK | OK | OK | ||||||||||||
| Package 134/140 | Hostname | OS / Arch | INSTALL | BUILD | BUILD BIN | ||||||||||||
| VAExprs 1.4.0 (landing page) Dongmin Jung
| kjohnson | macOS 13.0 Ventura / arm64 | OK | OK | OK | ||||||||||||
| Package 135/140 | Hostname | OS / Arch | INSTALL | BUILD | BUILD BIN | ||||||||||||
| VDJdive 1.0.0 (landing page) Kelly Street
| kjohnson | macOS 13.0 Ventura / arm64 | OK | OK | OK | ||||||||||||
| Package 136/140 | Hostname | OS / Arch | INSTALL | BUILD | BUILD BIN | ||||||||||||
| velociraptor 1.8.0 (landing page) Kevin Rue-Albrecht
| kjohnson | macOS 13.0 Ventura / arm64 | OK | ERROR | skipped | ||||||||||||
| Package 137/140 | Hostname | OS / Arch | INSTALL | BUILD | BUILD BIN | ||||||||||||
| Voyager 1.0.10 (landing page) Lambda Moses
| kjohnson | macOS 13.0 Ventura / arm64 | OK | OK | OK | ||||||||||||
| Package 138/140 | Hostname | OS / Arch | INSTALL | BUILD | BUILD BIN | ||||||||||||
| waddR 1.12.0 (landing page) Julian Flesch
| kjohnson | macOS 13.0 Ventura / arm64 | OK | OK | OK | ||||||||||||
| Package 139/140 | Hostname | OS / Arch | INSTALL | BUILD | BUILD BIN | ||||||||||||
| zellkonverter 1.8.0 (landing page) Luke Zappia
| kjohnson | macOS 13.0 Ventura / arm64 | OK | OK | OK | ||||||||||||
| Package 140/140 | Hostname | OS / Arch | INSTALL | BUILD | BUILD BIN | ||||||||||||
| zinbwave 1.20.0 (landing page) Davide Risso
| kjohnson | macOS 13.0 Ventura / arm64 | OK | OK | OK | ||||||||||||