| Back to Mac ARM64 build report for BioC 3.16 |
|
This page was generated on 2023-04-19 11:01:46 -0400 (Wed, 19 Apr 2023).
| Hostname | OS | Arch (*) | R version | Installed pkgs |
|---|---|---|---|---|
| kjohnson | macOS 13.0 Ventura | arm64 | 4.2.2 (2022-10-31) -- "Innocent and Trusting" | 4256 |
| Click on any hostname to see more info about the system (e.g. compilers) (*) as reported by 'uname -p', except on Windows and Mac OS X | ||||
|
To the developers/maintainers of the AnnotationDbi package: Make sure to use the following settings in order to reproduce any error or warning you see on this page. |
| Package 56/2183 | Hostname | OS / Arch | INSTALL | BUILD | BUILD BIN | ||||||||
| AnnotationDbi 1.60.2 (landing page) Bioconductor Package Maintainer
| kjohnson | macOS 13.0 Ventura / arm64 | OK | OK | OK | ||||||||
| QUICK STATS | OS / Arch | INSTALL | BUILD | BUILD BIN | |||||||||||||
| kjohnson | macOS 13.0 Ventura / arm64 |
|
|
| |||||||||||||
| Package 1/191 | Hostname | OS / Arch | INSTALL | BUILD | BUILD BIN | ||||||||||||
| adSplit 1.68.0 (landing page) Claudio Lottaz
| kjohnson | macOS 13.0 Ventura / arm64 | OK | OK | OK | ||||||||||||
| Package 2/191 | Hostname | OS / Arch | INSTALL | BUILD | BUILD BIN | ||||||||||||
| affycoretools 1.70.0 (landing page) James W. MacDonald
| kjohnson | macOS 13.0 Ventura / arm64 | OK | OK | OK | ||||||||||||
| Package 3/191 | Hostname | OS / Arch | INSTALL | BUILD | BUILD BIN | ||||||||||||
| affylmGUI 1.72.0 (landing page) Gordon Smyth
| kjohnson | macOS 13.0 Ventura / arm64 | OK | OK | OK | ||||||||||||
| Package 4/191 | Hostname | OS / Arch | INSTALL | BUILD | BUILD BIN | ||||||||||||
| AllelicImbalance 1.36.0 (landing page) Jesper R Gadin
| kjohnson | macOS 13.0 Ventura / arm64 | OK | OK | OK | ||||||||||||
| Package 5/191 | Hostname | OS / Arch | INSTALL | BUILD | BUILD BIN | ||||||||||||
| annaffy 1.70.0 (landing page) Colin A. Smith
| kjohnson | macOS 13.0 Ventura / arm64 | OK | OK | OK | ||||||||||||
| Package 6/191 | Hostname | OS / Arch | INSTALL | BUILD | BUILD BIN | ||||||||||||
| annotate 1.76.0 (landing page) Bioconductor Package Maintainer
| kjohnson | macOS 13.0 Ventura / arm64 | OK | OK | OK | ||||||||||||
| Package 7/191 | Hostname | OS / Arch | INSTALL | BUILD | BUILD BIN | ||||||||||||
| AnnotationForge 1.40.2 (landing page) Bioconductor Package Maintainer
| kjohnson | macOS 13.0 Ventura / arm64 | OK | OK | OK | ||||||||||||
| Package 8/191 | Hostname | OS / Arch | INSTALL | BUILD | BUILD BIN | ||||||||||||
| AnnotationHub 3.6.0 (landing page) Bioconductor Package Maintainer
| kjohnson | macOS 13.0 Ventura / arm64 | OK | OK | OK | ||||||||||||
| Package 9/191 | Hostname | OS / Arch | INSTALL | BUILD | BUILD BIN | ||||||||||||
| AnnotationHubData 1.28.0 (landing page) Bioconductor Package Maintainer
| kjohnson | macOS 13.0 Ventura / arm64 | OK | OK | OK | ||||||||||||
| Package 10/191 | Hostname | OS / Arch | INSTALL | BUILD | BUILD BIN | ||||||||||||
| annotatr 1.24.0 (landing page) Raymond G. Cavalcante
| kjohnson | macOS 13.0 Ventura / arm64 | OK | OK | OK | ||||||||||||
| Package 11/191 | Hostname | OS / Arch | INSTALL | BUILD | BUILD BIN | ||||||||||||
| artMS 1.16.0 (landing page) David Jimenez-Morales
| kjohnson | macOS 13.0 Ventura / arm64 | OK | OK | OK | ||||||||||||
| Package 12/191 | Hostname | OS / Arch | INSTALL | BUILD | BUILD BIN | ||||||||||||
| ASpli 2.8.0 (landing page) Estefania Mancini
| kjohnson | macOS 13.0 Ventura / arm64 | OK | OK | OK | ||||||||||||
| Package 13/191 | Hostname | OS / Arch | INSTALL | BUILD | BUILD BIN | ||||||||||||
| attract 1.50.0 (landing page) Samuel Zimmerman
| kjohnson | macOS 13.0 Ventura / arm64 | OK | OK | OK | ||||||||||||
| Package 14/191 | Hostname | OS / Arch | INSTALL | BUILD | BUILD BIN | ||||||||||||
| beadarray 2.48.0 (landing page) Mark Dunning
| kjohnson | macOS 13.0 Ventura / arm64 | OK | OK | OK | ||||||||||||
| Package 15/191 | Hostname | OS / Arch | INSTALL | BUILD | BUILD BIN | ||||||||||||
| bioCancer 1.26.04 (landing page) Karim Mezhoud
| kjohnson | macOS 13.0 Ventura / arm64 | OK | OK | OK | ||||||||||||
| Package 16/191 | Hostname | OS / Arch | INSTALL | BUILD | BUILD BIN | ||||||||||||
| BiocSet 1.12.1 (landing page) Kayla Morrell
| kjohnson | macOS 13.0 Ventura / arm64 | OK | OK | OK | ||||||||||||
| Package 17/191 | Hostname | OS / Arch | INSTALL | BUILD | BUILD BIN | ||||||||||||
| biomaRt 2.54.1 (landing page) Mike Smith
| kjohnson | macOS 13.0 Ventura / arm64 | OK | OK | OK | ||||||||||||
| Package 18/191 | Hostname | OS / Arch | INSTALL | BUILD | BUILD BIN | ||||||||||||
| BioNAR 1.0.0 (landing page) Anatoly Sorokin
| kjohnson | macOS 13.0 Ventura / arm64 | OK | OK | OK | ||||||||||||
| Package 19/191 | Hostname | OS / Arch | INSTALL | BUILD | BUILD BIN | ||||||||||||
| BioNet 1.58.0 (landing page) Marcus Dittrich
| kjohnson | macOS 13.0 Ventura / arm64 | OK | OK | OK | ||||||||||||
| Package 20/191 | Hostname | OS / Arch | INSTALL | BUILD | BUILD BIN | ||||||||||||
| biovizBase 1.46.0 (landing page) Michael Lawrence
| kjohnson | macOS 13.0 Ventura / arm64 | OK | OK | OK | ||||||||||||
| Package 21/191 | Hostname | OS / Arch | INSTALL | BUILD | BUILD BIN | ||||||||||||
| bumphunter 1.40.0 (landing page) Tamilselvi Guharaj
| kjohnson | macOS 13.0 Ventura / arm64 | OK | OK | OK | ||||||||||||
| Package 22/191 | Hostname | OS / Arch | INSTALL | BUILD | BUILD BIN | ||||||||||||
| BUSpaRse 1.12.2 (landing page) Lambda Moses
| kjohnson | macOS 13.0 Ventura / arm64 | OK | OK | OK | ||||||||||||
| Package 23/191 | Hostname | OS / Arch | INSTALL | BUILD | BUILD BIN | ||||||||||||
| Category 2.64.0 (landing page) Bioconductor Package Maintainer
| kjohnson | macOS 13.0 Ventura / arm64 | OK | OK | OK | ||||||||||||
| Package 24/191 | Hostname | OS / Arch | INSTALL | BUILD | BUILD BIN | ||||||||||||
| categoryCompare 1.42.0 (landing page) Robert M. Flight
| kjohnson | macOS 13.0 Ventura / arm64 | OK | OK | OK | ||||||||||||
| Package 25/191 | Hostname | OS / Arch | INSTALL | BUILD | BUILD BIN | ||||||||||||
| ccmap 1.24.0 (landing page) Alex Pickering
| kjohnson | macOS 13.0 Ventura / arm64 | OK | OK | OK | ||||||||||||
| Package 26/191 | Hostname | OS / Arch | INSTALL | BUILD | BUILD BIN | ||||||||||||
| cellity 1.26.0 (landing page) Tomislav Ilicic
| kjohnson | macOS 13.0 Ventura / arm64 | OK | OK | OK | ||||||||||||
| Package 27/191 | Hostname | OS / Arch | INSTALL | BUILD | BUILD BIN | ||||||||||||
| chimeraviz 1.24.0 (landing page) Stian LÃ¥gstad
| kjohnson | macOS 13.0 Ventura / arm64 | OK | OK | OK | ||||||||||||
| Package 28/191 | Hostname | OS / Arch | INSTALL | BUILD | BUILD BIN | ||||||||||||
| chipenrich 2.22.0 (landing page) Raymond G. Cavalcante
| kjohnson | macOS 13.0 Ventura / arm64 | OK | OK | OK | ||||||||||||
| Package 29/191 | Hostname | OS / Arch | INSTALL | BUILD | BUILD BIN | ||||||||||||
| ChIPpeakAnno 3.32.0 (landing page) Jianhong Ou
| kjohnson | macOS 13.0 Ventura / arm64 | OK | OK | OK | ||||||||||||
| Package 30/191 | Hostname | OS / Arch | INSTALL | BUILD | BUILD BIN | ||||||||||||
| ChIPseeker 1.34.1 (landing page) Guangchuang Yu
| kjohnson | macOS 13.0 Ventura / arm64 | OK | OK | OK | ||||||||||||
| Package 31/191 | Hostname | OS / Arch | INSTALL | BUILD | BUILD BIN | ||||||||||||
| ChromHeatMap 1.52.0 (landing page) Tim F. Rayner
| kjohnson | macOS 13.0 Ventura / arm64 | OK | OK | OK | ||||||||||||
| Package 32/191 | Hostname | OS / Arch | INSTALL | BUILD | BUILD BIN | ||||||||||||
| clusterProfiler 4.6.2 (landing page) Guangchuang Yu
| kjohnson | macOS 13.0 Ventura / arm64 | OK | OK | OK | ||||||||||||
| Package 33/191 | Hostname | OS / Arch | INSTALL | BUILD | BUILD BIN | ||||||||||||
| CoCiteStats 1.70.0 (landing page) Bioconductor Package Maintainer
| kjohnson | macOS 13.0 Ventura / arm64 | OK | OK | OK | ||||||||||||
| Package 34/191 | Hostname | OS / Arch | INSTALL | BUILD | BUILD BIN | ||||||||||||
| Cogito 1.4.0 (landing page) Annika Bürger
| kjohnson | macOS 13.0 Ventura / arm64 | OK | OK | OK | ||||||||||||
| Package 35/191 | Hostname | OS / Arch | INSTALL | BUILD | BUILD BIN | ||||||||||||
| compEpiTools 1.32.0 (landing page) Kamal Kishore
| kjohnson | macOS 13.0 Ventura / arm64 | OK | OK | OK | ||||||||||||
| Package 36/191 | Hostname | OS / Arch | INSTALL | BUILD | BUILD BIN | ||||||||||||
Ilyess Rachedi
| kjohnson | macOS 13.0 Ventura / arm64 | OK | ERROR | skipped | ||||||||||||
| Package 37/191 | Hostname | OS / Arch | INSTALL | BUILD | BUILD BIN | ||||||||||||
| consensusDE 1.16.0 (landing page) Ashley J. Waardenberg
| kjohnson | macOS 13.0 Ventura / arm64 | OK | OK | OK | ||||||||||||
| Package 38/191 | Hostname | OS / Arch | INSTALL | BUILD | BUILD BIN | ||||||||||||
| crisprDesign 1.0.0 (landing page) Jean-Philippe Fortin
| kjohnson | macOS 13.0 Ventura / arm64 | OK | OK | OK | ||||||||||||
| Package 39/191 | Hostname | OS / Arch | INSTALL | BUILD | BUILD BIN | ||||||||||||
| crisprseekplus 1.24.0 (landing page) Alper Kucukural
| kjohnson | macOS 13.0 Ventura / arm64 | OK | OK | OK | ||||||||||||
| Package 40/191 | Hostname | OS / Arch | INSTALL | BUILD | BUILD BIN | ||||||||||||
| CrispRVariants 1.26.0 (landing page) Helen Lindsay
| kjohnson | macOS 13.0 Ventura / arm64 | OK | OK | OK | ||||||||||||
| Package 41/191 | Hostname | OS / Arch | INSTALL | BUILD | BUILD BIN | ||||||||||||
| crossmeta 1.24.0 (landing page) Alex Pickering
| kjohnson | macOS 13.0 Ventura / arm64 | OK | OK | OK | ||||||||||||
| Package 42/191 | Hostname | OS / Arch | INSTALL | BUILD | BUILD BIN | ||||||||||||
| cTRAP 1.16.0 (landing page) Nuno Saraiva-Agostinho
| kjohnson | macOS 13.0 Ventura / arm64 | OK | OK | OK | ||||||||||||
| Package 43/191 | Hostname | OS / Arch | INSTALL | BUILD | BUILD BIN | ||||||||||||
| customProDB 1.38.0 (landing page) Xiaojing Wang
| kjohnson | macOS 13.0 Ventura / arm64 | OK | OK | OK | ||||||||||||
| Package 44/191 | Hostname | OS / Arch | INSTALL | BUILD | BUILD BIN | ||||||||||||
| debrowser 1.26.3 (landing page) Alper Kucukural
| kjohnson | macOS 13.0 Ventura / arm64 | OK | OK | OK | ||||||||||||
| Package 45/191 | Hostname | OS / Arch | INSTALL | BUILD | BUILD BIN | ||||||||||||
| deco 1.14.0 (landing page) Francisco Jose Campos Laborie
| kjohnson | macOS 13.0 Ventura / arm64 | OK | OK | OK | ||||||||||||
| Package 46/191 | Hostname | OS / Arch | INSTALL | BUILD | BUILD BIN | ||||||||||||
| derfinder 1.32.0 (landing page) Leonardo Collado-Torres
| kjohnson | macOS 13.0 Ventura / arm64 | OK | OK | OK | ||||||||||||
| Package 47/191 | Hostname | OS / Arch | INSTALL | BUILD | BUILD BIN | ||||||||||||
| DEXSeq 1.44.0 (landing page) Alejandro Reyes
| kjohnson | macOS 13.0 Ventura / arm64 | OK | OK | OK | ||||||||||||
| Package 48/191 | Hostname | OS / Arch | INSTALL | BUILD | BUILD BIN | ||||||||||||
| DominoEffect 1.18.0 (landing page) Marija Buljan
| kjohnson | macOS 13.0 Ventura / arm64 | OK | OK | OK | ||||||||||||
| Package 49/191 | Hostname | OS / Arch | INSTALL | BUILD | BUILD BIN | ||||||||||||
| DOSE 3.24.2 (landing page) Guangchuang Yu
| kjohnson | macOS 13.0 Ventura / arm64 | OK | OK | OK | ||||||||||||
| Package 50/191 | Hostname | OS / Arch | INSTALL | BUILD | BUILD BIN | ||||||||||||
| EasyCellType 1.0.0 (landing page) Ruoxing Li
| kjohnson | macOS 13.0 Ventura / arm64 | OK | ERROR | skipped | ||||||||||||
| Package 51/191 | Hostname | OS / Arch | INSTALL | BUILD | BUILD BIN | ||||||||||||
| EDASeq 2.32.0 (landing page) Davide Risso
| kjohnson | macOS 13.0 Ventura / arm64 | OK | OK | OK | ||||||||||||
| Package 52/191 | Hostname | OS / Arch | INSTALL | BUILD | BUILD BIN | ||||||||||||
| eegc 1.24.0 (landing page) Xiaoyuan Zhou
| kjohnson | macOS 13.0 Ventura / arm64 | OK | OK | OK | ||||||||||||
| Package 53/191 | Hostname | OS / Arch | INSTALL | BUILD | BUILD BIN | ||||||||||||
| EGSEA 1.26.0 (landing page) Monther Alhamdoosh
| kjohnson | macOS 13.0 Ventura / arm64 | OK | OK | OK | ||||||||||||
| Package 54/191 | Hostname | OS / Arch | INSTALL | BUILD | BUILD BIN | ||||||||||||
| EnrichmentBrowser 2.28.2 (landing page) Ludwig Geistlinger
| kjohnson | macOS 13.0 Ventura / arm64 | OK | OK | OK | ||||||||||||
| Package 55/191 | Hostname | OS / Arch | INSTALL | BUILD | BUILD BIN | ||||||||||||
| ensembldb 2.22.0 (landing page) Johannes Rainer
| kjohnson | macOS 13.0 Ventura / arm64 | OK | OK | OK | ||||||||||||
| Package 56/191 | Hostname | OS / Arch | INSTALL | BUILD | BUILD BIN | ||||||||||||
| EpiMix 1.0.2 (landing page) Yuanning Zheng
| kjohnson | macOS 13.0 Ventura / arm64 | OK | ERROR | skipped | ||||||||||||
| Package 57/191 | Hostname | OS / Arch | INSTALL | BUILD | BUILD BIN | ||||||||||||
| epimutacions 1.2.0 (landing page) Dolors Pelegri-Siso
| kjohnson | macOS 13.0 Ventura / arm64 | OK | OK | OK | ||||||||||||
| Package 58/191 | Hostname | OS / Arch | INSTALL | BUILD | BUILD BIN | ||||||||||||
| EpiTxDb 1.10.0 (landing page) Felix G.M. Ernst
| kjohnson | macOS 13.0 Ventura / arm64 | OK | OK | OK | ||||||||||||
| Package 59/191 | Hostname | OS / Arch | INSTALL | BUILD | BUILD BIN | ||||||||||||
| erma 1.14.0 (landing page) VJ Carey
| kjohnson | macOS 13.0 Ventura / arm64 | OK | OK | OK | ||||||||||||
| Package 60/191 | Hostname | OS / Arch | INSTALL | BUILD | BUILD BIN | ||||||||||||
| esATAC 1.20.0 (landing page) Zheng Wei
| kjohnson | macOS 13.0 Ventura / arm64 | OK | OK | OK | ||||||||||||
| Package 61/191 | Hostname | OS / Arch | INSTALL | BUILD | BUILD BIN | ||||||||||||
| FRASER 1.10.2 (landing page) Christian Mertes
| kjohnson | macOS 13.0 Ventura / arm64 | OK | OK | OK | ||||||||||||
| Package 62/191 | Hostname | OS / Arch | INSTALL | BUILD | BUILD BIN | ||||||||||||
| GA4GHshiny 1.20.0 (landing page) Welliton Souza
| kjohnson | macOS 13.0 Ventura / arm64 | OK | OK | OK | ||||||||||||
| Package 63/191 | Hostname | OS / Arch | INSTALL | BUILD | BUILD BIN | ||||||||||||
| gage 2.48.0 (landing page) Weijun Luo
| kjohnson | macOS 13.0 Ventura / arm64 | OK | OK | OK | ||||||||||||
| Package 64/191 | Hostname | OS / Arch | INSTALL | BUILD | BUILD BIN | ||||||||||||
| GAPGOM 1.14.0 (landing page) Rezvan Ehsani
| kjohnson | macOS 13.0 Ventura / arm64 | OK | ERROR | skipped | ||||||||||||
| Package 65/191 | Hostname | OS / Arch | INSTALL | BUILD | BUILD BIN | ||||||||||||
| genefilter 1.80.3 (landing page) Bioconductor Package Maintainer
| kjohnson | macOS 13.0 Ventura / arm64 | OK | OK | OK | ||||||||||||
| Package 66/191 | Hostname | OS / Arch | INSTALL | BUILD | BUILD BIN | ||||||||||||
| geneplotter 1.76.0 (landing page) Bioconductor Package Maintainer
| kjohnson | macOS 13.0 Ventura / arm64 | OK | OK | OK | ||||||||||||
| Package 67/191 | Hostname | OS / Arch | INSTALL | BUILD | BUILD BIN | ||||||||||||
| GeneTonic 2.2.0 (landing page) Federico Marini
| kjohnson | macOS 13.0 Ventura / arm64 | OK | OK | OK | ||||||||||||
| Package 68/191 | Hostname | OS / Arch | INSTALL | BUILD | BUILD BIN | ||||||||||||
| geneXtendeR 1.24.0 (landing page) Bohdan Khomtchouk
| kjohnson | macOS 13.0 Ventura / arm64 | OK | OK | OK | ||||||||||||
| Package 69/191 | Hostname | OS / Arch | INSTALL | BUILD | BUILD BIN | ||||||||||||
| GenomicFeatures 1.50.4 (landing page) H. Pagès
| kjohnson | macOS 13.0 Ventura / arm64 | OK | OK | OK | ||||||||||||
| Package 70/191 | Hostname | OS / Arch | INSTALL | BUILD | BUILD BIN | ||||||||||||
| GenomicInteractionNodes 1.2.0 (landing page) Jianhong Ou
| kjohnson | macOS 13.0 Ventura / arm64 | OK | OK | OK | ||||||||||||
| Package 71/191 | Hostname | OS / Arch | INSTALL | BUILD | BUILD BIN | ||||||||||||
| GenVisR 1.30.0 (landing page) Zachary Skidmore
| kjohnson | macOS 13.0 Ventura / arm64 | OK | OK | OK | ||||||||||||
| Package 72/191 | Hostname | OS / Arch | INSTALL | BUILD | BUILD BIN | ||||||||||||
| ggbio 1.46.0 (landing page) Michael Lawrence
| kjohnson | macOS 13.0 Ventura / arm64 | OK | OK | OK | ||||||||||||
| Package 73/191 | Hostname | OS / Arch | INSTALL | BUILD | BUILD BIN | ||||||||||||
| GlobalAncova 4.16.0 (landing page) Manuela Hummel
| kjohnson | macOS 13.0 Ventura / arm64 | OK | OK | OK | ||||||||||||
| Package 74/191 | Hostname | OS / Arch | INSTALL | BUILD | BUILD BIN | ||||||||||||
| globaltest 5.52.1 (landing page) Jelle Goeman
| kjohnson | macOS 13.0 Ventura / arm64 | OK | TIMEOUT | skipped | ||||||||||||
| Package 75/191 | Hostname | OS / Arch | INSTALL | BUILD | BUILD BIN | ||||||||||||
| GmicR 1.12.0 (landing page) Richard Virgen-Slane
| kjohnson | macOS 13.0 Ventura / arm64 | OK | ERROR | skipped | ||||||||||||
| Package 76/191 | Hostname | OS / Arch | INSTALL | BUILD | BUILD BIN | ||||||||||||
| GOfuncR 1.18.0 (landing page) Steffi Grote
| kjohnson | macOS 13.0 Ventura / arm64 | OK | OK | OK | ||||||||||||
| Package 77/191 | Hostname | OS / Arch | INSTALL | BUILD | BUILD BIN | ||||||||||||
| GOpro 1.24.0 (landing page) Lidia Chrabaszcz
| kjohnson | macOS 13.0 Ventura / arm64 | OK | OK | OK | ||||||||||||
| Package 78/191 | Hostname | OS / Arch | INSTALL | BUILD | BUILD BIN | ||||||||||||
| goProfiles 1.60.0 (landing page) Alex Sanchez
| kjohnson | macOS 13.0 Ventura / arm64 | OK | OK | OK | ||||||||||||
| Package 79/191 | Hostname | OS / Arch | INSTALL | BUILD | BUILD BIN | ||||||||||||
| GOSemSim 2.24.0 (landing page) Guangchuang Yu
| kjohnson | macOS 13.0 Ventura / arm64 | OK | OK | OK | ||||||||||||
| Package 80/191 | Hostname | OS / Arch | INSTALL | BUILD | BUILD BIN | ||||||||||||
| goseq 1.50.0 (landing page) Matthew Young
| kjohnson | macOS 13.0 Ventura / arm64 | OK | OK | OK | ||||||||||||
| Package 81/191 | Hostname | OS / Arch | INSTALL | BUILD | BUILD BIN | ||||||||||||
| GOSim 1.36.0 (landing page) Holger Froehlich
| kjohnson | macOS 13.0 Ventura / arm64 | OK | OK | OK | ||||||||||||
| Package 82/191 | Hostname | OS / Arch | INSTALL | BUILD | BUILD BIN | ||||||||||||
| goSTAG 1.22.0 (landing page) Brian D. Bennett
| kjohnson | macOS 13.0 Ventura / arm64 | OK | OK | OK | ||||||||||||
| Package 83/191 | Hostname | OS / Arch | INSTALL | BUILD | BUILD BIN | ||||||||||||
| GOstats 2.64.0 (landing page) Bioconductor Package Maintainer
| kjohnson | macOS 13.0 Ventura / arm64 | OK | OK | OK | ||||||||||||
| Package 84/191 | Hostname | OS / Arch | INSTALL | BUILD | BUILD BIN | ||||||||||||
| goTools 1.72.0 (landing page) Agnes Paquet
| kjohnson | macOS 13.0 Ventura / arm64 | OK | OK | OK | ||||||||||||
| Package 85/191 | Hostname | OS / Arch | INSTALL | BUILD | BUILD BIN | ||||||||||||
Sun Ah Kim
| kjohnson | macOS 13.0 Ventura / arm64 | ERROR | ERROR | skipped | ||||||||||||
| Package 86/191 | Hostname | OS / Arch | INSTALL | BUILD | BUILD BIN | ||||||||||||
| graphite 1.44.0 (landing page) Gabriele Sales
| kjohnson | macOS 13.0 Ventura / arm64 | OK | OK | OK | ||||||||||||
| Package 87/191 | Hostname | OS / Arch | INSTALL | BUILD | BUILD BIN | ||||||||||||
| GSEABase 1.60.0 (landing page) Bioconductor Package Maintainer
| kjohnson | macOS 13.0 Ventura / arm64 | OK | OK | OK | ||||||||||||
| Package 88/191 | Hostname | OS / Arch | INSTALL | BUILD | BUILD BIN | ||||||||||||
| GSEABenchmarkeR 1.18.0 (landing page) Ludwig Geistlinger
| kjohnson | macOS 13.0 Ventura / arm64 | OK | OK | OK | ||||||||||||
| Package 89/191 | Hostname | OS / Arch | INSTALL | BUILD | BUILD BIN | ||||||||||||
| GSReg 1.32.0 (landing page) Bahman Afsari
| kjohnson | macOS 13.0 Ventura / arm64 | OK | OK | OK | ||||||||||||
| Package 90/191 | Hostname | OS / Arch | INSTALL | BUILD | BUILD BIN | ||||||||||||
| Guitar 2.14.0 (landing page) Jia Meng
| kjohnson | macOS 13.0 Ventura / arm64 | OK | OK | OK | ||||||||||||
| Package 91/191 | Hostname | OS / Arch | INSTALL | BUILD | BUILD BIN | ||||||||||||
| Gviz 1.42.1 (landing page) Robert Ivanek
| kjohnson | macOS 13.0 Ventura / arm64 | OK | OK | OK | ||||||||||||
| Package 92/191 | Hostname | OS / Arch | INSTALL | BUILD | BUILD BIN | ||||||||||||
| gwascat 2.30.0 (landing page) VJ Carey
| kjohnson | macOS 13.0 Ventura / arm64 | OK | OK | OK | ||||||||||||
| Package 93/191 | Hostname | OS / Arch | INSTALL | BUILD | BUILD BIN | ||||||||||||
| ideal 1.22.0 (landing page) Federico Marini
| kjohnson | macOS 13.0 Ventura / arm64 | OK | OK | OK | ||||||||||||
| Package 94/191 | Hostname | OS / Arch | INSTALL | BUILD | BUILD BIN | ||||||||||||
| IMAS 1.22.0 (landing page) Seonggyun Han
| kjohnson | macOS 13.0 Ventura / arm64 | OK | OK | OK | ||||||||||||
| Package 95/191 | Hostname | OS / Arch | INSTALL | BUILD | BUILD BIN | ||||||||||||
| InPAS 2.6.0 (landing page) Jianhong Ou
| kjohnson | macOS 13.0 Ventura / arm64 | OK | OK | OK | ||||||||||||
| Package 96/191 | Hostname | OS / Arch | INSTALL | BUILD | BUILD BIN | ||||||||||||
| interactiveDisplay 1.36.0 (landing page) Bioconductor Package Maintainer
| kjohnson | macOS 13.0 Ventura / arm64 | OK | OK | OK | ||||||||||||
| Package 97/191 | Hostname | OS / Arch | INSTALL | BUILD | BUILD BIN | ||||||||||||
| ipdDb 1.16.0 (landing page) Steffen Klasberg
| kjohnson | macOS 13.0 Ventura / arm64 | OK | OK | OK | ||||||||||||
| Package 98/191 | Hostname | OS / Arch | INSTALL | BUILD | BUILD BIN | ||||||||||||
| IRISFGM 1.6.0 (landing page) Yuzhou Chang
| kjohnson | macOS 13.0 Ventura / arm64 | OK | OK | OK | ||||||||||||
| Package 99/191 | Hostname | OS / Arch | INSTALL | BUILD | BUILD BIN | ||||||||||||
| isomiRs 1.26.0 (landing page) Lorena Pantano
| kjohnson | macOS 13.0 Ventura / arm64 | OK | OK | OK | ||||||||||||
| Package 100/191 | Hostname | OS / Arch | INSTALL | BUILD | BUILD BIN | ||||||||||||
| IVAS 2.18.0 (landing page) Seonggyun Han
| kjohnson | macOS 13.0 Ventura / arm64 | OK | OK | OK | ||||||||||||
| Package 101/191 | Hostname | OS / Arch | INSTALL | BUILD | BUILD BIN | ||||||||||||
| karyoploteR 1.24.0 (landing page) Bernat Gel
| kjohnson | macOS 13.0 Ventura / arm64 | OK | OK | OK | ||||||||||||
| Package 102/191 | Hostname | OS / Arch | INSTALL | BUILD | BUILD BIN | ||||||||||||
| KEGGlincs 1.24.0 (landing page) Shana White
| kjohnson | macOS 13.0 Ventura / arm64 | OK | OK | OK | ||||||||||||
| Package 103/191 | Hostname | OS / Arch | INSTALL | BUILD | BUILD BIN | ||||||||||||
| keggorthology 2.50.0 (landing page) VJ Carey
| kjohnson | macOS 13.0 Ventura / arm64 | OK | OK | OK | ||||||||||||
| Package 104/191 | Hostname | OS / Arch | INSTALL | BUILD | BUILD BIN | ||||||||||||
| LRBaseDbi 2.8.0 (landing page) Koki Tsuyuzaki
| kjohnson | macOS 13.0 Ventura / arm64 | OK | OK | OK | ||||||||||||
| Package 105/191 | Hostname | OS / Arch | INSTALL | BUILD | BUILD BIN | ||||||||||||
| lumi 2.50.0 (landing page) Lei Huang
| kjohnson | macOS 13.0 Ventura / arm64 | OK | OK | OK | ||||||||||||
| Package 106/191 | Hostname | OS / Arch | INSTALL | BUILD | BUILD BIN | ||||||||||||
| mAPKL 1.28.0 (landing page) Argiris Sakellariou
| kjohnson | macOS 13.0 Ventura / arm64 | OK | OK | OK | ||||||||||||
| Package 107/191 | Hostname | OS / Arch | INSTALL | BUILD | BUILD BIN | ||||||||||||
| maPredictDSC 1.36.0 (landing page) Adi Laurentiu Tarca
| kjohnson | macOS 13.0 Ventura / arm64 | OK | OK | OK | ||||||||||||
| Package 108/191 | Hostname | OS / Arch | INSTALL | BUILD | BUILD BIN | ||||||||||||
| MCbiclust 1.22.0 (landing page) Robert Bentham
| kjohnson | macOS 13.0 Ventura / arm64 | OK | OK | OK | ||||||||||||
| Package 109/191 | Hostname | OS / Arch | INSTALL | BUILD | BUILD BIN | ||||||||||||
| MeSHDbi 1.34.0 (landing page) Koki Tsuyuzaki
| kjohnson | macOS 13.0 Ventura / arm64 | OK | OK | OK | ||||||||||||
| Package 110/191 | Hostname | OS / Arch | INSTALL | BUILD | BUILD BIN | ||||||||||||
| meshes 1.24.0 (landing page) Guangchuang Yu
| kjohnson | macOS 13.0 Ventura / arm64 | OK | OK | OK | ||||||||||||
| Package 111/191 | Hostname | OS / Arch | INSTALL | BUILD | BUILD BIN | ||||||||||||
| MesKit 1.8.0 (landing page) Mengni Liu
| kjohnson | macOS 13.0 Ventura / arm64 | OK | OK | OK | ||||||||||||
| Package 112/191 | Hostname | OS / Arch | INSTALL | BUILD | BUILD BIN | ||||||||||||
| MetaboSignal 1.28.0 (landing page) Andrea Rodriguez-Martinez
| kjohnson | macOS 13.0 Ventura / arm64 | OK | OK | OK | ||||||||||||
| Package 113/191 | Hostname | OS / Arch | INSTALL | BUILD | BUILD BIN | ||||||||||||
| methylGSA 1.16.0 (landing page) Xu Ren
| kjohnson | macOS 13.0 Ventura / arm64 | OK | OK | OK | ||||||||||||
| Package 114/191 | Hostname | OS / Arch | INSTALL | BUILD | BUILD BIN | ||||||||||||
| methylumi 2.44.0 (landing page) Sean Davis
| kjohnson | macOS 13.0 Ventura / arm64 | OK | OK | OK | ||||||||||||
| Package 115/191 | Hostname | OS / Arch | INSTALL | BUILD | BUILD BIN | ||||||||||||
| MGFM 1.32.0 (landing page) Khadija El Amrani
| kjohnson | macOS 13.0 Ventura / arm64 | OK | OK | OK | ||||||||||||
| Package 116/191 | Hostname | OS / Arch | INSTALL | BUILD | BUILD BIN | ||||||||||||
| MIGSA 1.22.0 (landing page) Juan C. Rodriguez
| kjohnson | macOS 13.0 Ventura / arm64 | OK | ERROR | skipped | ||||||||||||
| Package 117/191 | Hostname | OS / Arch | INSTALL | BUILD | BUILD BIN | ||||||||||||
| MineICA 1.38.0 (landing page) Anne Biton
| kjohnson | macOS 13.0 Ventura / arm64 | OK | OK | OK | ||||||||||||
| Package 118/191 | Hostname | OS / Arch | INSTALL | BUILD | BUILD BIN | ||||||||||||
| MiRaGE 1.40.0 (landing page) Y-h. Taguchi
| kjohnson | macOS 13.0 Ventura / arm64 | OK | OK | OK | ||||||||||||
| Package 119/191 | Hostname | OS / Arch | INSTALL | BUILD | BUILD BIN | ||||||||||||
| mirIntegrator 1.28.0 (landing page) Diana Diaz
| kjohnson | macOS 13.0 Ventura / arm64 | OK | OK | OK | ||||||||||||
| Package 120/191 | Hostname | OS / Arch | INSTALL | BUILD | BUILD BIN | ||||||||||||
| miRNAmeConverter 1.26.0 (landing page) Stefan J. Haunsberger
| kjohnson | macOS 13.0 Ventura / arm64 | OK | OK | OK | ||||||||||||
| Package 121/191 | Hostname | OS / Arch | INSTALL | BUILD | BUILD BIN | ||||||||||||
| miRNAtap 1.32.0 (landing page) T. Ian Simpson
| kjohnson | macOS 13.0 Ventura / arm64 | OK | OK | OK | ||||||||||||
| Package 122/191 | Hostname | OS / Arch | INSTALL | BUILD | BUILD BIN | ||||||||||||
| missMethyl 1.32.1 (landing page) Belinda Phipson
| kjohnson | macOS 13.0 Ventura / arm64 | OK | OK | OK | ||||||||||||
| Package 123/191 | Hostname | OS / Arch | INSTALL | BUILD | BUILD BIN | ||||||||||||
| MLP 1.46.0 (landing page) Tobias Verbeke
| kjohnson | macOS 13.0 Ventura / arm64 | OK | OK | OK | ||||||||||||
| Package 124/191 | Hostname | OS / Arch | INSTALL | BUILD | BUILD BIN | ||||||||||||
| MSnID 1.32.0 (landing page) Vlad Petyuk
| kjohnson | macOS 13.0 Ventura / arm64 | OK | OK | OK | ||||||||||||
| Package 125/191 | Hostname | OS / Arch | INSTALL | BUILD | BUILD BIN | ||||||||||||
| multiGSEA 1.8.3 (landing page) Sebastian Canzler
| kjohnson | macOS 13.0 Ventura / arm64 | OK | OK | OK | ||||||||||||
| Package 126/191 | Hostname | OS / Arch | INSTALL | BUILD | BUILD BIN | ||||||||||||
| multiMiR 1.20.0 (landing page) Matt Mulvahill
| kjohnson | macOS 13.0 Ventura / arm64 | OK | OK | OK | ||||||||||||
| Package 127/191 | Hostname | OS / Arch | INSTALL | BUILD | BUILD BIN | ||||||||||||
| NanoMethViz 2.4.2 (landing page) Shian Su
| kjohnson | macOS 13.0 Ventura / arm64 | OK | OK | OK | ||||||||||||
| Package 128/191 | Hostname | OS / Arch | INSTALL | BUILD | BUILD BIN | ||||||||||||
| NanoStringQCPro 1.30.0 (landing page) Robert Ziman
| kjohnson | macOS 13.0 Ventura / arm64 | OK | OK | OK | ||||||||||||
| Package 129/191 | Hostname | OS / Arch | INSTALL | BUILD | BUILD BIN | ||||||||||||
| nanotatoR 1.14.0 (landing page) Surajit Bhattacharya
| kjohnson | macOS 13.0 Ventura / arm64 | OK | OK | OK | ||||||||||||
| Package 130/191 | Hostname | OS / Arch | INSTALL | BUILD | BUILD BIN | ||||||||||||
| netOmics 1.4.0 (landing page) Antoine Bodein
| kjohnson | macOS 13.0 Ventura / arm64 | OK | ERROR | skipped | ||||||||||||
| Package 131/191 | Hostname | OS / Arch | INSTALL | BUILD | BUILD BIN | ||||||||||||
| NetSAM 1.38.0 (landing page) Zhiao Shi
| kjohnson | macOS 13.0 Ventura / arm64 | OK | OK | OK | ||||||||||||
| Package 132/191 | Hostname | OS / Arch | INSTALL | BUILD | BUILD BIN | ||||||||||||
| netZooR 1.2.0 (landing page) Marouen Ben Guebila
| kjohnson | macOS 13.0 Ventura / arm64 | OK | OK | OK | ||||||||||||
| Package 133/191 | Hostname | OS / Arch | INSTALL | BUILD | BUILD BIN | ||||||||||||
| NoRCE 1.10.0 (landing page) Gulden Olgun
| kjohnson | macOS 13.0 Ventura / arm64 | OK | OK | OK | ||||||||||||
| Package 134/191 | Hostname | OS / Arch | INSTALL | BUILD | BUILD BIN | ||||||||||||
| ORFik 1.18.2 (landing page) Haakon Tjeldnes
| kjohnson | macOS 13.0 Ventura / arm64 | OK | OK | OK | ||||||||||||
| Package 135/191 | Hostname | OS / Arch | INSTALL | BUILD | BUILD BIN | ||||||||||||
| Organism.dplyr 1.26.0 (landing page) Martin Morgan
| kjohnson | macOS 13.0 Ventura / arm64 | OK | OK | OK | ||||||||||||
| Package 136/191 | Hostname | OS / Arch | INSTALL | BUILD | BUILD BIN | ||||||||||||
| OrganismDbi 1.40.0 (landing page) Bioconductor Package Maintainer
| kjohnson | macOS 13.0 Ventura / arm64 | OK | OK | OK | ||||||||||||
| Package 137/191 | Hostname | OS / Arch | INSTALL | BUILD | BUILD BIN | ||||||||||||
| PADOG 1.40.0 (landing page) Adi L. Tarca
| kjohnson | macOS 13.0 Ventura / arm64 | OK | OK | OK | ||||||||||||
| Package 138/191 | Hostname | OS / Arch | INSTALL | BUILD | BUILD BIN | ||||||||||||
| pathRender 1.66.0 (landing page) Vince Carey
| kjohnson | macOS 13.0 Ventura / arm64 | OK | OK | OK | ||||||||||||
| Package 139/191 | Hostname | OS / Arch | INSTALL | BUILD | BUILD BIN | ||||||||||||
| pathview 1.38.0 (landing page) Weijun Luo
| kjohnson | macOS 13.0 Ventura / arm64 | OK | OK | OK | ||||||||||||
| Package 140/191 | Hostname | OS / Arch | INSTALL | BUILD | BUILD BIN | ||||||||||||
| pcaExplorer 2.24.0 (landing page) Federico Marini
| kjohnson | macOS 13.0 Ventura / arm64 | OK | OK | OK | ||||||||||||
| Package 141/191 | Hostname | OS / Arch | INSTALL | BUILD | BUILD BIN | ||||||||||||
| phantasus 1.18.4 (landing page) Alexey Sergushichev
| kjohnson | macOS 13.0 Ventura / arm64 | OK | OK | OK | ||||||||||||
| Package 142/191 | Hostname | OS / Arch | INSTALL | BUILD | BUILD BIN | ||||||||||||
| phenoTest 1.46.0 (landing page) Evarist Planet
| kjohnson | macOS 13.0 Ventura / arm64 | OK | OK | OK | ||||||||||||
| Package 143/191 | Hostname | OS / Arch | INSTALL | BUILD | BUILD BIN | ||||||||||||
| proActiv 1.8.0 (landing page) Joseph Lee
| kjohnson | macOS 13.0 Ventura / arm64 | OK | OK | OK | ||||||||||||
| Package 144/191 | Hostname | OS / Arch | INSTALL | BUILD | BUILD BIN | ||||||||||||
| proBAMr 1.32.0 (landing page) Xiaojing Wang
| kjohnson | macOS 13.0 Ventura / arm64 | OK | OK | OK | ||||||||||||
| Package 145/191 | Hostname | OS / Arch | INSTALL | BUILD | BUILD BIN | ||||||||||||
| psichomics 1.24.0 (landing page) Nuno Saraiva-Agostinho
| kjohnson | macOS 13.0 Ventura / arm64 | OK | OK | OK | ||||||||||||
| Package 146/191 | Hostname | OS / Arch | INSTALL | BUILD | BUILD BIN | ||||||||||||
| pwOmics 1.30.0 (landing page) Maren Sitte
| kjohnson | macOS 13.0 Ventura / arm64 | OK | OK | OK | ||||||||||||
| Package 147/191 | Hostname | OS / Arch | INSTALL | BUILD | BUILD BIN | ||||||||||||
| qpgraph 2.32.2 (landing page) Robert Castelo
| kjohnson | macOS 13.0 Ventura / arm64 | OK | OK | OK | ||||||||||||
| Package 148/191 | Hostname | OS / Arch | INSTALL | BUILD | BUILD BIN | ||||||||||||
| QuasR 1.38.0 (landing page) Michael Stadler
| kjohnson | macOS 13.0 Ventura / arm64 | OK | OK | OK | ||||||||||||
| Package 149/191 | Hostname | OS / Arch | INSTALL | BUILD | BUILD BIN | ||||||||||||
| rCGH 1.28.0 (landing page) Frederic Commo
| kjohnson | macOS 13.0 Ventura / arm64 | OK | OK | OK | ||||||||||||
| Package 150/191 | Hostname | OS / Arch | INSTALL | BUILD | BUILD BIN | ||||||||||||
| ReactomePA 1.42.0 (landing page) Guangchuang Yu
| kjohnson | macOS 13.0 Ventura / arm64 | OK | OK | OK | ||||||||||||
| Package 151/191 | Hostname | OS / Arch | INSTALL | BUILD | BUILD BIN | ||||||||||||
| REDseq 1.44.0 (landing page) Lihua Julie Zhu
| kjohnson | macOS 13.0 Ventura / arm64 | OK | OK | OK | ||||||||||||
| Package 152/191 | Hostname | OS / Arch | INSTALL | BUILD | BUILD BIN | ||||||||||||
| regutools 1.10.0 (landing page) Joselyn Chavez
| kjohnson | macOS 13.0 Ventura / arm64 | OK | OK | OK | ||||||||||||
| Package 153/191 | Hostname | OS / Arch | INSTALL | BUILD | BUILD BIN | ||||||||||||
| ReportingTools 2.38.0 (landing page) Jason A. Hackney
| kjohnson | macOS 13.0 Ventura / arm64 | OK | OK | OK | ||||||||||||
| Package 154/191 | Hostname | OS / Arch | INSTALL | BUILD | BUILD BIN | ||||||||||||
| restfulSE 1.20.0 (landing page) Shweta Gopaulakrishnan
| kjohnson | macOS 13.0 Ventura / arm64 | OK | OK | OK | ||||||||||||
| Package 155/191 | Hostname | OS / Arch | INSTALL | BUILD | BUILD BIN | ||||||||||||
| rGREAT 2.0.2 (landing page) Zuguang Gu
| kjohnson | macOS 13.0 Ventura / arm64 | OK | OK | OK | ||||||||||||
| Package 156/191 | Hostname | OS / Arch | INSTALL | BUILD | BUILD BIN | ||||||||||||
| rgsepd 1.30.0 (landing page) Karl Stamm
| kjohnson | macOS 13.0 Ventura / arm64 | OK | OK | OK | ||||||||||||
| Package 157/191 | Hostname | OS / Arch | INSTALL | BUILD | BUILD BIN | ||||||||||||
| ribosomeProfilingQC 1.10.0 (landing page) Jianhong Ou
| kjohnson | macOS 13.0 Ventura / arm64 | OK | OK | OK | ||||||||||||
| Package 158/191 | Hostname | OS / Arch | INSTALL | BUILD | BUILD BIN | ||||||||||||
| RNAAgeCalc 1.10.0 (landing page) Xu Ren
| kjohnson | macOS 13.0 Ventura / arm64 | OK | OK | OK | ||||||||||||
| Package 159/191 | Hostname | OS / Arch | INSTALL | BUILD | BUILD BIN | ||||||||||||
| rrvgo 1.10.0 (landing page) Sergi Sayols
| kjohnson | macOS 13.0 Ventura / arm64 | OK | OK | OK | ||||||||||||
| Package 160/191 | Hostname | OS / Arch | INSTALL | BUILD | BUILD BIN | ||||||||||||
| rTRM 1.36.0 (landing page) Diego Diez
| kjohnson | macOS 13.0 Ventura / arm64 | OK | OK | OK | ||||||||||||
| Package 161/191 | Hostname | OS / Arch | INSTALL | BUILD | BUILD BIN | ||||||||||||
| safe 3.38.0 (landing page) Ludwig Geistlinger
| kjohnson | macOS 13.0 Ventura / arm64 | OK | OK | OK | ||||||||||||
| Package 162/191 | Hostname | OS / Arch | INSTALL | BUILD | BUILD BIN | ||||||||||||
| SBGNview 1.12.0 (landing page) Weijun Luo
| kjohnson | macOS 13.0 Ventura / arm64 | OK | OK | OK | ||||||||||||
| Package 163/191 | Hostname | OS / Arch | INSTALL | BUILD | BUILD BIN | ||||||||||||
| scanMiRApp 1.4.0 (landing page) Pierre-Luc Germain
| kjohnson | macOS 13.0 Ventura / arm64 | OK | OK | OK | ||||||||||||
| Package 164/191 | Hostname | OS / Arch | INSTALL | BUILD | BUILD BIN | ||||||||||||
| scPipe 1.20.6 (landing page) Shian Su
| kjohnson | macOS 13.0 Ventura / arm64 | OK | OK | OK | ||||||||||||
| Package 165/191 | Hostname | OS / Arch | INSTALL | BUILD | BUILD BIN | ||||||||||||
| scruff 1.16.0 (landing page) Zhe Wang
| kjohnson | macOS 13.0 Ventura / arm64 | OK | OK | OK | ||||||||||||
| Package 166/191 | Hostname | OS / Arch | INSTALL | BUILD | BUILD BIN | ||||||||||||
| scTensor 2.8.0 (landing page) Koki Tsuyuzaki
| kjohnson | macOS 13.0 Ventura / arm64 | OK | OK | OK | ||||||||||||
| Package 167/191 | Hostname | OS / Arch | INSTALL | BUILD | BUILD BIN | ||||||||||||
| SemDist 1.32.0 (landing page) Ian Gonzalez
| kjohnson | macOS 13.0 Ventura / arm64 | OK | OK | OK | ||||||||||||
| Package 168/191 | Hostname | OS / Arch | INSTALL | BUILD | BUILD BIN | ||||||||||||
| SGSeq 1.32.0 (landing page) Leonard Goldstein
| kjohnson | macOS 13.0 Ventura / arm64 | OK | OK | OK | ||||||||||||
| Package 169/191 | Hostname | OS / Arch | INSTALL | BUILD | BUILD BIN | ||||||||||||
| signatureSearch 1.12.0 (landing page) Brendan Gongol
| kjohnson | macOS 13.0 Ventura / arm64 | OK | OK | OK | ||||||||||||
| Package 170/191 | Hostname | OS / Arch | INSTALL | BUILD | BUILD BIN | ||||||||||||
| signifinder 1.0.0 (landing page) Stefania Pirrotta
| kjohnson | macOS 13.0 Ventura / arm64 | OK | OK | OK | ||||||||||||
| Package 171/191 | Hostname | OS / Arch | INSTALL | BUILD | BUILD BIN | ||||||||||||
| simplifyEnrichment 1.8.0 (landing page) Zuguang Gu
| kjohnson | macOS 13.0 Ventura / arm64 | OK | OK | OK | ||||||||||||
| Package 172/191 | Hostname | OS / Arch | INSTALL | BUILD | BUILD BIN | ||||||||||||
| SMITE 1.26.0 (landing page) Neil Ari Wijetunga
| kjohnson | macOS 13.0 Ventura / arm64 | OK | OK | OK | ||||||||||||
| Package 173/191 | Hostname | OS / Arch | INSTALL | BUILD | BUILD BIN | ||||||||||||
| SpidermiR 1.28.0 (landing page) Claudia Cava
| kjohnson | macOS 13.0 Ventura / arm64 | OK | OK | OK | ||||||||||||
| Package 174/191 | Hostname | OS / Arch | INSTALL | BUILD | BUILD BIN | ||||||||||||
| StarBioTrek 1.24.0 (landing page) Claudia Cava
| kjohnson | macOS 13.0 Ventura / arm64 | OK | OK | OK | ||||||||||||
| Package 175/191 | Hostname | OS / Arch | INSTALL | BUILD | BUILD BIN | ||||||||||||
| SubCellBarCode 1.14.0 (landing page) Taner Arslan
| kjohnson | macOS 13.0 Ventura / arm64 | OK | OK | OK | ||||||||||||
| Package 176/191 | Hostname | OS / Arch | INSTALL | BUILD | BUILD BIN | ||||||||||||
| TCGAutils 1.18.0 (landing page) Marcel Ramos
| kjohnson | macOS 13.0 Ventura / arm64 | OK | ERROR | skipped | ||||||||||||
| Package 177/191 | Hostname | OS / Arch | INSTALL | BUILD | BUILD BIN | ||||||||||||
| tenXplore 1.20.0 (landing page) VJ Carey
| kjohnson | macOS 13.0 Ventura / arm64 | OK | OK | OK | ||||||||||||
| Package 178/191 | Hostname | OS / Arch | INSTALL | BUILD | BUILD BIN | ||||||||||||
| TFutils 1.18.0 (landing page) Vincent Carey
| kjohnson | macOS 13.0 Ventura / arm64 | OK | OK | OK | ||||||||||||
| Package 179/191 | Hostname | OS / Arch | INSTALL | BUILD | BUILD BIN | ||||||||||||
| tigre 1.52.0 (landing page) Antti Honkela
| kjohnson | macOS 13.0 Ventura / arm64 | OK | OK | OK | ||||||||||||
| Package 180/191 | Hostname | OS / Arch | INSTALL | BUILD | BUILD BIN | ||||||||||||
| topGO 2.50.0 (landing page) Adrian Alexa
| kjohnson | macOS 13.0 Ventura / arm64 | OK | OK | OK | ||||||||||||
| Package 181/191 | Hostname | OS / Arch | INSTALL | BUILD | BUILD BIN | ||||||||||||
| trackViewer 1.34.0 (landing page) Jianhong Ou
| kjohnson | macOS 13.0 Ventura / arm64 | OK | OK | OK | ||||||||||||
| Package 182/191 | Hostname | OS / Arch | INSTALL | BUILD | BUILD BIN | ||||||||||||
| trena 1.20.0 (landing page) Paul Shannon
| kjohnson | macOS 13.0 Ventura / arm64 | OK | OK | OK | ||||||||||||
| Package 183/191 | Hostname | OS / Arch | INSTALL | BUILD | BUILD BIN | ||||||||||||
| TRESS 1.4.0 (landing page) Zhenxing Guo
| kjohnson | macOS 13.0 Ventura / arm64 | OK | OK | OK | ||||||||||||
| Package 184/191 | Hostname | OS / Arch | INSTALL | BUILD | BUILD BIN | ||||||||||||
| tricycle 1.6.0 (landing page) Shijie Zheng
| kjohnson | macOS 13.0 Ventura / arm64 | OK | OK | OK | ||||||||||||
| Package 185/191 | Hostname | OS / Arch | INSTALL | BUILD | BUILD BIN | ||||||||||||
| txcutr 1.4.0 (landing page) Mervin Fansler
| kjohnson | macOS 13.0 Ventura / arm64 | OK | OK | OK | ||||||||||||
| Package 186/191 | Hostname | OS / Arch | INSTALL | BUILD | BUILD BIN | ||||||||||||
| tximeta 1.16.1 (landing page) Michael Love
| kjohnson | macOS 13.0 Ventura / arm64 | OK | OK | OK | ||||||||||||
| Package 187/191 | Hostname | OS / Arch | INSTALL | BUILD | BUILD BIN | ||||||||||||
| Ularcirc 1.16.0 (landing page) David Humphreys
| kjohnson | macOS 13.0 Ventura / arm64 | OK | OK | OK | ||||||||||||
| Package 188/191 | Hostname | OS / Arch | INSTALL | BUILD | BUILD BIN | ||||||||||||
| UniProt.ws 2.38.1 (landing page) Marcel Ramos
| kjohnson | macOS 13.0 Ventura / arm64 | OK | OK | OK | ||||||||||||
| Package 189/191 | Hostname | OS / Arch | INSTALL | BUILD | BUILD BIN | ||||||||||||
| VariantAnnotation 1.44.1 (landing page) Bioconductor Package Maintainer
| kjohnson | macOS 13.0 Ventura / arm64 | OK | OK | OK | ||||||||||||
| Package 190/191 | Hostname | OS / Arch | INSTALL | BUILD | BUILD BIN | ||||||||||||
| VariantFiltering 1.34.0 (landing page) Robert Castelo
| kjohnson | macOS 13.0 Ventura / arm64 | OK | ERROR | skipped | ||||||||||||
| Package 191/191 | Hostname | OS / Arch | INSTALL | BUILD | BUILD BIN | ||||||||||||
| ViSEAGO 1.12.0 (landing page) Aurelien Brionne
| kjohnson | macOS 13.0 Ventura / arm64 | OK | OK | OK | ||||||||||||