| Back to Multiple platform build/check report for BioC 3.16: simplified long |
|
This page was generated on 2023-04-12 11:05:57 -0400 (Wed, 12 Apr 2023).
| Hostname | OS | Arch (*) | R version | Installed pkgs |
|---|---|---|---|---|
| nebbiolo2 | Linux (Ubuntu 20.04.5 LTS) | x86_64 | 4.2.3 (2023-03-15) -- "Shortstop Beagle" | 4502 |
| palomino4 | Windows Server 2022 Datacenter | x64 | 4.2.3 (2023-03-15 ucrt) -- "Shortstop Beagle" | 4282 |
| lconway | macOS 12.5.1 Monterey | x86_64 | 4.2.3 (2023-03-15) -- "Shortstop Beagle" | 4310 |
| Click on any hostname to see more info about the system (e.g. compilers) (*) as reported by 'uname -p', except on Windows and Mac OS X | ||||
|
To the developers/maintainers of the waddR package: - Please allow up to 24 hours (and sometimes 48 hours) for your latest push to git@git.bioconductor.org:packages/waddR.git to reflect on this report. See How and When does the builder pull? When will my changes propagate? for more information. - Make sure to use the following settings in order to reproduce any error or warning you see on this page. |
| Package 2156/2183 | Hostname | OS / Arch | INSTALL | BUILD | CHECK | BUILD BIN | ||||||||
| waddR 1.12.0 (landing page) Julian Flesch
| nebbiolo2 | Linux (Ubuntu 20.04.5 LTS) / x86_64 | OK | OK | OK | |||||||||
| palomino4 | Windows Server 2022 Datacenter / x64 | OK | OK | ERROR | OK | |||||||||
| lconway | macOS 12.5.1 Monterey / x86_64 | OK | ERROR | skipped | skipped | |||||||||
| Package: waddR |
| Version: 1.12.0 |
| Command: rm -rf waddR.buildbin-libdir && mkdir waddR.buildbin-libdir && F:\biocbuild\bbs-3.16-bioc\R\bin\R.exe CMD INSTALL --build --library=waddR.buildbin-libdir waddR_1.12.0.tar.gz |
| StartedAt: 2023-04-11 08:58:30 -0400 (Tue, 11 Apr 2023) |
| EndedAt: 2023-04-11 08:59:41 -0400 (Tue, 11 Apr 2023) |
| EllapsedTime: 71.1 seconds |
| RetCode: 0 |
| Status: OK |
| PackageFile: waddR_1.12.0.zip |
| PackageFileSize: 519.3 KiB |
##############################################################################
##############################################################################
###
### Running command:
###
### rm -rf waddR.buildbin-libdir && mkdir waddR.buildbin-libdir && F:\biocbuild\bbs-3.16-bioc\R\bin\R.exe CMD INSTALL --build --library=waddR.buildbin-libdir waddR_1.12.0.tar.gz
###
##############################################################################
##############################################################################
* installing *source* package 'waddR' ...
** using staged installation
** libs
g++ -std=gnu++11 -I"F:/biocbuild/bbs-3.16-bioc/R/include" -DNDEBUG -I'F:/biocbuild/bbs-3.16-bioc/R/library/Rcpp/include' -I'F:/biocbuild/bbs-3.16-bioc/R/library/RcppArmadillo/include' -I"C:/rtools42/x86_64-w64-mingw32.static.posix/include" -O2 -Wall -mfpmath=sse -msse2 -mstackrealign -c RcppExports.cpp -o RcppExports.o
g++ -std=gnu++11 -I"F:/biocbuild/bbs-3.16-bioc/R/include" -DNDEBUG -I'F:/biocbuild/bbs-3.16-bioc/R/library/Rcpp/include' -I'F:/biocbuild/bbs-3.16-bioc/R/library/RcppArmadillo/include' -I"C:/rtools42/x86_64-w64-mingw32.static.posix/include" -O2 -Wall -mfpmath=sse -msse2 -mstackrealign -c wasserstein.cpp -o wasserstein.o
wasserstein.cpp: In function 'std::vector<double> rep_weighted(std::vector<double>, std::vector<int, std::allocator<int> >)':
wasserstein.cpp:348:20: warning: comparison of integer expressions of different signedness: 'int' and 'std::vector<double>::size_type' {aka 'long long unsigned int'} [-Wsign-compare]
348 | for(int i=0; i<x.size(); i++) {
| ~^~~~~~~~~
wasserstein.cpp: In function 'std::vector<double> concat(std::vector<double>&, std::vector<double>&)':
wasserstein.cpp:386:27: warning: variable 'out_it_end' set but not used [-Wunused-but-set-variable]
386 | vector<double>::iterator out_it_end = out.end();
| ^~~~~~~~~~
wasserstein.cpp: In function 'std::vector<int, std::allocator<int> > interval_table(const std::vector<double>&, const std::vector<double>&, int)':
wasserstein.cpp:584:18: warning: comparison of integer expressions of different signedness: 'int' and 'std::vector<double>::size_type' {aka 'long long unsigned int'} [-Wsign-compare]
584 | while (data_i < datavec.size()) {
| ~~~~~~~^~~~~~~~~~~~~~~~
wasserstein.cpp: In function 'double cor_test_export(Rcpp::NumericVector, Rcpp::NumericVector)':
wasserstein.cpp:1088:17: warning: comparison of integer expressions of different signedness: 'int' and 'std::vector<double>::size_type' {aka 'long long unsigned int'} [-Wsign-compare]
1088 | for (int i=0; i<x.size(); i++) { x[i] = x_[i];}
| ~^~~~~~~~~
wasserstein.cpp:1089:17: warning: comparison of integer expressions of different signedness: 'int' and 'std::vector<double>::size_type' {aka 'long long unsigned int'} [-Wsign-compare]
1089 | for (int j=0; j<y.size(); j++) { y[j] = y_[j];}
| ~^~~~~~~~~
wasserstein.cpp: In instantiation of 'double cor(const std::vector<T>&, const std::vector<T>&, double, double) [with T = double]':
wasserstein.cpp:716:49: required from here
wasserstein.cpp:439:17: warning: comparison of integer expressions of different signedness: 'int' and 'std::vector<double>::size_type' {aka 'long long unsigned int'} [-Wsign-compare]
439 | for (int i=0; i<x.size(); i++){
| ~^~~~~~~~~
wasserstein.cpp: In instantiation of 'std::vector<T> operator-(const std::vector<T>&, const std::vector<T>&) [with T = double]':
wasserstein.cpp:778:44: required from here
wasserstein.cpp:121:20: warning: comparison of integer expressions of different signedness: 'int' and 'std::vector<double>::size_type' {aka 'long long unsigned int'} [-Wsign-compare]
121 | for (int i=0; i<x.size(); i++) {
| ~^~~~~~~~~
wasserstein.cpp: In instantiation of 'std::vector<T> cumSum(const std::vector<T>&, int) [with T = double]':
wasserstein.cpp:884:17: required from here
wasserstein.cpp:472:47: warning: comparison of integer expressions of different signedness: 'const int' and 'std::vector<double>::size_type' {aka 'long long unsigned int'} [-Wsign-compare]
472 | int upper = ((last_index > 0) && (last_index <= x.size())
| ~~~~~~~~~~~~^~~~~~~~~~~~
wasserstein.cpp: In instantiation of 'std::vector<T> operator*(const std::vector<T>&, const std::vector<T>&) [with T = double]':
wasserstein.cpp:912:62: required from here
wasserstein.cpp:101:20: warning: comparison of integer expressions of different signedness: 'int' and 'std::vector<double>::size_type' {aka 'long long unsigned int'} [-Wsign-compare]
101 | for (int i=0; i<x.size(); i++) {
| ~^~~~~~~~~
wasserstein.cpp: In instantiation of 'std::vector<T> operator+(std::vector<T>, std::vector<T>) [with T = double]':
wasserstein.cpp:933:15: required from here
wasserstein.cpp:53:18: warning: comparison of integer expressions of different signedness: 'int' and 'std::vector<double>::size_type' {aka 'long long unsigned int'} [-Wsign-compare]
53 | for (int i=0; i<x.size(); i++) {
| ~^~~~~~~~~
wasserstein.cpp: In instantiation of 'std::vector<T> operator/(const std::vector<T>&, const std::vector<T>&) [with T = double]':
wasserstein.cpp:1046:15: required from here
wasserstein.cpp:169:20: warning: comparison of integer expressions of different signedness: 'int' and 'std::vector<double>::size_type' {aka 'long long unsigned int'} [-Wsign-compare]
169 | for (int i=0; i<x.size(); i++) {
| ~^~~~~~~~~
wasserstein.cpp: In instantiation of 'std::vector<T> quantile(const std::vector<T>&, std::vector<double>, int) [with T = double]':
wasserstein.cpp:1162:27: required from here
wasserstein.cpp:501:4: warning: unused variable 'max_x' [-Wunused-variable]
501 | T max_x = x_sorted[n-1];
| ^~~~~
g++ -shared -s -static-libgcc -o waddR.dll tmp.def RcppExports.o wasserstein.o -LC:/rtools42/x86_64-w64-mingw32.static.posix/lib/x64 -LC:/rtools42/x86_64-w64-mingw32.static.posix/lib -LF:/biocbuild/bbs-3.16-bioc/R/bin/x64 -lR
installing to F:/biocbuild/bbs-3.16-bioc/meat/waddR.buildbin-libdir/00LOCK-waddR/00new/waddR/libs/x64
** R
** inst
** byte-compile and prepare package for lazy loading
** help
*** installing help indices
** building package indices
** installing vignettes
** testing if installed package can be loaded from temporary location
** testing if installed package can be loaded from final location
** testing if installed package keeps a record of temporary installation path
* MD5 sums
packaged installation of 'waddR' as waddR_1.12.0.zip
* DONE (waddR)