| Back to Multiple platform build/check report for BioC 3.16: simplified long |
|
This page was generated on 2023-04-12 11:05:55 -0400 (Wed, 12 Apr 2023).
| Hostname | OS | Arch (*) | R version | Installed pkgs |
|---|---|---|---|---|
| nebbiolo2 | Linux (Ubuntu 20.04.5 LTS) | x86_64 | 4.2.3 (2023-03-15) -- "Shortstop Beagle" | 4502 |
| palomino4 | Windows Server 2022 Datacenter | x64 | 4.2.3 (2023-03-15 ucrt) -- "Shortstop Beagle" | 4282 |
| lconway | macOS 12.5.1 Monterey | x86_64 | 4.2.3 (2023-03-15) -- "Shortstop Beagle" | 4310 |
| Click on any hostname to see more info about the system (e.g. compilers) (*) as reported by 'uname -p', except on Windows and Mac OS X | ||||
|
To the developers/maintainers of the systemPipeR package: - Please allow up to 24 hours (and sometimes 48 hours) for your latest push to git@git.bioconductor.org:packages/systemPipeR.git to reflect on this report. See How and When does the builder pull? When will my changes propagate? for more information. - Make sure to use the following settings in order to reproduce any error or warning you see on this page. |
| Package 2014/2183 | Hostname | OS / Arch | INSTALL | BUILD | CHECK | BUILD BIN | ||||||||
| systemPipeR 2.4.0 (landing page) Thomas Girke
| nebbiolo2 | Linux (Ubuntu 20.04.5 LTS) / x86_64 | OK | OK | OK | |||||||||
| palomino4 | Windows Server 2022 Datacenter / x64 | OK | OK | OK | OK | |||||||||
| lconway | macOS 12.5.1 Monterey / x86_64 | OK | OK | OK | OK | |||||||||
| Package: systemPipeR |
| Version: 2.4.0 |
| Command: F:\biocbuild\bbs-3.16-bioc\R\bin\R.exe CMD check --no-multiarch --install=check:systemPipeR.install-out.txt --library=F:\biocbuild\bbs-3.16-bioc\R\library --no-vignettes --timings systemPipeR_2.4.0.tar.gz |
| StartedAt: 2023-04-11 06:39:19 -0400 (Tue, 11 Apr 2023) |
| EndedAt: 2023-04-11 06:45:05 -0400 (Tue, 11 Apr 2023) |
| EllapsedTime: 346.4 seconds |
| RetCode: 0 |
| Status: OK |
| CheckDir: systemPipeR.Rcheck |
| Warnings: 0 |
##############################################################################
##############################################################################
###
### Running command:
###
### F:\biocbuild\bbs-3.16-bioc\R\bin\R.exe CMD check --no-multiarch --install=check:systemPipeR.install-out.txt --library=F:\biocbuild\bbs-3.16-bioc\R\library --no-vignettes --timings systemPipeR_2.4.0.tar.gz
###
##############################################################################
##############################################################################
* using log directory 'F:/biocbuild/bbs-3.16-bioc/meat/systemPipeR.Rcheck'
* using R version 4.2.3 (2023-03-15 ucrt)
* using platform: x86_64-w64-mingw32 (64-bit)
* using session charset: UTF-8
* using option '--no-vignettes'
* checking for file 'systemPipeR/DESCRIPTION' ... OK
* checking extension type ... Package
* this is package 'systemPipeR' version '2.4.0'
* checking package namespace information ... OK
* checking package dependencies ... OK
* checking if this is a source package ... OK
* checking if there is a namespace ... OK
* checking for hidden files and directories ... NOTE
Found the following hidden files and directories:
inst/extdata/.batchtools.conf.R
inst/extdata/.batchtools.conf.R.sge
inst/extdata/.batchtools.conf.R.torque
These were most likely included in error. See section 'Package
structure' in the 'Writing R Extensions' manual.
* checking for portable file names ... OK
* checking whether package 'systemPipeR' can be installed ... OK
* checking installed package size ... NOTE
installed size is 6.3Mb
sub-directories of 1Mb or more:
R 1.6Mb
extdata 2.3Mb
htmlwidgets 2.0Mb
* checking package directory ... OK
* checking 'build' directory ... OK
* checking DESCRIPTION meta-information ... OK
* checking top-level files ... OK
* checking for left-over files ... OK
* checking index information ... OK
* checking package subdirectories ... OK
* checking R files for non-ASCII characters ... OK
* checking R files for syntax errors ... OK
* checking whether the package can be loaded ... OK
* checking whether the package can be loaded with stated dependencies ... OK
* checking whether the package can be unloaded cleanly ... OK
* checking whether the namespace can be loaded with stated dependencies ... OK
* checking whether the namespace can be unloaded cleanly ... OK
* checking dependencies in R code ... OK
* checking S3 generic/method consistency ... OK
* checking replacement functions ... OK
* checking foreign function calls ... OK
* checking R code for possible problems ... NOTE
.cmd2cwl2: no visible global function definition for 'ave'
.getPreprotext: no visible binding for global variable '.'
Undefined global functions or variables:
. ave
Consider adding
importFrom("stats", "ave")
to your NAMESPACE file.
* checking Rd files ... OK
* checking Rd metadata ... OK
* checking Rd cross-references ... OK
* checking for missing documentation entries ... OK
* checking for code/documentation mismatches ... OK
* checking Rd \usage sections ... OK
* checking Rd contents ... OK
* checking for unstated dependencies in examples ... OK
* checking line endings in Makefiles ... OK
* checking for GNU extensions in Makefiles ... OK
* checking include directives in Makefiles ... OK
* checking files in 'vignettes' ... OK
* checking examples ... OK
Examples with CPU (user + system) or elapsed time > 5s
user system elapsed
genFeatures 25.30 0.53 25.90
run_DESeq2 10.28 0.14 10.42
renderLogs 1.72 0.33 10.41
* checking for unstated dependencies in 'tests' ... OK
* checking tests ...
Running 'testthat.R'
OK
* checking for unstated dependencies in vignettes ... OK
* checking package vignettes in 'inst/doc' ... OK
* checking running R code from vignettes ... SKIPPED
* checking re-building of vignette outputs ... SKIPPED
* checking PDF version of manual ... OK
* DONE
Status: 3 NOTEs
See
'F:/biocbuild/bbs-3.16-bioc/meat/systemPipeR.Rcheck/00check.log'
for details.
systemPipeR.Rcheck/00install.out
############################################################################## ############################################################################## ### ### Running command: ### ### F:\biocbuild\bbs-3.16-bioc\R\bin\R.exe CMD INSTALL systemPipeR ### ############################################################################## ############################################################################## * installing to library 'F:/biocbuild/bbs-3.16-bioc/R/library' * installing *source* package 'systemPipeR' ... ** using staged installation ** R ** inst ** byte-compile and prepare package for lazy loading ** help *** installing help indices ** building package indices ** installing vignettes ** testing if installed package can be loaded from temporary location ** testing if installed package can be loaded from final location ** testing if installed package keeps a record of temporary installation path * DONE (systemPipeR)
systemPipeR.Rcheck/tests/testthat.Rout
R version 4.2.3 (2023-03-15 ucrt) -- "Shortstop Beagle"
Copyright (C) 2023 The R Foundation for Statistical Computing
Platform: x86_64-w64-mingw32/x64 (64-bit)
R is free software and comes with ABSOLUTELY NO WARRANTY.
You are welcome to redistribute it under certain conditions.
Type 'license()' or 'licence()' for distribution details.
R is a collaborative project with many contributors.
Type 'contributors()' for more information and
'citation()' on how to cite R or R packages in publications.
Type 'demo()' for some demos, 'help()' for on-line help, or
'help.start()' for an HTML browser interface to help.
Type 'q()' to quit R.
> library(testthat)
> library(systemPipeR)
Loading required package: Rsamtools
Loading required package: GenomeInfoDb
Loading required package: BiocGenerics
Attaching package: 'BiocGenerics'
The following objects are masked from 'package:stats':
IQR, mad, sd, var, xtabs
The following objects are masked from 'package:base':
Filter, Find, Map, Position, Reduce, anyDuplicated, aperm, append,
as.data.frame, basename, cbind, colnames, dirname, do.call,
duplicated, eval, evalq, get, grep, grepl, intersect, is.unsorted,
lapply, mapply, match, mget, order, paste, pmax, pmax.int, pmin,
pmin.int, rank, rbind, rownames, sapply, setdiff, sort, table,
tapply, union, unique, unsplit, which.max, which.min
Loading required package: S4Vectors
Loading required package: stats4
Attaching package: 'S4Vectors'
The following objects are masked from 'package:base':
I, expand.grid, unname
Loading required package: IRanges
Attaching package: 'IRanges'
The following object is masked from 'package:grDevices':
windows
Loading required package: GenomicRanges
Loading required package: Biostrings
Loading required package: XVector
Attaching package: 'Biostrings'
The following object is masked from 'package:base':
strsplit
Loading required package: ShortRead
Loading required package: BiocParallel
Loading required package: GenomicAlignments
Loading required package: SummarizedExperiment
Loading required package: MatrixGenerics
Loading required package: matrixStats
Attaching package: 'MatrixGenerics'
The following objects are masked from 'package:matrixStats':
colAlls, colAnyNAs, colAnys, colAvgsPerRowSet, colCollapse,
colCounts, colCummaxs, colCummins, colCumprods, colCumsums,
colDiffs, colIQRDiffs, colIQRs, colLogSumExps, colMadDiffs,
colMads, colMaxs, colMeans2, colMedians, colMins, colOrderStats,
colProds, colQuantiles, colRanges, colRanks, colSdDiffs, colSds,
colSums2, colTabulates, colVarDiffs, colVars, colWeightedMads,
colWeightedMeans, colWeightedMedians, colWeightedSds,
colWeightedVars, rowAlls, rowAnyNAs, rowAnys, rowAvgsPerColSet,
rowCollapse, rowCounts, rowCummaxs, rowCummins, rowCumprods,
rowCumsums, rowDiffs, rowIQRDiffs, rowIQRs, rowLogSumExps,
rowMadDiffs, rowMads, rowMaxs, rowMeans2, rowMedians, rowMins,
rowOrderStats, rowProds, rowQuantiles, rowRanges, rowRanks,
rowSdDiffs, rowSds, rowSums2, rowTabulates, rowVarDiffs, rowVars,
rowWeightedMads, rowWeightedMeans, rowWeightedMedians,
rowWeightedSds, rowWeightedVars
Loading required package: Biobase
Welcome to Bioconductor
Vignettes contain introductory material; view with
'browseVignettes()'. To cite Bioconductor, see
'citation("Biobase")', and for packages 'citation("pkgname")'.
Attaching package: 'Biobase'
The following object is masked from 'package:MatrixGenerics':
rowMedians
The following objects are masked from 'package:matrixStats':
anyMissing, rowMedians
>
> test_check("systemPipeR")
[1] "Generated F:\\biocbuild\\bbs-3.16-bioc\\tmpdir\\RtmpkVYePR/rnaseq directory. Next run in rnaseq directory, the R code from *.Rmd template interactively. Alternatively, workflows can be exectued with a single command as instructed in the vignette."
[1] "Generated F:\\biocbuild\\bbs-3.16-bioc\\tmpdir\\RtmpkVYePR/rnaseq2 directory. Next run in rnaseq directory, the R code from *.Rmd template interactively. Alternatively, workflows can be exectued with a single command as instructed in the vignette."
[1] "Generated F:\\biocbuild\\bbs-3.16-bioc\\tmpdir\\RtmpkVYePR/newtest directory. Next run in new directory, the R code from *.Rmd template interactively. Alternatively, workflows can be exectued with a single command as instructed in the vignette."
Creating directory 'F:\biocbuild\bbs-3.16-bioc\tmpdir\RtmpkVYePR\newtest/.SPRproject'
Creating file 'F:\biocbuild\bbs-3.16-bioc\tmpdir\RtmpkVYePR\newtest/.SPRproject/SYSargsList.yml'
Reading Rmd file
Now importing step 'load_library'
Now importing step 'export_iris'
Now importing step 'gzip'
Now importing step 'gunzip'
Now importing step 'stats'
Now back up current Rmd file as template for `renderReport`
Template for renderReport is stored at
F:\biocbuild\bbs-3.16-bioc\tmpdir\RtmpkVYePR\newtest/.SPRproject/workflow_template.Rmd
Edit this file manually is not recommended
import done
Instance of 'LineWise'
Code Chunk length: 1
mapply(function(x, y) write.csv(x, y), split(iris, factor(iris$Species)), file.path("results", paste0(names(split(iris, factor(iris$Species))), ".csv")))
load_library
5 + 5
load_library
5 + 5
66 + 55
Running Step: load_library
Running Session: Management
|
| | 0%
|
|======================================================================| 100%
Step Status: Success
Running Step: export_iris
Running Session: Management
|
| | 0%
|
|======================================================================| 100%
Step Status: Success
Skipping Step: gzip
Skipping Step: gunzip
Skipping Step: stats
Done with workflow running, now consider rendering logs & reports
To render logs, run: sal <- renderLogs(sal)
From command-line: Rscript -e "sal = systemPipeR::SPRproject(resume = TRUE); sal = systemPipeR::renderLogs(sal)"
To render reports, run: sal <- renderReport(sal)
From command-line: Rscript -e "sal= s ystemPipeR::SPRproject(resume = TRUE); sal = systemPipeR::renderReport(sal)"
This message is displayed once per R session
[ FAIL 0 | WARN 0 | SKIP 11 | PASS 26 ]
══ Skipped tests ═══════════════════════════════════════════════════════════════
• On Bioconductor (10)
• On Windows (1)
[ FAIL 0 | WARN 0 | SKIP 11 | PASS 26 ]
>
> proc.time()
user system elapsed
11.73 2.57 19.04
systemPipeR.Rcheck/systemPipeR-Ex.timings
| name | user | system | elapsed | |
| EnvModules-class | 0 | 0 | 0 | |
| GOHyperGAll | 0 | 0 | 0 | |
| INTERSECTset-class | 0.02 | 0.00 | 0.01 | |
| LineWise-class | 0.23 | 0.00 | 0.30 | |
| ParamFiles | 0.13 | 0.00 | 0.12 | |
| ParamFiles2 | 0.12 | 0.00 | 0.13 | |
| SPRproject | 0.02 | 0.00 | 0.02 | |
| SYSargs-class | 0.03 | 0.00 | 0.03 | |
| SYSargs2-class | 0.08 | 0.00 | 0.12 | |
| SYSargsList-class | 0.58 | 0.06 | 0.64 | |
| SYSargsList | 0.08 | 0.02 | 0.09 | |
| VENNset-class | 0.00 | 0.01 | 0.02 | |
| alignStats | 1.91 | 0.18 | 2.09 | |
| catDB-class | 0 | 0 | 0 | |
| catmap | 0 | 0 | 0 | |
| check.output | 1.00 | 0.01 | 1.02 | |
| clusterRun | 1.39 | 0.00 | 1.39 | |
| config.param | 0 | 0 | 0 | |
| configWF | 0 | 0 | 0 | |
| countRangeset | 0.06 | 0.00 | 0.06 | |
| createParamFiles | 0.13 | 0.00 | 0.12 | |
| cwlFilesUpdate | 0 | 0 | 0 | |
| evalCode | 0.04 | 0.00 | 0.08 | |
| featureCoverage | 1.02 | 0.02 | 1.03 | |
| featuretypeCounts | 0.86 | 0.01 | 0.88 | |
| filterDEGs | 1.75 | 0.05 | 1.80 | |
| filterVars | 0.00 | 0.00 | 0.01 | |
| genFeatures | 25.30 | 0.53 | 25.90 | |
| importWF | 0.06 | 0.00 | 0.06 | |
| loadWorkflow | 3.08 | 0.13 | 3.20 | |
| mergeBamByFactor | 0.02 | 0.00 | 0.02 | |
| moduleload | 0 | 0 | 0 | |
| olBarplot | 0.39 | 0.00 | 0.39 | |
| olRanges | 0.09 | 0.00 | 0.09 | |
| output_update | 1.16 | 0.01 | 1.17 | |
| overLapper | 0.31 | 0.02 | 0.33 | |
| plotfeatureCoverage | 1.03 | 0.01 | 1.05 | |
| plotfeaturetypeCounts | 0.86 | 0.00 | 0.86 | |
| predORF | 0.25 | 0.00 | 0.26 | |
| preprocessReads | 0.61 | 0.03 | 0.66 | |
| readComp | 0.86 | 0.02 | 0.87 | |
| renderLogs | 1.72 | 0.33 | 10.41 | |
| renderReport | 1.48 | 0.19 | 2.80 | |
| returnRPKM | 0 | 0 | 0 | |
| runCommandline | 0.99 | 0.00 | 0.98 | |
| runDiff | 0.23 | 0.00 | 0.24 | |
| runWF | 0.05 | 0.04 | 0.09 | |
| run_DESeq2 | 10.28 | 0.14 | 10.42 | |
| run_edgeR | 1.33 | 0.02 | 1.34 | |
| sal2bash | 0.47 | 0.01 | 0.50 | |
| sal2rmd | 0.47 | 0.02 | 0.49 | |
| scaleRanges | 0.35 | 0.00 | 0.36 | |
| seeFastq | 0 | 0 | 0 | |
| showDF | 0.04 | 0.05 | 0.09 | |
| subsetWF | 0.89 | 0.06 | 0.95 | |
| symLink2bam | 1.13 | 0.00 | 1.13 | |
| sysargs | 0.03 | 0.00 | 0.03 | |
| systemArgs | 0.01 | 0.00 | 0.01 | |
| targets.as.df | 0.00 | 0.02 | 0.02 | |
| trimbatch | 0.22 | 0.00 | 0.22 | |
| tryCMD | 0 | 0 | 0 | |
| tryPath | 0 | 0 | 0 | |
| variantReport | 0.02 | 0.00 | 0.01 | |
| vennPlot | 0.40 | 0.01 | 0.42 | |
| writeTargets | 0.11 | 0.03 | 0.15 | |
| writeTargetsRef | 0 | 0 | 0 | |
| writeTargetsout | 1.66 | 0.08 | 1.74 | |
| write_SYSargsList | 0.13 | 0.00 | 0.12 | |