| Back to Multiple platform build/check report for BioC 3.16: simplified long |
|
This page was generated on 2023-04-12 11:05:21 -0400 (Wed, 12 Apr 2023).
| Hostname | OS | Arch (*) | R version | Installed pkgs |
|---|---|---|---|---|
| nebbiolo2 | Linux (Ubuntu 20.04.5 LTS) | x86_64 | 4.2.3 (2023-03-15) -- "Shortstop Beagle" | 4502 |
| palomino4 | Windows Server 2022 Datacenter | x64 | 4.2.3 (2023-03-15 ucrt) -- "Shortstop Beagle" | 4282 |
| lconway | macOS 12.5.1 Monterey | x86_64 | 4.2.3 (2023-03-15) -- "Shortstop Beagle" | 4310 |
| Click on any hostname to see more info about the system (e.g. compilers) (*) as reported by 'uname -p', except on Windows and Mac OS X | ||||
|
To the developers/maintainers of the systemPipeR package: - Please allow up to 24 hours (and sometimes 48 hours) for your latest push to git@git.bioconductor.org:packages/systemPipeR.git to reflect on this report. See How and When does the builder pull? When will my changes propagate? for more information. - Make sure to use the following settings in order to reproduce any error or warning you see on this page. |
| Package 2014/2183 | Hostname | OS / Arch | INSTALL | BUILD | CHECK | BUILD BIN | ||||||||
| systemPipeR 2.4.0 (landing page) Thomas Girke
| nebbiolo2 | Linux (Ubuntu 20.04.5 LTS) / x86_64 | OK | OK | OK | |||||||||
| palomino4 | Windows Server 2022 Datacenter / x64 | OK | OK | OK | OK | |||||||||
| lconway | macOS 12.5.1 Monterey / x86_64 | OK | OK | OK | OK | |||||||||
| Package: systemPipeR |
| Version: 2.4.0 |
| Command: /home/biocbuild/bbs-3.16-bioc/R/bin/R CMD check --install=check:systemPipeR.install-out.txt --library=/home/biocbuild/bbs-3.16-bioc/R/site-library --timings systemPipeR_2.4.0.tar.gz |
| StartedAt: 2023-04-11 00:28:09 -0400 (Tue, 11 Apr 2023) |
| EndedAt: 2023-04-11 00:34:00 -0400 (Tue, 11 Apr 2023) |
| EllapsedTime: 351.3 seconds |
| RetCode: 0 |
| Status: OK |
| CheckDir: systemPipeR.Rcheck |
| Warnings: 0 |
##############################################################################
##############################################################################
###
### Running command:
###
### /home/biocbuild/bbs-3.16-bioc/R/bin/R CMD check --install=check:systemPipeR.install-out.txt --library=/home/biocbuild/bbs-3.16-bioc/R/site-library --timings systemPipeR_2.4.0.tar.gz
###
##############################################################################
##############################################################################
* using log directory ‘/home/biocbuild/bbs-3.16-bioc/meat/systemPipeR.Rcheck’
* using R version 4.2.3 (2023-03-15)
* using platform: x86_64-pc-linux-gnu (64-bit)
* using session charset: UTF-8
* checking for file ‘systemPipeR/DESCRIPTION’ ... OK
* checking extension type ... Package
* this is package ‘systemPipeR’ version ‘2.4.0’
* checking package namespace information ... OK
* checking package dependencies ... OK
* checking if this is a source package ... OK
* checking if there is a namespace ... OK
* checking for hidden files and directories ... NOTE
Found the following hidden files and directories:
inst/extdata/.batchtools.conf.R
inst/extdata/.batchtools.conf.R.sge
inst/extdata/.batchtools.conf.R.torque
These were most likely included in error. See section ‘Package
structure’ in the ‘Writing R Extensions’ manual.
* checking for portable file names ... OK
* checking for sufficient/correct file permissions ... OK
* checking whether package ‘systemPipeR’ can be installed ... OK
* checking installed package size ... NOTE
installed size is 6.9Mb
sub-directories of 1Mb or more:
R 1.6Mb
extdata 2.9Mb
htmlwidgets 2.0Mb
* checking package directory ... OK
* checking ‘build’ directory ... OK
* checking DESCRIPTION meta-information ... OK
* checking top-level files ... OK
* checking for left-over files ... OK
* checking index information ... OK
* checking package subdirectories ... OK
* checking R files for non-ASCII characters ... OK
* checking R files for syntax errors ... OK
* checking whether the package can be loaded ... OK
* checking whether the package can be loaded with stated dependencies ... OK
* checking whether the package can be unloaded cleanly ... OK
* checking whether the namespace can be loaded with stated dependencies ... OK
* checking whether the namespace can be unloaded cleanly ... OK
* checking loading without being on the library search path ... OK
* checking dependencies in R code ... OK
* checking S3 generic/method consistency ... OK
* checking replacement functions ... OK
* checking foreign function calls ... OK
* checking R code for possible problems ... NOTE
.cmd2cwl2: no visible global function definition for ‘ave’
.getPreprotext: no visible binding for global variable ‘.’
Undefined global functions or variables:
. ave
Consider adding
importFrom("stats", "ave")
to your NAMESPACE file.
* checking Rd files ... OK
* checking Rd metadata ... OK
* checking Rd cross-references ... OK
* checking for missing documentation entries ... OK
* checking for code/documentation mismatches ... OK
* checking Rd \usage sections ... OK
* checking Rd contents ... OK
* checking for unstated dependencies in examples ... OK
* checking line endings in Makefiles ... OK
* checking for GNU extensions in Makefiles ... OK
* checking include directives in Makefiles ... OK
* checking files in ‘vignettes’ ... OK
* checking examples ... OK
Examples with CPU (user + system) or elapsed time > 5s
user system elapsed
genFeatures 23.653 0.671 24.325
run_DESeq2 9.696 0.040 9.736
loadWorkflow 4.986 0.068 5.055
* checking for unstated dependencies in ‘tests’ ... OK
* checking tests ...
Running ‘testthat.R’
OK
* checking for unstated dependencies in vignettes ... OK
* checking package vignettes in ‘inst/doc’ ... OK
* checking running R code from vignettes ...
‘systemPipeR.Rmd’ using ‘UTF-8’... OK
‘systemPipeR_workflows.Rmd’ using ‘UTF-8’... OK
NONE
* checking re-building of vignette outputs ... OK
* checking PDF version of manual ... OK
* DONE
Status: 3 NOTEs
See
‘/home/biocbuild/bbs-3.16-bioc/meat/systemPipeR.Rcheck/00check.log’
for details.
systemPipeR.Rcheck/00install.out
############################################################################## ############################################################################## ### ### Running command: ### ### /home/biocbuild/bbs-3.16-bioc/R/bin/R CMD INSTALL systemPipeR ### ############################################################################## ############################################################################## * installing to library ‘/home/biocbuild/bbs-3.16-bioc/R/site-library’ * installing *source* package ‘systemPipeR’ ... ** using staged installation ** R ** inst ** byte-compile and prepare package for lazy loading ** help *** installing help indices ** building package indices ** installing vignettes ** testing if installed package can be loaded from temporary location ** testing if installed package can be loaded from final location ** testing if installed package keeps a record of temporary installation path * DONE (systemPipeR)
systemPipeR.Rcheck/tests/testthat.Rout
R version 4.2.3 (2023-03-15) -- "Shortstop Beagle"
Copyright (C) 2023 The R Foundation for Statistical Computing
Platform: x86_64-pc-linux-gnu (64-bit)
R is free software and comes with ABSOLUTELY NO WARRANTY.
You are welcome to redistribute it under certain conditions.
Type 'license()' or 'licence()' for distribution details.
R is a collaborative project with many contributors.
Type 'contributors()' for more information and
'citation()' on how to cite R or R packages in publications.
Type 'demo()' for some demos, 'help()' for on-line help, or
'help.start()' for an HTML browser interface to help.
Type 'q()' to quit R.
> library(testthat)
> library(systemPipeR)
Loading required package: Rsamtools
Loading required package: GenomeInfoDb
Loading required package: BiocGenerics
Attaching package: 'BiocGenerics'
The following objects are masked from 'package:stats':
IQR, mad, sd, var, xtabs
The following objects are masked from 'package:base':
Filter, Find, Map, Position, Reduce, anyDuplicated, aperm, append,
as.data.frame, basename, cbind, colnames, dirname, do.call,
duplicated, eval, evalq, get, grep, grepl, intersect, is.unsorted,
lapply, mapply, match, mget, order, paste, pmax, pmax.int, pmin,
pmin.int, rank, rbind, rownames, sapply, setdiff, sort, table,
tapply, union, unique, unsplit, which.max, which.min
Loading required package: S4Vectors
Loading required package: stats4
Attaching package: 'S4Vectors'
The following objects are masked from 'package:base':
I, expand.grid, unname
Loading required package: IRanges
Loading required package: GenomicRanges
Loading required package: Biostrings
Loading required package: XVector
Attaching package: 'Biostrings'
The following object is masked from 'package:base':
strsplit
Loading required package: ShortRead
Loading required package: BiocParallel
Loading required package: GenomicAlignments
Loading required package: SummarizedExperiment
Loading required package: MatrixGenerics
Loading required package: matrixStats
Attaching package: 'MatrixGenerics'
The following objects are masked from 'package:matrixStats':
colAlls, colAnyNAs, colAnys, colAvgsPerRowSet, colCollapse,
colCounts, colCummaxs, colCummins, colCumprods, colCumsums,
colDiffs, colIQRDiffs, colIQRs, colLogSumExps, colMadDiffs,
colMads, colMaxs, colMeans2, colMedians, colMins, colOrderStats,
colProds, colQuantiles, colRanges, colRanks, colSdDiffs, colSds,
colSums2, colTabulates, colVarDiffs, colVars, colWeightedMads,
colWeightedMeans, colWeightedMedians, colWeightedSds,
colWeightedVars, rowAlls, rowAnyNAs, rowAnys, rowAvgsPerColSet,
rowCollapse, rowCounts, rowCummaxs, rowCummins, rowCumprods,
rowCumsums, rowDiffs, rowIQRDiffs, rowIQRs, rowLogSumExps,
rowMadDiffs, rowMads, rowMaxs, rowMeans2, rowMedians, rowMins,
rowOrderStats, rowProds, rowQuantiles, rowRanges, rowRanks,
rowSdDiffs, rowSds, rowSums2, rowTabulates, rowVarDiffs, rowVars,
rowWeightedMads, rowWeightedMeans, rowWeightedMedians,
rowWeightedSds, rowWeightedVars
Loading required package: Biobase
Welcome to Bioconductor
Vignettes contain introductory material; view with
'browseVignettes()'. To cite Bioconductor, see
'citation("Biobase")', and for packages 'citation("pkgname")'.
Attaching package: 'Biobase'
The following object is masked from 'package:MatrixGenerics':
rowMedians
The following objects are masked from 'package:matrixStats':
anyMissing, rowMedians
>
> test_check("systemPipeR")
[1] "Generated /tmp/RtmpBPfp8m/rnaseq directory. Next run in rnaseq directory, the R code from *.Rmd template interactively. Alternatively, workflows can be exectued with a single command as instructed in the vignette."
[1] "Generated /tmp/RtmpBPfp8m/rnaseq2 directory. Next run in rnaseq directory, the R code from *.Rmd template interactively. Alternatively, workflows can be exectued with a single command as instructed in the vignette."
Creating directory '/tmp/RtmpBPfp8m/rnaseq2/.SPRproject'
Creating file '/tmp/RtmpBPfp8m/rnaseq2/.SPRproject/SYSargsList.yml'
Running Step: example
Running Session: Management
|
| | 0%
|
|======================= | 33%
|
|=============================================== | 67%
|
|======================================================================| 100%
---- Summary ----
Targets Total_Files Existing_Files Missing_Files example
M1 M1 1 1 0 Success
M2 M2 1 1 0 Success
M3 M3 1 1 0 Success
Step Status: Success
Done with workflow running, now consider rendering logs & reports
To render logs, run: sal <- renderLogs(sal)
From command-line: Rscript -e "sal = systemPipeR::SPRproject(resume = TRUE); sal = systemPipeR::renderLogs(sal)"
To render reports, run: sal <- renderReport(sal)
From command-line: Rscript -e "sal= s ystemPipeR::SPRproject(resume = TRUE); sal = systemPipeR::renderReport(sal)"
This message is displayed once per R session
Running Step: newStep
Running Session: Management
|
| | 0%
|
|======================= | 33%
|
|=============================================== | 67%
|
|======================================================================| 100%
---- Summary ----
Targets Total_Files Existing_Files Missing_Files example
M1 M1 1 1 0 Success
M2 M2 1 1 0 Success
M3 M3 1 1 0 Success
Step Status: Success
Running Step: R_code
Running Session: Management
|
| | 0%
|
|======================================================================| 100%
Step Status: Warning
[1] "Generated /tmp/RtmpBPfp8m/newtest directory. Next run in new directory, the R code from *.Rmd template interactively. Alternatively, workflows can be exectued with a single command as instructed in the vignette."
Creating directory '/tmp/RtmpBPfp8m/newtest/.SPRproject'
Creating file '/tmp/RtmpBPfp8m/newtest/.SPRproject/SYSargsList.yml'
Reading Rmd file
Now importing step 'load_library'
Now importing step 'export_iris'
Now importing step 'gzip'
Now importing step 'gunzip'
Now importing step 'stats'
Now back up current Rmd file as template for `renderReport`
Template for renderReport is stored at
/tmp/RtmpBPfp8m/newtest/.SPRproject/workflow_template.Rmd
Edit this file manually is not recommended
import done
Instance of 'LineWise'
Code Chunk length: 1
mapply(function(x, y) write.csv(x, y), split(iris, factor(iris$Species)), file.path("results", paste0(names(split(iris, factor(iris$Species))), ".csv")))
load_library
5 + 5
load_library
5 + 5
66 + 55
Running Step: load_library
Running Session: Management
|
| | 0%
|
|======================================================================| 100%
Step Status: Success
Running Step: export_iris
Running Session: Management
|
| | 0%
|
|======================================================================| 100%
Step Status: Success
Skipping Step: gzip
Skipping Step: gunzip
Skipping Step: stats
[ FAIL 0 | WARN 0 | SKIP 10 | PASS 47 ]
══ Skipped tests ═══════════════════════════════════════════════════════════════
• On Bioconductor (10)
[ FAIL 0 | WARN 0 | SKIP 10 | PASS 47 ]
>
> proc.time()
user system elapsed
11.491 1.373 13.068
systemPipeR.Rcheck/systemPipeR-Ex.timings
| name | user | system | elapsed | |
| EnvModules-class | 0.001 | 0.000 | 0.001 | |
| GOHyperGAll | 0 | 0 | 0 | |
| INTERSECTset-class | 0.005 | 0.001 | 0.007 | |
| LineWise-class | 0.140 | 0.002 | 0.142 | |
| ParamFiles | 0.069 | 0.000 | 0.070 | |
| ParamFiles2 | 0.119 | 0.000 | 0.119 | |
| SPRproject | 0.004 | 0.000 | 0.003 | |
| SYSargs-class | 0.013 | 0.004 | 0.017 | |
| SYSargs2-class | 0.048 | 0.008 | 0.057 | |
| SYSargsList-class | 0.408 | 0.012 | 0.419 | |
| SYSargsList | 0.071 | 0.003 | 0.074 | |
| VENNset-class | 0.005 | 0.000 | 0.005 | |
| alignStats | 0.918 | 0.012 | 0.930 | |
| catDB-class | 0.001 | 0.000 | 0.000 | |
| catmap | 0 | 0 | 0 | |
| check.output | 0.976 | 0.003 | 0.981 | |
| clusterRun | 0.937 | 0.001 | 0.938 | |
| config.param | 0 | 0 | 0 | |
| configWF | 0 | 0 | 0 | |
| countRangeset | 0.065 | 0.000 | 0.065 | |
| createParamFiles | 0.126 | 0.000 | 0.126 | |
| cwlFilesUpdate | 0 | 0 | 0 | |
| evalCode | 0.043 | 0.000 | 0.044 | |
| featureCoverage | 0.954 | 0.004 | 0.959 | |
| featuretypeCounts | 0.927 | 0.000 | 0.928 | |
| filterDEGs | 1.350 | 0.012 | 1.363 | |
| filterVars | 0.006 | 0.000 | 0.007 | |
| genFeatures | 23.653 | 0.671 | 24.325 | |
| importWF | 0.032 | 0.000 | 0.033 | |
| loadWorkflow | 4.986 | 0.068 | 5.055 | |
| mergeBamByFactor | 0.006 | 0.000 | 0.007 | |
| moduleload | 0 | 0 | 0 | |
| olBarplot | 0.382 | 0.004 | 0.386 | |
| olRanges | 0.24 | 0.00 | 0.24 | |
| output_update | 0.894 | 0.000 | 0.895 | |
| overLapper | 0.306 | 0.004 | 0.312 | |
| plotfeatureCoverage | 1.032 | 0.000 | 1.032 | |
| plotfeaturetypeCounts | 1.07 | 0.00 | 1.07 | |
| predORF | 0.166 | 0.000 | 0.166 | |
| preprocessReads | 0.339 | 0.000 | 0.339 | |
| readComp | 1.074 | 0.000 | 1.073 | |
| renderLogs | 3.012 | 0.493 | 3.513 | |
| renderReport | 1.183 | 0.065 | 1.252 | |
| returnRPKM | 0 | 0 | 0 | |
| runCommandline | 1.077 | 0.012 | 1.089 | |
| runDiff | 0.031 | 0.000 | 0.031 | |
| runWF | 0.076 | 0.000 | 0.075 | |
| run_DESeq2 | 9.696 | 0.040 | 9.736 | |
| run_edgeR | 1.173 | 0.003 | 1.177 | |
| sal2bash | 0.383 | 0.004 | 0.386 | |
| sal2rmd | 0.395 | 0.009 | 0.403 | |
| scaleRanges | 0.155 | 0.000 | 0.155 | |
| seeFastq | 0 | 0 | 0 | |
| showDF | 0.038 | 0.004 | 0.043 | |
| subsetWF | 1.037 | 0.000 | 1.038 | |
| symLink2bam | 1.084 | 0.011 | 1.097 | |
| sysargs | 0.007 | 0.000 | 0.007 | |
| systemArgs | 0.007 | 0.000 | 0.007 | |
| targets.as.df | 0.003 | 0.000 | 0.003 | |
| trimbatch | 0.204 | 0.000 | 0.204 | |
| tryCMD | 0.001 | 0.000 | 0.000 | |
| tryPath | 0.001 | 0.000 | 0.001 | |
| variantReport | 0.007 | 0.000 | 0.007 | |
| vennPlot | 0.312 | 0.020 | 0.332 | |
| writeTargets | 0.077 | 0.000 | 0.076 | |
| writeTargetsRef | 0.001 | 0.000 | 0.000 | |
| writeTargetsout | 1.063 | 0.016 | 1.079 | |
| write_SYSargsList | 0.084 | 0.003 | 0.088 | |