| Back to Multiple platform build/check report for BioC 3.16: simplified long |
|
This page was generated on 2023-04-12 11:05:19 -0400 (Wed, 12 Apr 2023).
| Hostname | OS | Arch (*) | R version | Installed pkgs |
|---|---|---|---|---|
| nebbiolo2 | Linux (Ubuntu 20.04.5 LTS) | x86_64 | 4.2.3 (2023-03-15) -- "Shortstop Beagle" | 4502 |
| palomino4 | Windows Server 2022 Datacenter | x64 | 4.2.3 (2023-03-15 ucrt) -- "Shortstop Beagle" | 4282 |
| lconway | macOS 12.5.1 Monterey | x86_64 | 4.2.3 (2023-03-15) -- "Shortstop Beagle" | 4310 |
| Click on any hostname to see more info about the system (e.g. compilers) (*) as reported by 'uname -p', except on Windows and Mac OS X | ||||
|
To the developers/maintainers of the sesame package: - Please allow up to 24 hours (and sometimes 48 hours) for your latest push to git@git.bioconductor.org:packages/sesame.git to reflect on this report. See How and When does the builder pull? When will my changes propagate? for more information. - Make sure to use the following settings in order to reproduce any error or warning you see on this page. |
| Package 1853/2183 | Hostname | OS / Arch | INSTALL | BUILD | CHECK | BUILD BIN | ||||||||
| sesame 1.16.1 (landing page) Wanding Zhou
| nebbiolo2 | Linux (Ubuntu 20.04.5 LTS) / x86_64 | OK | OK | OK | |||||||||
| palomino4 | Windows Server 2022 Datacenter / x64 | OK | OK | OK | OK | |||||||||
| lconway | macOS 12.5.1 Monterey / x86_64 | OK | OK | OK | OK | |||||||||
| Package: sesame |
| Version: 1.16.1 |
| Command: /home/biocbuild/bbs-3.16-bioc/R/bin/R CMD check --install=check:sesame.install-out.txt --library=/home/biocbuild/bbs-3.16-bioc/R/site-library --timings sesame_1.16.1.tar.gz |
| StartedAt: 2023-04-10 23:58:36 -0400 (Mon, 10 Apr 2023) |
| EndedAt: 2023-04-11 00:17:24 -0400 (Tue, 11 Apr 2023) |
| EllapsedTime: 1128.2 seconds |
| RetCode: 0 |
| Status: OK |
| CheckDir: sesame.Rcheck |
| Warnings: 0 |
##############################################################################
##############################################################################
###
### Running command:
###
### /home/biocbuild/bbs-3.16-bioc/R/bin/R CMD check --install=check:sesame.install-out.txt --library=/home/biocbuild/bbs-3.16-bioc/R/site-library --timings sesame_1.16.1.tar.gz
###
##############################################################################
##############################################################################
* using log directory ‘/home/biocbuild/bbs-3.16-bioc/meat/sesame.Rcheck’
* using R version 4.2.3 (2023-03-15)
* using platform: x86_64-pc-linux-gnu (64-bit)
* using session charset: UTF-8
* checking for file ‘sesame/DESCRIPTION’ ... OK
* checking extension type ... Package
* this is package ‘sesame’ version ‘1.16.1’
* package encoding: UTF-8
* checking package namespace information ... OK
* checking package dependencies ... OK
* checking if this is a source package ... OK
* checking if there is a namespace ... OK
* checking for hidden files and directories ... OK
* checking for portable file names ... OK
* checking for sufficient/correct file permissions ... OK
* checking whether package ‘sesame’ can be installed ... OK
* checking installed package size ... OK
* checking package directory ... OK
* checking ‘build’ directory ... OK
* checking DESCRIPTION meta-information ... OK
* checking top-level files ... OK
* checking for left-over files ... OK
* checking index information ... OK
* checking package subdirectories ... OK
* checking R files for non-ASCII characters ... OK
* checking R files for syntax errors ... OK
* checking whether the package can be loaded ... OK
* checking whether the package can be loaded with stated dependencies ... OK
* checking whether the package can be unloaded cleanly ... OK
* checking whether the namespace can be loaded with stated dependencies ... OK
* checking whether the namespace can be unloaded cleanly ... OK
* checking loading without being on the library search path ... OK
* checking dependencies in R code ... OK
* checking S3 generic/method consistency ... OK
* checking replacement functions ... OK
* checking foreign function calls ... OK
* checking R code for possible problems ... OK
* checking Rd files ... OK
* checking Rd metadata ... OK
* checking Rd cross-references ... OK
* checking for missing documentation entries ... OK
* checking for code/documentation mismatches ... OK
* checking Rd \usage sections ... OK
* checking Rd contents ... OK
* checking for unstated dependencies in examples ... OK
* checking files in ‘vignettes’ ... OK
* checking examples ... OK
Examples with CPU (user + system) or elapsed time > 5s
user system elapsed
KYCG_plotEnrichAll 31.667 0.684 34.091
sesameQC_calcStats 23.017 0.168 23.440
sesameQC_plotHeatSNPs 21.677 0.260 22.193
KYCG_plotMeta 20.634 0.232 21.556
inferSpecies 17.031 0.800 18.421
DMR 16.724 0.376 17.781
diffRefSet 14.199 0.288 14.851
sesameQC_plotBetaByDesign 13.780 0.280 14.061
matchDesign 13.528 0.352 14.048
compareMouseStrainReference 13.032 0.176 13.648
KYCG_annoProbes 12.709 0.400 13.704
KYCG_plotMetaEnrichment 12.732 0.204 13.572
sesameQC_plotBar 12.047 0.236 12.796
compareReference 11.787 0.272 12.479
KYCG_buildGeneDBs 11.358 0.355 12.224
testEnrichment 11.068 0.296 12.396
getRefSet 10.710 0.152 11.289
testEnrichmentSEA 10.576 0.180 11.450
sdf_read_table 10.174 0.140 10.651
inferTissue 10.013 0.208 10.815
detectionIB 9.814 0.156 10.140
visualizeGene 9.529 0.268 10.392
getSexInfo 9.547 0.172 10.414
dbStats 8.611 0.304 9.423
DML 7.925 0.408 8.762
inferStrain 7.582 0.356 8.445
createUCSCtrack 7.505 0.200 8.123
estimateLeukocyte 7.164 0.144 7.833
dyeBiasNL 6.717 0.140 7.110
dyeBiasCorrMostBalanced 6.045 0.104 6.678
probeSuccessRate 5.983 0.132 6.895
deidentify 6.043 0.056 6.609
KYCG_plotSetEnrichment 5.836 0.088 6.460
openSesame 5.338 0.152 5.998
reIdentify 5.052 0.040 5.349
bisConversionControl 4.973 0.088 5.480
updateSigDF 4.642 0.152 5.216
* checking for unstated dependencies in ‘tests’ ... OK
* checking tests ...
Running ‘testthat.R’
OK
* checking for unstated dependencies in vignettes ... OK
* checking package vignettes in ‘inst/doc’ ... OK
* checking running R code from vignettes ...
‘KYCG.Rmd’ using ‘UTF-8’... OK
‘QC.Rmd’ using ‘UTF-8’... OK
‘inferences.Rmd’ using ‘UTF-8’... OK
‘modeling.Rmd’ using ‘UTF-8’... OK
‘nonhuman.Rmd’ using ‘UTF-8’... OK
‘sesame.Rmd’ using ‘UTF-8’... OK
NONE
* checking re-building of vignette outputs ... OK
* checking PDF version of manual ... OK
* DONE
Status: OK
sesame.Rcheck/00install.out
############################################################################## ############################################################################## ### ### Running command: ### ### /home/biocbuild/bbs-3.16-bioc/R/bin/R CMD INSTALL sesame ### ############################################################################## ############################################################################## * installing to library ‘/home/biocbuild/bbs-3.16-bioc/R/site-library’ * installing *source* package ‘sesame’ ... ** using staged installation ** R ** inst ** byte-compile and prepare package for lazy loading ** help *** installing help indices ** building package indices ** installing vignettes ** testing if installed package can be loaded from temporary location ** testing if installed package can be loaded from final location ** testing if installed package keeps a record of temporary installation path * DONE (sesame)
sesame.Rcheck/tests/testthat.Rout
R version 4.2.3 (2023-03-15) -- "Shortstop Beagle"
Copyright (C) 2023 The R Foundation for Statistical Computing
Platform: x86_64-pc-linux-gnu (64-bit)
R is free software and comes with ABSOLUTELY NO WARRANTY.
You are welcome to redistribute it under certain conditions.
Type 'license()' or 'licence()' for distribution details.
R is a collaborative project with many contributors.
Type 'contributors()' for more information and
'citation()' on how to cite R or R packages in publications.
Type 'demo()' for some demos, 'help()' for on-line help, or
'help.start()' for an HTML browser interface to help.
Type 'q()' to quit R.
> library(testthat)
> library(sesame)
Loading required package: sesameData
Loading required package: ExperimentHub
Loading required package: BiocGenerics
Attaching package: 'BiocGenerics'
The following objects are masked from 'package:stats':
IQR, mad, sd, var, xtabs
The following objects are masked from 'package:base':
Filter, Find, Map, Position, Reduce, anyDuplicated, aperm, append,
as.data.frame, basename, cbind, colnames, dirname, do.call,
duplicated, eval, evalq, get, grep, grepl, intersect, is.unsorted,
lapply, mapply, match, mget, order, paste, pmax, pmax.int, pmin,
pmin.int, rank, rbind, rownames, sapply, setdiff, sort, table,
tapply, union, unique, unsplit, which.max, which.min
Loading required package: AnnotationHub
Loading required package: BiocFileCache
Loading required package: dbplyr
Loading sesameData.
----------------------------------------------------------
| SEnsible Step-wise Analysis of DNA MEthylation (SeSAMe)
| --------------------------------------------------------
| Please cache auxiliary data by "sesameDataCache()".
| This needs to be done only once per SeSAMe installation.
----------------------------------------------------------
>
> test_check("sesame")
[ FAIL 0 | WARN 0 | SKIP 0 | PASS 1 ]
>
> proc.time()
user system elapsed
21.483 0.963 22.850
sesame.Rcheck/sesame-Ex.timings
| name | user | system | elapsed | |
| BetaValueToMValue | 0.001 | 0.000 | 0.000 | |
| DML | 7.925 | 0.408 | 8.762 | |
| DMLpredict | 1.624 | 0.065 | 1.940 | |
| DMR | 16.724 | 0.376 | 17.781 | |
| KYCG_annoProbes | 12.709 | 0.400 | 13.704 | |
| KYCG_buildGeneDBs | 11.358 | 0.355 | 12.224 | |
| KYCG_getDBs | 3.284 | 0.080 | 3.881 | |
| KYCG_listDBGroups | 0.031 | 0.000 | 0.031 | |
| KYCG_loadDBs | 0.000 | 0.000 | 0.001 | |
| KYCG_plotBar | 0.350 | 0.008 | 0.358 | |
| KYCG_plotDot | 0.243 | 0.008 | 0.251 | |
| KYCG_plotEnrichAll | 31.667 | 0.684 | 34.091 | |
| KYCG_plotLollipop | 0.149 | 0.000 | 0.148 | |
| KYCG_plotManhattan | 1.423 | 0.004 | 1.427 | |
| KYCG_plotMeta | 20.634 | 0.232 | 21.556 | |
| KYCG_plotMetaEnrichment | 12.732 | 0.204 | 13.572 | |
| KYCG_plotPointRange | 4.061 | 0.088 | 4.406 | |
| KYCG_plotSetEnrichment | 5.836 | 0.088 | 6.460 | |
| KYCG_plotVolcano | 0.154 | 0.012 | 0.166 | |
| KYCG_plotWaterfall | 3.416 | 0.072 | 3.656 | |
| MValueToBetaValue | 0 | 0 | 0 | |
| SigDF | 0.405 | 0.016 | 0.680 | |
| addMask | 0.17 | 0.00 | 0.17 | |
| aggregateTestEnrichments | 2.428 | 0.032 | 2.460 | |
| bisConversionControl | 4.973 | 0.088 | 5.480 | |
| calcEffectSize | 1.436 | 0.020 | 1.728 | |
| checkLevels | 4.608 | 0.124 | 4.987 | |
| cnSegmentation | 0.445 | 0.016 | 0.630 | |
| compareMouseStrainReference | 13.032 | 0.176 | 13.648 | |
| compareMouseTissueReference | 0 | 0 | 0 | |
| compareReference | 11.787 | 0.272 | 12.479 | |
| controls | 2.206 | 0.076 | 2.616 | |
| createUCSCtrack | 7.505 | 0.200 | 8.123 | |
| dataFrame2sesameQC | 1.193 | 0.072 | 1.519 | |
| dbStats | 8.611 | 0.304 | 9.423 | |
| deidentify | 6.043 | 0.056 | 6.609 | |
| detectionIB | 9.814 | 0.156 | 10.140 | |
| detectionPnegEcdf | 1.138 | 0.016 | 1.154 | |
| diffRefSet | 14.199 | 0.288 | 14.851 | |
| dmContrasts | 2.465 | 0.104 | 2.840 | |
| dyeBiasCorr | 3.624 | 0.120 | 4.255 | |
| dyeBiasCorrMostBalanced | 6.045 | 0.104 | 6.678 | |
| dyeBiasL | 3.266 | 0.088 | 3.611 | |
| dyeBiasNL | 6.717 | 0.140 | 7.110 | |
| estimateLeukocyte | 7.164 | 0.144 | 7.833 | |
| formatVCF | 3.411 | 0.076 | 3.993 | |
| getAFTypeIbySumAlleles | 1.618 | 0.064 | 2.191 | |
| getAFs | 1.124 | 0.020 | 1.312 | |
| getBetas | 0.985 | 0.032 | 1.272 | |
| getRefSet | 10.710 | 0.152 | 11.289 | |
| getSexInfo | 9.547 | 0.172 | 10.414 | |
| inferEthnicity | 2.477 | 0.056 | 2.785 | |
| inferInfiniumIChannel | 0.428 | 0.120 | 0.548 | |
| inferSex | 4.278 | 0.044 | 4.746 | |
| inferSexKaryotypes | 3.139 | 0.032 | 3.442 | |
| inferSpecies | 17.031 | 0.800 | 18.421 | |
| inferStrain | 7.582 | 0.356 | 8.445 | |
| inferTissue | 10.013 | 0.208 | 10.815 | |
| initFileSet | 1.310 | 0.044 | 1.609 | |
| listAvailableMasks | 1.783 | 0.020 | 2.057 | |
| mapFileSet | 0.033 | 0.000 | 0.033 | |
| mapToMammal40 | 3.341 | 0.072 | 3.838 | |
| matchDesign | 13.528 | 0.352 | 14.048 | |
| meanIntensity | 2.833 | 0.056 | 3.309 | |
| medianTotalIntensity | 0.956 | 0.084 | 1.293 | |
| noMasked | 1.650 | 0.160 | 1.978 | |
| noob | 2.192 | 0.092 | 2.284 | |
| openSesame | 5.338 | 0.152 | 5.998 | |
| openSesameToFile | 1.404 | 0.004 | 1.408 | |
| pOOBAH | 1.291 | 0.016 | 1.307 | |
| palgen | 0.043 | 0.000 | 0.044 | |
| parseGEOsignalMU | 3.483 | 0.060 | 3.711 | |
| predictAge | 2.717 | 0.092 | 2.976 | |
| predictAgeHorvath353 | 0 | 0 | 0 | |
| predictAgeSkinBlood | 0 | 0 | 0 | |
| predictMouseAgeInMonth | 0 | 0 | 0 | |
| prefixMask | 0.455 | 0.004 | 0.459 | |
| prefixMaskButC | 0.143 | 0.000 | 0.144 | |
| prefixMaskButCG | 0.045 | 0.000 | 0.046 | |
| prepSesame | 4.294 | 0.088 | 4.594 | |
| prepSesameList | 0.002 | 0.000 | 0.002 | |
| print.DMLSummary | 4.067 | 0.152 | 4.642 | |
| print.fileSet | 1.442 | 0.036 | 1.646 | |
| probeID_designType | 0.000 | 0.000 | 0.001 | |
| probeSuccessRate | 5.983 | 0.132 | 6.895 | |
| qualityMask | 1.439 | 0.020 | 1.714 | |
| reIdentify | 5.052 | 0.040 | 5.349 | |
| readFileSet | 0.050 | 0.000 | 0.051 | |
| readIDATpair | 0.118 | 0.000 | 0.118 | |
| resetMask | 0.425 | 0.016 | 0.712 | |
| scrub | 2.490 | 0.044 | 2.534 | |
| scrubSoft | 3.839 | 0.056 | 3.895 | |
| sdfPlatform | 0.371 | 0.020 | 0.559 | |
| sdf_read_table | 10.174 | 0.140 | 10.651 | |
| sdf_write_table | 2.583 | 0.056 | 2.991 | |
| searchIDATprefixes | 0.008 | 0.000 | 0.008 | |
| sesame-package | 1.983 | 0.040 | 2.281 | |
| sesameAnno_download | 0 | 0 | 0 | |
| sesameAnno_get | 0.001 | 0.000 | 0.000 | |
| sesameData_getAnno | 0 | 0 | 0 | |
| sesameQC_calcStats | 23.017 | 0.168 | 23.440 | |
| sesameQC_getStats | 1.518 | 0.000 | 1.519 | |
| sesameQC_plotBar | 12.047 | 0.236 | 12.796 | |
| sesameQC_plotBetaByDesign | 13.780 | 0.280 | 14.061 | |
| sesameQC_plotHeatSNPs | 21.677 | 0.260 | 22.193 | |
| sesameQC_plotIntensVsBetas | 2.545 | 0.040 | 2.754 | |
| sesameQC_plotRedGrnQQ | 2.188 | 0.008 | 2.366 | |
| sesameQC_rankStats | 3.730 | 0.092 | 4.349 | |
| setMask | 0.106 | 0.000 | 0.106 | |
| signalMU | 0.918 | 0.028 | 1.107 | |
| sliceFileSet | 0.033 | 0.000 | 0.034 | |
| summaryExtractTest | 2.441 | 0.080 | 2.943 | |
| testEnrichment | 11.068 | 0.296 | 12.396 | |
| testEnrichmentSEA | 10.576 | 0.180 | 11.450 | |
| totalIntensities | 2.992 | 0.080 | 3.495 | |
| updateSigDF | 4.642 | 0.152 | 5.216 | |
| visualizeGene | 9.529 | 0.268 | 10.392 | |
| visualizeProbes | 4.346 | 0.056 | 4.656 | |
| visualizeRegion | 0.596 | 0.004 | 0.600 | |
| visualizeSegments | 2.345 | 0.040 | 2.550 | |