| Back to Multiple platform build/check report for BioC 3.16: simplified long |
|
This page was generated on 2023-04-12 11:06:26 -0400 (Wed, 12 Apr 2023).
| Hostname | OS | Arch (*) | R version | Installed pkgs |
|---|---|---|---|---|
| nebbiolo2 | Linux (Ubuntu 20.04.5 LTS) | x86_64 | 4.2.3 (2023-03-15) -- "Shortstop Beagle" | 4502 |
| palomino4 | Windows Server 2022 Datacenter | x64 | 4.2.3 (2023-03-15 ucrt) -- "Shortstop Beagle" | 4282 |
| lconway | macOS 12.5.1 Monterey | x86_64 | 4.2.3 (2023-03-15) -- "Shortstop Beagle" | 4310 |
| Click on any hostname to see more info about the system (e.g. compilers) (*) as reported by 'uname -p', except on Windows and Mac OS X | ||||
|
To the developers/maintainers of the sesame package: - Please allow up to 24 hours (and sometimes 48 hours) for your latest push to git@git.bioconductor.org:packages/sesame.git to reflect on this report. See How and When does the builder pull? When will my changes propagate? for more information. - Make sure to use the following settings in order to reproduce any error or warning you see on this page. |
| Package 1853/2183 | Hostname | OS / Arch | INSTALL | BUILD | CHECK | BUILD BIN | ||||||||
| sesame 1.16.1 (landing page) Wanding Zhou
| nebbiolo2 | Linux (Ubuntu 20.04.5 LTS) / x86_64 | OK | OK | OK | |||||||||
| palomino4 | Windows Server 2022 Datacenter / x64 | OK | OK | OK | OK | |||||||||
| lconway | macOS 12.5.1 Monterey / x86_64 | OK | OK | OK | OK | |||||||||
| Package: sesame |
| Version: 1.16.1 |
| Command: /Library/Frameworks/R.framework/Resources/bin/R CMD check --install=check:sesame.install-out.txt --library=/Library/Frameworks/R.framework/Resources/library --no-vignettes --timings sesame_1.16.1.tar.gz |
| StartedAt: 2023-04-10 22:39:32 -0400 (Mon, 10 Apr 2023) |
| EndedAt: 2023-04-10 22:51:08 -0400 (Mon, 10 Apr 2023) |
| EllapsedTime: 696.7 seconds |
| RetCode: 0 |
| Status: OK |
| CheckDir: sesame.Rcheck |
| Warnings: 0 |
##############################################################################
##############################################################################
###
### Running command:
###
### /Library/Frameworks/R.framework/Resources/bin/R CMD check --install=check:sesame.install-out.txt --library=/Library/Frameworks/R.framework/Resources/library --no-vignettes --timings sesame_1.16.1.tar.gz
###
##############################################################################
##############################################################################
* using log directory ‘/Users/biocbuild/bbs-3.16-bioc/meat/sesame.Rcheck’
* using R version 4.2.3 (2023-03-15)
* using platform: x86_64-apple-darwin17.0 (64-bit)
* using session charset: UTF-8
* using option ‘--no-vignettes’
* checking for file ‘sesame/DESCRIPTION’ ... OK
* checking extension type ... Package
* this is package ‘sesame’ version ‘1.16.1’
* package encoding: UTF-8
* checking package namespace information ... OK
* checking package dependencies ... OK
* checking if this is a source package ... OK
* checking if there is a namespace ... OK
* checking for hidden files and directories ... OK
* checking for portable file names ... OK
* checking for sufficient/correct file permissions ... OK
* checking whether package ‘sesame’ can be installed ... OK
* checking installed package size ... OK
* checking package directory ... OK
* checking ‘build’ directory ... OK
* checking DESCRIPTION meta-information ... OK
* checking top-level files ... OK
* checking for left-over files ... OK
* checking index information ... OK
* checking package subdirectories ... OK
* checking R files for non-ASCII characters ... OK
* checking R files for syntax errors ... OK
* checking whether the package can be loaded ... OK
* checking whether the package can be loaded with stated dependencies ... OK
* checking whether the package can be unloaded cleanly ... OK
* checking whether the namespace can be loaded with stated dependencies ... OK
* checking whether the namespace can be unloaded cleanly ... OK
* checking dependencies in R code ... OK
* checking S3 generic/method consistency ... OK
* checking replacement functions ... OK
* checking foreign function calls ... OK
* checking R code for possible problems ... OK
* checking Rd files ... OK
* checking Rd metadata ... OK
* checking Rd cross-references ... OK
* checking for missing documentation entries ... OK
* checking for code/documentation mismatches ... OK
* checking Rd \usage sections ... OK
* checking Rd contents ... OK
* checking for unstated dependencies in examples ... OK
* checking files in ‘vignettes’ ... OK
* checking examples ... OK
Examples with CPU (user + system) or elapsed time > 5s
user system elapsed
KYCG_plotEnrichAll 23.692 0.838 25.134
sesameQC_calcStats 20.067 1.956 22.217
sesameQC_plotHeatSNPs 17.682 1.725 19.584
KYCG_plotMeta 14.809 0.674 15.744
inferSpecies 14.543 0.623 15.419
DMR 13.694 0.373 14.307
matchDesign 12.228 0.574 12.929
diffRefSet 11.013 0.431 11.601
sesameQC_plotBar 10.551 0.480 11.214
inferTissue 9.466 1.340 11.055
KYCG_annoProbes 10.209 0.458 11.130
sesameQC_plotBetaByDesign 9.699 0.935 10.655
KYCG_plotMetaEnrichment 9.960 0.478 10.670
compareMouseStrainReference 9.662 0.278 10.103
KYCG_buildGeneDBs 9.548 0.331 10.050
getRefSet 9.380 0.462 10.025
compareReference 9.197 0.522 9.919
testEnrichmentSEA 8.817 0.878 9.954
testEnrichment 8.904 0.729 9.944
detectionIB 8.351 1.103 9.588
visualizeGene 7.887 0.370 8.477
getSexInfo 7.706 0.422 8.359
sdf_read_table 7.519 0.445 8.117
DML 6.896 0.864 7.992
estimateLeukocyte 7.133 0.527 7.819
inferStrain 6.701 0.636 7.526
dbStats 6.608 0.697 7.484
dyeBiasNL 6.561 0.480 7.119
dyeBiasCorrMostBalanced 5.576 0.242 5.964
KYCG_plotSetEnrichment 4.976 0.548 5.700
probeSuccessRate 5.073 0.394 5.706
deidentify 4.963 0.274 5.427
createUCSCtrack 4.991 0.205 5.411
* checking for unstated dependencies in ‘tests’ ... OK
* checking tests ...
Running ‘testthat.R’
OK
* checking for unstated dependencies in vignettes ... OK
* checking package vignettes in ‘inst/doc’ ... OK
* checking running R code from vignettes ... SKIPPED
* checking re-building of vignette outputs ... SKIPPED
* checking PDF version of manual ... OK
* DONE
Status: OK
sesame.Rcheck/00install.out
############################################################################## ############################################################################## ### ### Running command: ### ### /Library/Frameworks/R.framework/Resources/bin/R CMD INSTALL sesame ### ############################################################################## ############################################################################## * installing to library ‘/Library/Frameworks/R.framework/Versions/4.2/Resources/library’ * installing *source* package ‘sesame’ ... ** using staged installation ** R ** inst ** byte-compile and prepare package for lazy loading ** help *** installing help indices ** building package indices ** installing vignettes ** testing if installed package can be loaded from temporary location ** testing if installed package can be loaded from final location ** testing if installed package keeps a record of temporary installation path * DONE (sesame)
sesame.Rcheck/tests/testthat.Rout
R version 4.2.3 (2023-03-15) -- "Shortstop Beagle"
Copyright (C) 2023 The R Foundation for Statistical Computing
Platform: x86_64-apple-darwin17.0 (64-bit)
R is free software and comes with ABSOLUTELY NO WARRANTY.
You are welcome to redistribute it under certain conditions.
Type 'license()' or 'licence()' for distribution details.
R is a collaborative project with many contributors.
Type 'contributors()' for more information and
'citation()' on how to cite R or R packages in publications.
Type 'demo()' for some demos, 'help()' for on-line help, or
'help.start()' for an HTML browser interface to help.
Type 'q()' to quit R.
> library(testthat)
> library(sesame)
Loading required package: sesameData
Loading required package: ExperimentHub
Loading required package: BiocGenerics
Attaching package: 'BiocGenerics'
The following objects are masked from 'package:stats':
IQR, mad, sd, var, xtabs
The following objects are masked from 'package:base':
Filter, Find, Map, Position, Reduce, anyDuplicated, aperm, append,
as.data.frame, basename, cbind, colnames, dirname, do.call,
duplicated, eval, evalq, get, grep, grepl, intersect, is.unsorted,
lapply, mapply, match, mget, order, paste, pmax, pmax.int, pmin,
pmin.int, rank, rbind, rownames, sapply, setdiff, sort, table,
tapply, union, unique, unsplit, which.max, which.min
Loading required package: AnnotationHub
Loading required package: BiocFileCache
Loading required package: dbplyr
Loading sesameData.
----------------------------------------------------------
| SEnsible Step-wise Analysis of DNA MEthylation (SeSAMe)
| --------------------------------------------------------
| Please cache auxiliary data by "sesameDataCache()".
| This needs to be done only once per SeSAMe installation.
----------------------------------------------------------
>
> test_check("sesame")
[ FAIL 0 | WARN 0 | SKIP 0 | PASS 1 ]
>
> proc.time()
user system elapsed
17.395 1.351 19.062
sesame.Rcheck/sesame-Ex.timings
| name | user | system | elapsed | |
| BetaValueToMValue | 0 | 0 | 0 | |
| DML | 6.896 | 0.864 | 7.992 | |
| DMLpredict | 1.074 | 0.088 | 1.230 | |
| DMR | 13.694 | 0.373 | 14.307 | |
| KYCG_annoProbes | 10.209 | 0.458 | 11.130 | |
| KYCG_buildGeneDBs | 9.548 | 0.331 | 10.050 | |
| KYCG_getDBs | 2.610 | 0.167 | 2.916 | |
| KYCG_listDBGroups | 0.024 | 0.000 | 0.024 | |
| KYCG_loadDBs | 0 | 0 | 0 | |
| KYCG_plotBar | 0.306 | 0.008 | 0.315 | |
| KYCG_plotDot | 0.232 | 0.008 | 0.240 | |
| KYCG_plotEnrichAll | 23.692 | 0.838 | 25.134 | |
| KYCG_plotLollipop | 0.488 | 0.055 | 0.545 | |
| KYCG_plotManhattan | 1.262 | 0.144 | 1.410 | |
| KYCG_plotMeta | 14.809 | 0.674 | 15.744 | |
| KYCG_plotMetaEnrichment | 9.960 | 0.478 | 10.670 | |
| KYCG_plotPointRange | 3.074 | 0.198 | 3.355 | |
| KYCG_plotSetEnrichment | 4.976 | 0.548 | 5.700 | |
| KYCG_plotVolcano | 0.135 | 0.002 | 0.137 | |
| KYCG_plotWaterfall | 2.486 | 0.129 | 2.686 | |
| MValueToBetaValue | 0 | 0 | 0 | |
| SigDF | 0.205 | 0.027 | 0.296 | |
| addMask | 0.072 | 0.001 | 0.073 | |
| aggregateTestEnrichments | 2.233 | 0.241 | 2.482 | |
| bisConversionControl | 4.041 | 0.164 | 4.366 | |
| calcEffectSize | 0.995 | 0.089 | 1.160 | |
| checkLevels | 2.781 | 0.240 | 3.097 | |
| cnSegmentation | 0.216 | 0.033 | 0.379 | |
| compareMouseStrainReference | 9.662 | 0.278 | 10.103 | |
| compareMouseTissueReference | 0.000 | 0.000 | 0.001 | |
| compareReference | 9.197 | 0.522 | 9.919 | |
| controls | 1.650 | 0.137 | 1.923 | |
| createUCSCtrack | 4.991 | 0.205 | 5.411 | |
| dataFrame2sesameQC | 0.956 | 0.098 | 1.126 | |
| dbStats | 6.608 | 0.697 | 7.484 | |
| deidentify | 4.963 | 0.274 | 5.427 | |
| detectionIB | 8.351 | 1.103 | 9.588 | |
| detectionPnegEcdf | 1.129 | 0.106 | 1.237 | |
| diffRefSet | 11.013 | 0.431 | 11.601 | |
| dmContrasts | 1.780 | 0.275 | 2.168 | |
| dyeBiasCorr | 2.555 | 0.152 | 2.867 | |
| dyeBiasCorrMostBalanced | 5.576 | 0.242 | 5.964 | |
| dyeBiasL | 2.648 | 0.146 | 2.868 | |
| dyeBiasNL | 6.561 | 0.480 | 7.119 | |
| estimateLeukocyte | 7.133 | 0.527 | 7.819 | |
| formatVCF | 3.120 | 0.301 | 3.625 | |
| getAFTypeIbySumAlleles | 1.342 | 0.144 | 1.631 | |
| getAFs | 1.022 | 0.095 | 1.193 | |
| getBetas | 0.836 | 0.114 | 1.022 | |
| getRefSet | 9.380 | 0.462 | 10.025 | |
| getSexInfo | 7.706 | 0.422 | 8.359 | |
| inferEthnicity | 2.197 | 0.241 | 2.509 | |
| inferInfiniumIChannel | 0.477 | 0.465 | 0.950 | |
| inferSex | 4.014 | 0.369 | 4.571 | |
| inferSexKaryotypes | 3.000 | 0.302 | 3.385 | |
| inferSpecies | 14.543 | 0.623 | 15.419 | |
| inferStrain | 6.701 | 0.636 | 7.526 | |
| inferTissue | 9.466 | 1.340 | 11.055 | |
| initFileSet | 1.009 | 0.164 | 1.246 | |
| listAvailableMasks | 1.517 | 0.104 | 1.696 | |
| mapFileSet | 0.033 | 0.008 | 0.042 | |
| mapToMammal40 | 2.921 | 0.219 | 3.334 | |
| matchDesign | 12.228 | 0.574 | 12.929 | |
| meanIntensity | 2.252 | 0.438 | 2.838 | |
| medianTotalIntensity | 0.786 | 0.054 | 0.913 | |
| noMasked | 1.504 | 0.056 | 1.632 | |
| noob | 2.025 | 0.328 | 2.363 | |
| openSesame | 3.127 | 0.213 | 3.497 | |
| openSesameToFile | 1.450 | 0.318 | 1.778 | |
| pOOBAH | 1.296 | 0.014 | 1.315 | |
| palgen | 0.041 | 0.006 | 0.049 | |
| parseGEOsignalMU | 2.558 | 0.132 | 2.773 | |
| predictAge | 2.241 | 0.441 | 2.767 | |
| predictAgeHorvath353 | 0.000 | 0.001 | 0.000 | |
| predictAgeSkinBlood | 0 | 0 | 0 | |
| predictMouseAgeInMonth | 0.000 | 0.001 | 0.000 | |
| prefixMask | 0.523 | 0.011 | 0.544 | |
| prefixMaskButC | 0.138 | 0.001 | 0.140 | |
| prefixMaskButCG | 0.066 | 0.000 | 0.066 | |
| prepSesame | 3.015 | 0.100 | 3.197 | |
| prepSesameList | 0.001 | 0.000 | 0.001 | |
| print.DMLSummary | 2.552 | 0.710 | 3.517 | |
| print.fileSet | 0.992 | 0.175 | 1.242 | |
| probeID_designType | 0 | 0 | 0 | |
| probeSuccessRate | 5.073 | 0.394 | 5.706 | |
| qualityMask | 1.005 | 0.049 | 1.130 | |
| reIdentify | 4.557 | 0.247 | 4.886 | |
| readFileSet | 0.056 | 0.007 | 0.064 | |
| readIDATpair | 0.127 | 0.002 | 0.129 | |
| resetMask | 0.334 | 0.032 | 0.432 | |
| scrub | 2.172 | 0.384 | 2.565 | |
| scrubSoft | 3.098 | 0.508 | 3.615 | |
| sdfPlatform | 0.243 | 0.049 | 0.360 | |
| sdf_read_table | 7.519 | 0.445 | 8.117 | |
| sdf_write_table | 2.160 | 0.165 | 2.422 | |
| searchIDATprefixes | 0.003 | 0.002 | 0.007 | |
| sesame-package | 1.551 | 0.179 | 1.814 | |
| sesameAnno_download | 0 | 0 | 0 | |
| sesameAnno_get | 0 | 0 | 0 | |
| sesameData_getAnno | 0 | 0 | 0 | |
| sesameQC_calcStats | 20.067 | 1.956 | 22.217 | |
| sesameQC_getStats | 1.636 | 0.004 | 1.643 | |
| sesameQC_plotBar | 10.551 | 0.480 | 11.214 | |
| sesameQC_plotBetaByDesign | 9.699 | 0.935 | 10.655 | |
| sesameQC_plotHeatSNPs | 17.682 | 1.725 | 19.584 | |
| sesameQC_plotIntensVsBetas | 1.668 | 0.249 | 1.988 | |
| sesameQC_plotRedGrnQQ | 0.921 | 0.111 | 1.102 | |
| sesameQC_rankStats | 3.111 | 0.394 | 3.704 | |
| setMask | 0.093 | 0.001 | 0.094 | |
| signalMU | 0.687 | 0.038 | 1.003 | |
| sliceFileSet | 0.039 | 0.002 | 0.041 | |
| summaryExtractTest | 2.192 | 0.695 | 3.037 | |
| testEnrichment | 8.904 | 0.729 | 9.944 | |
| testEnrichmentSEA | 8.817 | 0.878 | 9.954 | |
| totalIntensities | 2.575 | 0.233 | 2.954 | |
| updateSigDF | 3.238 | 0.366 | 3.760 | |
| visualizeGene | 7.887 | 0.370 | 8.477 | |
| visualizeProbes | 3.511 | 0.105 | 3.700 | |
| visualizeRegion | 0.303 | 0.002 | 0.306 | |
| visualizeSegments | 2.378 | 0.402 | 2.853 | |