| Back to Multiple platform build/check report for BioC 3.16: simplified long |
|
This page was generated on 2023-04-12 11:05:19 -0400 (Wed, 12 Apr 2023).
| Hostname | OS | Arch (*) | R version | Installed pkgs |
|---|---|---|---|---|
| nebbiolo2 | Linux (Ubuntu 20.04.5 LTS) | x86_64 | 4.2.3 (2023-03-15) -- "Shortstop Beagle" | 4502 |
| palomino4 | Windows Server 2022 Datacenter | x64 | 4.2.3 (2023-03-15 ucrt) -- "Shortstop Beagle" | 4282 |
| lconway | macOS 12.5.1 Monterey | x86_64 | 4.2.3 (2023-03-15) -- "Shortstop Beagle" | 4310 |
| Click on any hostname to see more info about the system (e.g. compilers) (*) as reported by 'uname -p', except on Windows and Mac OS X | ||||
|
To the developers/maintainers of the seqsetvis package: - Please allow up to 24 hours (and sometimes 48 hours) for your latest push to git@git.bioconductor.org:packages/seqsetvis.git to reflect on this report. See How and When does the builder pull? When will my changes propagate? for more information. - Make sure to use the following settings in order to reproduce any error or warning you see on this page. |
| Package 1849/2183 | Hostname | OS / Arch | INSTALL | BUILD | CHECK | BUILD BIN | ||||||||
| seqsetvis 1.18.1 (landing page) Joseph R Boyd
| nebbiolo2 | Linux (Ubuntu 20.04.5 LTS) / x86_64 | OK | OK | OK | |||||||||
| palomino4 | Windows Server 2022 Datacenter / x64 | OK | OK | OK | OK | |||||||||
| lconway | macOS 12.5.1 Monterey / x86_64 | OK | OK | OK | OK | |||||||||
| Package: seqsetvis |
| Version: 1.18.1 |
| Command: /home/biocbuild/bbs-3.16-bioc/R/bin/R CMD check --install=check:seqsetvis.install-out.txt --library=/home/biocbuild/bbs-3.16-bioc/R/site-library --timings seqsetvis_1.18.1.tar.gz |
| StartedAt: 2023-04-10 23:58:11 -0400 (Mon, 10 Apr 2023) |
| EndedAt: 2023-04-11 00:07:54 -0400 (Tue, 11 Apr 2023) |
| EllapsedTime: 582.7 seconds |
| RetCode: 0 |
| Status: OK |
| CheckDir: seqsetvis.Rcheck |
| Warnings: 0 |
##############################################################################
##############################################################################
###
### Running command:
###
### /home/biocbuild/bbs-3.16-bioc/R/bin/R CMD check --install=check:seqsetvis.install-out.txt --library=/home/biocbuild/bbs-3.16-bioc/R/site-library --timings seqsetvis_1.18.1.tar.gz
###
##############################################################################
##############################################################################
* using log directory ‘/home/biocbuild/bbs-3.16-bioc/meat/seqsetvis.Rcheck’
* using R version 4.2.3 (2023-03-15)
* using platform: x86_64-pc-linux-gnu (64-bit)
* using session charset: UTF-8
* checking for file ‘seqsetvis/DESCRIPTION’ ... OK
* checking extension type ... Package
* this is package ‘seqsetvis’ version ‘1.18.1’
* package encoding: UTF-8
* checking package namespace information ... OK
* checking package dependencies ... OK
* checking if this is a source package ... OK
* checking if there is a namespace ... OK
* checking for hidden files and directories ... OK
* checking for portable file names ... OK
* checking for sufficient/correct file permissions ... OK
* checking whether package ‘seqsetvis’ can be installed ... OK
* checking installed package size ... OK
* checking package directory ... OK
* checking ‘build’ directory ... OK
* checking DESCRIPTION meta-information ... OK
* checking top-level files ... OK
* checking for left-over files ... OK
* checking index information ... OK
* checking package subdirectories ... OK
* checking R files for non-ASCII characters ... OK
* checking R files for syntax errors ... OK
* checking whether the package can be loaded ... OK
* checking whether the package can be loaded with stated dependencies ... OK
* checking whether the package can be unloaded cleanly ... OK
* checking whether the namespace can be loaded with stated dependencies ... OK
* checking whether the namespace can be unloaded cleanly ... OK
* checking loading without being on the library search path ... OK
* checking dependencies in R code ... OK
* checking S3 generic/method consistency ... OK
* checking replacement functions ... OK
* checking foreign function calls ... OK
* checking R code for possible problems ... OK
* checking Rd files ... OK
* checking Rd metadata ... OK
* checking Rd cross-references ... OK
* checking for missing documentation entries ... OK
* checking for code/documentation mismatches ... OK
* checking Rd \usage sections ... OK
* checking Rd contents ... OK
* checking for unstated dependencies in examples ... OK
* checking contents of ‘data’ directory ... OK
* checking data for non-ASCII characters ... OK
* checking LazyData ... OK
* checking data for ASCII and uncompressed saves ... OK
* checking files in ‘vignettes’ ... OK
* checking examples ... OK
Examples with CPU (user + system) or elapsed time > 5s
user system elapsed
ssvFeatureBinaryHeatmap 7.096 0.364 7.460
ssvFetchBam 6.333 0.204 6.499
* checking for unstated dependencies in ‘tests’ ... OK
* checking tests ...
Running ‘testthat.R’
OK
* checking for unstated dependencies in vignettes ... OK
* checking package vignettes in ‘inst/doc’ ... OK
* checking running R code from vignettes ...
‘seqsetvis_overview.Rmd’ using ‘UTF-8’... OK
NONE
* checking re-building of vignette outputs ... OK
* checking PDF version of manual ... OK
* DONE
Status: OK
seqsetvis.Rcheck/00install.out
############################################################################## ############################################################################## ### ### Running command: ### ### /home/biocbuild/bbs-3.16-bioc/R/bin/R CMD INSTALL seqsetvis ### ############################################################################## ############################################################################## * installing to library ‘/home/biocbuild/bbs-3.16-bioc/R/site-library’ * installing *source* package ‘seqsetvis’ ... ** using staged installation ** R ** data *** moving datasets to lazyload DB ** inst ** byte-compile and prepare package for lazy loading ** help *** installing help indices ** building package indices ** installing vignettes ** testing if installed package can be loaded from temporary location ** testing if installed package can be loaded from final location ** testing if installed package keeps a record of temporary installation path * DONE (seqsetvis)
seqsetvis.Rcheck/tests/testthat.Rout
R version 4.2.3 (2023-03-15) -- "Shortstop Beagle" Copyright (C) 2023 The R Foundation for Statistical Computing Platform: x86_64-pc-linux-gnu (64-bit) R is free software and comes with ABSOLUTELY NO WARRANTY. You are welcome to redistribute it under certain conditions. Type 'license()' or 'licence()' for distribution details. R is a collaborative project with many contributors. Type 'contributors()' for more information and 'citation()' on how to cite R or R packages in publications. Type 'demo()' for some demos, 'help()' for on-line help, or 'help.start()' for an HTML browser interface to help. Type 'q()' to quit R. > > ## load dependencies > library(testthat) > library(seqsetvis) Loading required package: ggplot2 > library(data.table) > > ## test package > test_check(package = "seqsetvis") [ FAIL 0 | WARN 3 | SKIP 0 | PASS 1182 ] [ FAIL 0 | WARN 3 | SKIP 0 | PASS 1182 ] > > proc.time() user system elapsed 250.954 2.345 249.901
seqsetvis.Rcheck/seqsetvis-Ex.timings
| name | user | system | elapsed | |
| add_cluster_annotation | 2.592 | 0.096 | 2.644 | |
| append_ynorm | 0.051 | 0.005 | 0.034 | |
| applySpline | 0.454 | 0.004 | 0.421 | |
| assemble_heatmap_cluster_bars | 0.950 | 0.000 | 0.918 | |
| calc_norm_factors | 0.030 | 0.000 | 0.018 | |
| centerAtMax | 0.367 | 0.000 | 0.320 | |
| centerFixedSizeGRanges | 0.147 | 0.003 | 0.151 | |
| centerGRangesAtMax | 0.360 | 0.000 | 0.321 | |
| clusteringKmeans | 0.025 | 0.000 | 0.014 | |
| clusteringKmeansNestedHclust | 0.032 | 0.001 | 0.021 | |
| col2hex | 0.001 | 0.000 | 0.002 | |
| collapse_gr | 0.775 | 0.020 | 0.795 | |
| convert_collapsed_coord | 0.215 | 0.002 | 0.216 | |
| copy_clust_info | 2.364 | 0.120 | 2.407 | |
| crossCorrByRle | 0.390 | 0.008 | 0.399 | |
| easyLoad_FUN | 0.072 | 0.004 | 0.075 | |
| easyLoad_IDRmerged | 0.076 | 0.000 | 0.076 | |
| easyLoad_bed | 0.18 | 0.00 | 0.18 | |
| easyLoad_broadPeak | 0.053 | 0.000 | 0.053 | |
| easyLoad_narrowPeak | 0.056 | 0.000 | 0.056 | |
| easyLoad_seacr | 0.061 | 0.000 | 0.061 | |
| expandCigar | 0.245 | 0.000 | 0.224 | |
| fragLen_calcStranded | 1.705 | 0.020 | 1.719 | |
| fragLen_fromMacs2Xls | 0.002 | 0.000 | 0.002 | |
| getReadLength | 0.054 | 0.000 | 0.055 | |
| get_mapped_reads | 0.007 | 0.000 | 0.008 | |
| ggellipse | 0.538 | 0.000 | 0.537 | |
| harmonize_seqlengths | 0.097 | 0.000 | 0.097 | |
| make_clustering_matrix | 0.046 | 0.000 | 0.035 | |
| merge_clusters | 3.113 | 0.024 | 3.049 | |
| prepare_fetch_GRanges | 0.027 | 0.000 | 0.027 | |
| prepare_fetch_GRanges_names | 0.074 | 0.000 | 0.074 | |
| prepare_fetch_GRanges_width | 0.027 | 0.000 | 0.027 | |
| quantileGRangesWidth | 0.001 | 0.000 | 0.001 | |
| reorder_clusters_hclust | 1.774 | 0.000 | 1.732 | |
| reorder_clusters_manual | 0.948 | 0.016 | 0.924 | |
| reorder_clusters_stepdown | 1.837 | 0.004 | 1.794 | |
| reverse_clusters | 1.913 | 0.076 | 1.901 | |
| safeBrew | 0.023 | 0.000 | 0.023 | |
| split_cluster | 1.811 | 0.020 | 1.739 | |
| ssvConsensusIntervalSets | 0.336 | 0.000 | 0.336 | |
| ssvFactorizeMembTable | 0.009 | 0.004 | 0.013 | |
| ssvFeatureBars | 0.591 | 0.028 | 0.619 | |
| ssvFeatureBinaryHeatmap | 7.096 | 0.364 | 7.460 | |
| ssvFeatureEuler | 0.541 | 0.004 | 0.544 | |
| ssvFeaturePie | 0.572 | 0.000 | 0.572 | |
| ssvFeatureUpset | 2.610 | 0.044 | 2.654 | |
| ssvFeatureVenn | 0.552 | 0.004 | 0.557 | |
| ssvFetchBam | 6.333 | 0.204 | 6.499 | |
| ssvFetchBamPE | 2.054 | 0.100 | 2.156 | |
| ssvFetchBigwig | 1.535 | 0.044 | 1.579 | |
| ssvFetchGRanges | 0.763 | 0.029 | 0.793 | |
| ssvFetchSignal | 1.493 | 0.080 | 1.573 | |
| ssvMakeMembTable-methods | 0.550 | 0.016 | 0.566 | |
| ssvOverlapIntervalSets | 0.28 | 0.00 | 0.28 | |
| ssvSignalBandedQuantiles | 4.652 | 0.140 | 4.674 | |
| ssvSignalClustering | 2.247 | 0.056 | 2.183 | |
| ssvSignalHeatmap.ClusterBars | 3.118 | 0.092 | 3.037 | |
| ssvSignalHeatmap | 3.628 | 0.044 | 3.452 | |
| ssvSignalLineplot | 2.463 | 0.060 | 2.518 | |
| ssvSignalLineplotAgg | 1.071 | 0.016 | 1.069 | |
| ssvSignalScatterplot | 0.879 | 0.008 | 0.841 | |
| viewGRangesWinSample_dt | 1.426 | 0.028 | 1.448 | |
| viewGRangesWinSummary_dt | 1.383 | 0.040 | 1.398 | |
| within_clust_sort | 1.474 | 0.048 | 1.456 | |