| Back to Multiple platform build/check report for BioC 3.16: simplified long |
|
This page was generated on 2023-04-12 11:06:26 -0400 (Wed, 12 Apr 2023).
| Hostname | OS | Arch (*) | R version | Installed pkgs |
|---|---|---|---|---|
| nebbiolo2 | Linux (Ubuntu 20.04.5 LTS) | x86_64 | 4.2.3 (2023-03-15) -- "Shortstop Beagle" | 4502 |
| palomino4 | Windows Server 2022 Datacenter | x64 | 4.2.3 (2023-03-15 ucrt) -- "Shortstop Beagle" | 4282 |
| lconway | macOS 12.5.1 Monterey | x86_64 | 4.2.3 (2023-03-15) -- "Shortstop Beagle" | 4310 |
| Click on any hostname to see more info about the system (e.g. compilers) (*) as reported by 'uname -p', except on Windows and Mac OS X | ||||
|
To the developers/maintainers of the seqsetvis package: - Please allow up to 24 hours (and sometimes 48 hours) for your latest push to git@git.bioconductor.org:packages/seqsetvis.git to reflect on this report. See How and When does the builder pull? When will my changes propagate? for more information. - Make sure to use the following settings in order to reproduce any error or warning you see on this page. |
| Package 1849/2183 | Hostname | OS / Arch | INSTALL | BUILD | CHECK | BUILD BIN | ||||||||
| seqsetvis 1.18.1 (landing page) Joseph R Boyd
| nebbiolo2 | Linux (Ubuntu 20.04.5 LTS) / x86_64 | OK | OK | OK | |||||||||
| palomino4 | Windows Server 2022 Datacenter / x64 | OK | OK | OK | OK | |||||||||
| lconway | macOS 12.5.1 Monterey / x86_64 | OK | OK | OK | OK | |||||||||
| Package: seqsetvis |
| Version: 1.18.1 |
| Command: /Library/Frameworks/R.framework/Resources/bin/R CMD check --install=check:seqsetvis.install-out.txt --library=/Library/Frameworks/R.framework/Resources/library --no-vignettes --timings seqsetvis_1.18.1.tar.gz |
| StartedAt: 2023-04-10 22:38:47 -0400 (Mon, 10 Apr 2023) |
| EndedAt: 2023-04-10 22:46:33 -0400 (Mon, 10 Apr 2023) |
| EllapsedTime: 465.7 seconds |
| RetCode: 0 |
| Status: OK |
| CheckDir: seqsetvis.Rcheck |
| Warnings: 0 |
##############################################################################
##############################################################################
###
### Running command:
###
### /Library/Frameworks/R.framework/Resources/bin/R CMD check --install=check:seqsetvis.install-out.txt --library=/Library/Frameworks/R.framework/Resources/library --no-vignettes --timings seqsetvis_1.18.1.tar.gz
###
##############################################################################
##############################################################################
* using log directory ‘/Users/biocbuild/bbs-3.16-bioc/meat/seqsetvis.Rcheck’
* using R version 4.2.3 (2023-03-15)
* using platform: x86_64-apple-darwin17.0 (64-bit)
* using session charset: UTF-8
* using option ‘--no-vignettes’
* checking for file ‘seqsetvis/DESCRIPTION’ ... OK
* checking extension type ... Package
* this is package ‘seqsetvis’ version ‘1.18.1’
* package encoding: UTF-8
* checking package namespace information ... OK
* checking package dependencies ... OK
* checking if this is a source package ... OK
* checking if there is a namespace ... OK
* checking for hidden files and directories ... OK
* checking for portable file names ... OK
* checking for sufficient/correct file permissions ... OK
* checking whether package ‘seqsetvis’ can be installed ... OK
* checking installed package size ... OK
* checking package directory ... OK
* checking ‘build’ directory ... OK
* checking DESCRIPTION meta-information ... OK
* checking top-level files ... OK
* checking for left-over files ... OK
* checking index information ... OK
* checking package subdirectories ... OK
* checking R files for non-ASCII characters ... OK
* checking R files for syntax errors ... OK
* checking whether the package can be loaded ... OK
* checking whether the package can be loaded with stated dependencies ... OK
* checking whether the package can be unloaded cleanly ... OK
* checking whether the namespace can be loaded with stated dependencies ... OK
* checking whether the namespace can be unloaded cleanly ... OK
* checking dependencies in R code ... OK
* checking S3 generic/method consistency ... OK
* checking replacement functions ... OK
* checking foreign function calls ... OK
* checking R code for possible problems ... OK
* checking Rd files ... OK
* checking Rd metadata ... OK
* checking Rd cross-references ... OK
* checking for missing documentation entries ... OK
* checking for code/documentation mismatches ... OK
* checking Rd \usage sections ... OK
* checking Rd contents ... OK
* checking for unstated dependencies in examples ... OK
* checking contents of ‘data’ directory ... OK
* checking data for non-ASCII characters ... OK
* checking LazyData ... OK
* checking data for ASCII and uncompressed saves ... OK
* checking files in ‘vignettes’ ... OK
* checking examples ... OK
Examples with CPU (user + system) or elapsed time > 5s
user system elapsed
ssvFeatureBinaryHeatmap 6.716 0.681 7.431
ssvFetchBam 5.257 0.303 5.589
* checking for unstated dependencies in ‘tests’ ... OK
* checking tests ...
Running ‘testthat.R’
OK
* checking for unstated dependencies in vignettes ... OK
* checking package vignettes in ‘inst/doc’ ... OK
* checking running R code from vignettes ... SKIPPED
* checking re-building of vignette outputs ... SKIPPED
* checking PDF version of manual ... OK
* DONE
Status: OK
seqsetvis.Rcheck/00install.out
############################################################################## ############################################################################## ### ### Running command: ### ### /Library/Frameworks/R.framework/Resources/bin/R CMD INSTALL seqsetvis ### ############################################################################## ############################################################################## * installing to library ‘/Library/Frameworks/R.framework/Versions/4.2/Resources/library’ * installing *source* package ‘seqsetvis’ ... ** using staged installation ** R ** data *** moving datasets to lazyload DB ** inst ** byte-compile and prepare package for lazy loading ** help *** installing help indices ** building package indices ** installing vignettes ** testing if installed package can be loaded from temporary location ** testing if installed package can be loaded from final location ** testing if installed package keeps a record of temporary installation path * DONE (seqsetvis)
seqsetvis.Rcheck/tests/testthat.Rout
R version 4.2.3 (2023-03-15) -- "Shortstop Beagle" Copyright (C) 2023 The R Foundation for Statistical Computing Platform: x86_64-apple-darwin17.0 (64-bit) R is free software and comes with ABSOLUTELY NO WARRANTY. You are welcome to redistribute it under certain conditions. Type 'license()' or 'licence()' for distribution details. R is a collaborative project with many contributors. Type 'contributors()' for more information and 'citation()' on how to cite R or R packages in publications. Type 'demo()' for some demos, 'help()' for on-line help, or 'help.start()' for an HTML browser interface to help. Type 'q()' to quit R. > > ## load dependencies > library(testthat) > library(seqsetvis) Loading required package: ggplot2 > library(data.table) > > ## test package > test_check(package = "seqsetvis") [ FAIL 0 | WARN 3 | SKIP 0 | PASS 1182 ] [ FAIL 0 | WARN 3 | SKIP 0 | PASS 1182 ] > > proc.time() user system elapsed 199.050 4.649 204.160
seqsetvis.Rcheck/seqsetvis-Ex.timings
| name | user | system | elapsed | |
| add_cluster_annotation | 2.211 | 0.068 | 2.284 | |
| append_ynorm | 0.023 | 0.003 | 0.025 | |
| applySpline | 0.390 | 0.006 | 0.398 | |
| assemble_heatmap_cluster_bars | 0.574 | 0.010 | 0.586 | |
| calc_norm_factors | 0.009 | 0.000 | 0.008 | |
| centerAtMax | 0.227 | 0.005 | 0.232 | |
| centerFixedSizeGRanges | 0.150 | 0.008 | 0.159 | |
| centerGRangesAtMax | 0.283 | 0.016 | 0.305 | |
| clusteringKmeans | 0.013 | 0.002 | 0.014 | |
| clusteringKmeansNestedHclust | 0.019 | 0.001 | 0.021 | |
| col2hex | 0.001 | 0.000 | 0.001 | |
| collapse_gr | 0.709 | 0.025 | 0.742 | |
| convert_collapsed_coord | 0.197 | 0.014 | 0.215 | |
| copy_clust_info | 1.361 | 0.028 | 1.393 | |
| crossCorrByRle | 0.319 | 0.008 | 0.329 | |
| easyLoad_FUN | 0.050 | 0.002 | 0.052 | |
| easyLoad_IDRmerged | 0.044 | 0.002 | 0.046 | |
| easyLoad_bed | 0.104 | 0.003 | 0.108 | |
| easyLoad_broadPeak | 0.051 | 0.002 | 0.053 | |
| easyLoad_narrowPeak | 0.038 | 0.001 | 0.040 | |
| easyLoad_seacr | 0.038 | 0.001 | 0.039 | |
| expandCigar | 0.145 | 0.016 | 0.160 | |
| fragLen_calcStranded | 1.525 | 0.028 | 1.557 | |
| fragLen_fromMacs2Xls | 0.002 | 0.000 | 0.003 | |
| getReadLength | 0.050 | 0.005 | 0.055 | |
| get_mapped_reads | 0.006 | 0.001 | 0.007 | |
| ggellipse | 0.507 | 0.006 | 0.514 | |
| harmonize_seqlengths | 0.120 | 0.007 | 0.127 | |
| make_clustering_matrix | 0.034 | 0.001 | 0.035 | |
| merge_clusters | 3.352 | 0.045 | 3.406 | |
| prepare_fetch_GRanges | 0.028 | 0.001 | 0.029 | |
| prepare_fetch_GRanges_names | 0.059 | 0.002 | 0.061 | |
| prepare_fetch_GRanges_width | 0.026 | 0.001 | 0.026 | |
| quantileGRangesWidth | 0.001 | 0.000 | 0.001 | |
| reorder_clusters_hclust | 1.360 | 0.006 | 1.367 | |
| reorder_clusters_manual | 0.705 | 0.005 | 0.711 | |
| reorder_clusters_stepdown | 1.363 | 0.010 | 1.375 | |
| reverse_clusters | 1.539 | 0.020 | 1.560 | |
| safeBrew | 0.021 | 0.003 | 0.025 | |
| split_cluster | 1.346 | 0.009 | 1.358 | |
| ssvConsensusIntervalSets | 0.358 | 0.010 | 0.371 | |
| ssvFactorizeMembTable | 0.012 | 0.002 | 0.014 | |
| ssvFeatureBars | 0.524 | 0.003 | 0.528 | |
| ssvFeatureBinaryHeatmap | 6.716 | 0.681 | 7.431 | |
| ssvFeatureEuler | 0.488 | 0.048 | 0.541 | |
| ssvFeaturePie | 0.472 | 0.011 | 0.485 | |
| ssvFeatureUpset | 2.199 | 0.022 | 2.226 | |
| ssvFeatureVenn | 0.503 | 0.007 | 0.512 | |
| ssvFetchBam | 5.257 | 0.303 | 5.589 | |
| ssvFetchBamPE | 1.718 | 0.217 | 1.942 | |
| ssvFetchBigwig | 1.268 | 0.015 | 1.286 | |
| ssvFetchGRanges | 0.599 | 0.002 | 0.601 | |
| ssvFetchSignal | 1.273 | 0.055 | 1.331 | |
| ssvMakeMembTable-methods | 0.449 | 0.007 | 0.457 | |
| ssvOverlapIntervalSets | 0.235 | 0.008 | 0.243 | |
| ssvSignalBandedQuantiles | 3.725 | 0.046 | 3.779 | |
| ssvSignalClustering | 1.604 | 0.025 | 1.634 | |
| ssvSignalHeatmap.ClusterBars | 2.504 | 0.049 | 2.559 | |
| ssvSignalHeatmap | 2.880 | 0.047 | 2.936 | |
| ssvSignalLineplot | 1.866 | 0.018 | 1.887 | |
| ssvSignalLineplotAgg | 0.868 | 0.009 | 0.880 | |
| ssvSignalScatterplot | 0.702 | 0.006 | 0.710 | |
| viewGRangesWinSample_dt | 1.002 | 0.047 | 1.053 | |
| viewGRangesWinSummary_dt | 0.978 | 0.039 | 1.019 | |
| within_clust_sort | 1.141 | 0.016 | 1.161 | |