| Back to Multiple platform build/check report for BioC 3.16: simplified long |
|
This page was generated on 2023-04-12 11:05:17 -0400 (Wed, 12 Apr 2023).
| Hostname | OS | Arch (*) | R version | Installed pkgs |
|---|---|---|---|---|
| nebbiolo2 | Linux (Ubuntu 20.04.5 LTS) | x86_64 | 4.2.3 (2023-03-15) -- "Shortstop Beagle" | 4502 |
| palomino4 | Windows Server 2022 Datacenter | x64 | 4.2.3 (2023-03-15 ucrt) -- "Shortstop Beagle" | 4282 |
| lconway | macOS 12.5.1 Monterey | x86_64 | 4.2.3 (2023-03-15) -- "Shortstop Beagle" | 4310 |
| Click on any hostname to see more info about the system (e.g. compilers) (*) as reported by 'uname -p', except on Windows and Mac OS X | ||||
|
To the developers/maintainers of the rqubic package: - Please allow up to 24 hours (and sometimes 48 hours) for your latest push to git@git.bioconductor.org:packages/rqubic.git to reflect on this report. See How and When does the builder pull? When will my changes propagate? for more information. - Make sure to use the following settings in order to reproduce any error or warning you see on this page. |
| Package 1728/2183 | Hostname | OS / Arch | INSTALL | BUILD | CHECK | BUILD BIN | ||||||||
| rqubic 1.44.0 (landing page) Jitao David Zhang
| nebbiolo2 | Linux (Ubuntu 20.04.5 LTS) / x86_64 | OK | OK | WARNINGS | |||||||||
| palomino4 | Windows Server 2022 Datacenter / x64 | OK | OK | WARNINGS | OK | |||||||||
| lconway | macOS 12.5.1 Monterey / x86_64 | OK | OK | OK | OK | |||||||||
| Package: rqubic |
| Version: 1.44.0 |
| Command: /home/biocbuild/bbs-3.16-bioc/R/bin/R CMD INSTALL rqubic |
| StartedAt: 2023-04-10 15:20:32 -0400 (Mon, 10 Apr 2023) |
| EndedAt: 2023-04-10 15:20:41 -0400 (Mon, 10 Apr 2023) |
| EllapsedTime: 9.1 seconds |
| RetCode: 0 |
| Status: OK |
##############################################################################
##############################################################################
###
### Running command:
###
### /home/biocbuild/bbs-3.16-bioc/R/bin/R CMD INSTALL rqubic
###
##############################################################################
##############################################################################
* installing to library ‘/home/biocbuild/bbs-3.16-bioc/R/site-library’
* installing *source* package ‘rqubic’ ...
** using staged installation
** libs
gcc -I"/home/biocbuild/bbs-3.16-bioc/R/include" -DNDEBUG -I/usr/local/include -fpic -g -O2 -Wall -c bicluster.c -o bicluster.o
bicluster.c: In function ‘seed_intersect_r’:
bicluster.c:354:11: warning: suggest parentheses around assignment used as truth value [-Wparentheses]
354 | if (flag=ss) (*m_cnt)++;
| ^~~~
gcc -I"/home/biocbuild/bbs-3.16-bioc/R/include" -DNDEBUG -I/usr/local/include -fpic -g -O2 -Wall -c discretize.c -o discretize.o
In file included from discretize.c:9:
rqubic.h:62:20: warning: ‘MINCOL_ATT_NAME’ defined but not used [-Wunused-variable]
62 | static const char *MINCOL_ATT_NAME="minimumCol";
| ^~~~~~~~~~~~~~~
rqubic.h:61:20: warning: ‘EDGELIST_ATT_NAME’ defined but not used [-Wunused-variable]
61 | static const char *EDGELIST_ATT_NAME="edgelist";
| ^~~~~~~~~~~~~~~~~
gcc -I"/home/biocbuild/bbs-3.16-bioc/R/include" -DNDEBUG -I/usr/local/include -fpic -g -O2 -Wall -c fib.c -o fib.o
In file included from fib.c:35:
rqubic.h:62:20: warning: ‘MINCOL_ATT_NAME’ defined but not used [-Wunused-variable]
62 | static const char *MINCOL_ATT_NAME="minimumCol";
| ^~~~~~~~~~~~~~~
rqubic.h:61:20: warning: ‘EDGELIST_ATT_NAME’ defined but not used [-Wunused-variable]
61 | static const char *EDGELIST_ATT_NAME="edgelist";
| ^~~~~~~~~~~~~~~~~
gcc -I"/home/biocbuild/bbs-3.16-bioc/R/include" -DNDEBUG -I/usr/local/include -fpic -g -O2 -Wall -c graph.c -o graph.o
gcc -I"/home/biocbuild/bbs-3.16-bioc/R/include" -DNDEBUG -I/usr/local/include -fpic -g -O2 -Wall -c rqubic.c -o rqubic.o
In file included from rqubic.c:5:
rqubic.h:62:20: warning: ‘MINCOL_ATT_NAME’ defined but not used [-Wunused-variable]
62 | static const char *MINCOL_ATT_NAME="minimumCol";
| ^~~~~~~~~~~~~~~
rqubic.h:61:20: warning: ‘EDGELIST_ATT_NAME’ defined but not used [-Wunused-variable]
61 | static const char *EDGELIST_ATT_NAME="edgelist";
| ^~~~~~~~~~~~~~~~~
gcc -shared -L/home/biocbuild/bbs-3.16-bioc/R/lib -L/usr/local/lib -o rqubic.so bicluster.o discretize.o fib.o graph.o rqubic.o -L/home/biocbuild/bbs-3.16-bioc/R/lib -lR
installing to /home/biocbuild/bbs-3.16-bioc/R/site-library/00LOCK-rqubic/00new/rqubic/libs
** R
** inst
** byte-compile and prepare package for lazy loading
** help
*** installing help indices
** building package indices
** installing vignettes
** testing if installed package can be loaded from temporary location
** checking absolute paths in shared objects and dynamic libraries
** testing if installed package can be loaded from final location
** testing if installed package keeps a record of temporary installation path
* DONE (rqubic)