| Back to Multiple platform build/check report for BioC 3.16: simplified long |
|
This page was generated on 2023-04-12 11:05:16 -0400 (Wed, 12 Apr 2023).
| Hostname | OS | Arch (*) | R version | Installed pkgs |
|---|---|---|---|---|
| nebbiolo2 | Linux (Ubuntu 20.04.5 LTS) | x86_64 | 4.2.3 (2023-03-15) -- "Shortstop Beagle" | 4502 |
| palomino4 | Windows Server 2022 Datacenter | x64 | 4.2.3 (2023-03-15 ucrt) -- "Shortstop Beagle" | 4282 |
| lconway | macOS 12.5.1 Monterey | x86_64 | 4.2.3 (2023-03-15) -- "Shortstop Beagle" | 4310 |
| Click on any hostname to see more info about the system (e.g. compilers) (*) as reported by 'uname -p', except on Windows and Mac OS X | ||||
|
To the developers/maintainers of the rGREAT package: - Please allow up to 24 hours (and sometimes 48 hours) for your latest push to git@git.bioconductor.org:packages/rGREAT.git to reflect on this report. See How and When does the builder pull? When will my changes propagate? for more information. - Make sure to use the following settings in order to reproduce any error or warning you see on this page. |
| Package 1667/2183 | Hostname | OS / Arch | INSTALL | BUILD | CHECK | BUILD BIN | ||||||||
| rGREAT 2.0.2 (landing page) Zuguang Gu
| nebbiolo2 | Linux (Ubuntu 20.04.5 LTS) / x86_64 | OK | OK | OK | |||||||||
| palomino4 | Windows Server 2022 Datacenter / x64 | OK | OK | OK | OK | |||||||||
| lconway | macOS 12.5.1 Monterey / x86_64 | OK | OK | OK | OK | |||||||||
| Package: rGREAT |
| Version: 2.0.2 |
| Command: /home/biocbuild/bbs-3.16-bioc/R/bin/R CMD check --install=check:rGREAT.install-out.txt --library=/home/biocbuild/bbs-3.16-bioc/R/site-library --timings rGREAT_2.0.2.tar.gz |
| StartedAt: 2023-04-10 23:25:09 -0400 (Mon, 10 Apr 2023) |
| EndedAt: 2023-04-10 23:32:54 -0400 (Mon, 10 Apr 2023) |
| EllapsedTime: 464.5 seconds |
| RetCode: 0 |
| Status: OK |
| CheckDir: rGREAT.Rcheck |
| Warnings: 0 |
##############################################################################
##############################################################################
###
### Running command:
###
### /home/biocbuild/bbs-3.16-bioc/R/bin/R CMD check --install=check:rGREAT.install-out.txt --library=/home/biocbuild/bbs-3.16-bioc/R/site-library --timings rGREAT_2.0.2.tar.gz
###
##############################################################################
##############################################################################
* using log directory ‘/home/biocbuild/bbs-3.16-bioc/meat/rGREAT.Rcheck’
* using R version 4.2.3 (2023-03-15)
* using platform: x86_64-pc-linux-gnu (64-bit)
* using session charset: UTF-8
* checking for file ‘rGREAT/DESCRIPTION’ ... OK
* checking extension type ... Package
* this is package ‘rGREAT’ version ‘2.0.2’
* checking package namespace information ... OK
* checking package dependencies ... OK
* checking if this is a source package ... OK
* checking if there is a namespace ... OK
* checking for hidden files and directories ... OK
* checking for portable file names ... OK
* checking for sufficient/correct file permissions ... OK
* checking whether package ‘rGREAT’ can be installed ... OK
* checking installed package size ... OK
* checking package directory ... OK
* checking ‘build’ directory ... OK
* checking DESCRIPTION meta-information ... OK
* checking top-level files ... OK
* checking for left-over files ... OK
* checking index information ... OK
* checking package subdirectories ... OK
* checking R files for non-ASCII characters ... OK
* checking R files for syntax errors ... OK
* checking whether the package can be loaded ... OK
* checking whether the package can be loaded with stated dependencies ... OK
* checking whether the package can be unloaded cleanly ... OK
* checking whether the namespace can be loaded with stated dependencies ... OK
* checking whether the namespace can be unloaded cleanly ... OK
* checking loading without being on the library search path ... OK
* checking dependencies in R code ... OK
* checking S3 generic/method consistency ... OK
* checking replacement functions ... OK
* checking foreign function calls ... OK
* checking R code for possible problems ... OK
* checking Rd files ... OK
* checking Rd metadata ... OK
* checking Rd cross-references ... OK
* checking for missing documentation entries ... OK
* checking for code/documentation mismatches ... OK
* checking Rd \usage sections ... OK
* checking Rd contents ... OK
* checking for unstated dependencies in examples ... OK
* checking line endings in C/C++/Fortran sources/headers ... OK
* checking compiled code ... NOTE
Note: information on .o files is not available
* checking files in ‘vignettes’ ... OK
* checking examples ... OK
Examples with CPU (user + system) or elapsed time > 5s
user system elapsed
submitGreatJob 0.3 0.008 7.447
* checking for unstated dependencies in ‘tests’ ... OK
* checking tests ...
Running ‘test-all.R’
OK
* checking for unstated dependencies in vignettes ... OK
* checking package vignettes in ‘inst/doc’ ... OK
* checking running R code from vignettes ...
‘local-GREAT.Rmd’ using ‘UTF-8’... OK
‘online-GREAT.Rmd’ using ‘UTF-8’... OK
‘other-docs.Rmd’ using ‘UTF-8’... OK
‘other-geneset-databases.Rmd’ using ‘UTF-8’... OK
‘other-organisms.Rmd’ using ‘UTF-8’... OK
NONE
* checking re-building of vignette outputs ... OK
* checking PDF version of manual ... OK
* DONE
Status: 1 NOTE
See
‘/home/biocbuild/bbs-3.16-bioc/meat/rGREAT.Rcheck/00check.log’
for details.
rGREAT.Rcheck/00install.out
############################################################################## ############################################################################## ### ### Running command: ### ### /home/biocbuild/bbs-3.16-bioc/R/bin/R CMD INSTALL rGREAT ### ############################################################################## ############################################################################## * installing to library ‘/home/biocbuild/bbs-3.16-bioc/R/site-library’ * installing *source* package ‘rGREAT’ ... ** using staged installation ** libs g++ -std=gnu++14 -I"/home/biocbuild/bbs-3.16-bioc/R/include" -DNDEBUG -I'/home/biocbuild/bbs-3.16-bioc/R/site-library/Rcpp/include' -I/usr/local/include -fpic -g -O2 -Wall -c RcppExports.cpp -o RcppExports.o g++ -std=gnu++14 -I"/home/biocbuild/bbs-3.16-bioc/R/include" -DNDEBUG -I'/home/biocbuild/bbs-3.16-bioc/R/site-library/Rcpp/include' -I/usr/local/include -fpic -g -O2 -Wall -c reduce_by_start_and_end.cpp -o reduce_by_start_and_end.o g++ -std=gnu++14 -shared -L/home/biocbuild/bbs-3.16-bioc/R/lib -L/usr/local/lib -o rGREAT.so RcppExports.o reduce_by_start_and_end.o -L/home/biocbuild/bbs-3.16-bioc/R/lib -lR installing to /home/biocbuild/bbs-3.16-bioc/R/site-library/00LOCK-rGREAT/00new/rGREAT/libs ** R ** inst ** byte-compile and prepare package for lazy loading ** help *** installing help indices ** building package indices ** installing vignettes ** testing if installed package can be loaded from temporary location ** checking absolute paths in shared objects and dynamic libraries ** testing if installed package can be loaded from final location ** testing if installed package keeps a record of temporary installation path * DONE (rGREAT)
rGREAT.Rcheck/tests/test-all.Rout
R version 4.2.3 (2023-03-15) -- "Shortstop Beagle"
Copyright (C) 2023 The R Foundation for Statistical Computing
Platform: x86_64-pc-linux-gnu (64-bit)
R is free software and comes with ABSOLUTELY NO WARRANTY.
You are welcome to redistribute it under certain conditions.
Type 'license()' or 'licence()' for distribution details.
R is a collaborative project with many contributors.
Type 'contributors()' for more information and
'citation()' on how to cite R or R packages in publications.
Type 'demo()' for some demos, 'help()' for on-line help, or
'help.start()' for an HTML browser interface to help.
Type 'q()' to quit R.
> library(testthat)
> suppressWarnings(suppressPackageStartupMessages(library(rGREAT)))
>
> test_check("rGREAT")
[ FAIL 0 | WARN 0 | SKIP 0 | PASS 2 ]
>
> proc.time()
user system elapsed
14.479 0.625 15.090
rGREAT.Rcheck/rGREAT-Ex.timings
| name | user | system | elapsed | |
| GreatJob-class | 0 | 0 | 0 | |
| GreatJob | 0 | 0 | 0 | |
| GreatObject-class | 0 | 0 | 0 | |
| GreatObject | 0.000 | 0.000 | 0.001 | |
| availableCategories-GreatJob-method | 0.156 | 0.004 | 0.160 | |
| availableOntologies-GreatJob-method | 0.117 | 0.000 | 0.117 | |
| extendTSS | 0 | 0 | 0 | |
| extendTSSFromDataFrame | 0 | 0 | 0 | |
| extendTSSFromOrgDb | 0.000 | 0.000 | 0.001 | |
| extendTSSFromTxDb | 0 | 0 | 0 | |
| getEnrichmentTable-GreatJob-method | 0.124 | 0.000 | 0.124 | |
| getEnrichmentTable-GreatObject-method | 0.067 | 0.004 | 0.072 | |
| getEnrichmentTable-dispatch | 0 | 0 | 0 | |
| getEnrichmentTables-GreatJob-method | 0.152 | 0.000 | 0.151 | |
| getEnrichmentTables-GreatObject-method | 0 | 0 | 0 | |
| getEnrichmentTables-dispatch | 0 | 0 | 0 | |
| getGREATDefaultTSS | 0 | 0 | 0 | |
| getGapFromUCSC | 0.066 | 0.000 | 0.066 | |
| getGeneSetsFromBioMart | 0 | 0 | 0 | |
| getGenesFromGencode | 0 | 0 | 0 | |
| getRefSeqGenesFromUCSC | 0 | 0 | 0 | |
| getRegionGeneAssociations-GreatJob-method | 0.650 | 0.012 | 0.662 | |
| getRegionGeneAssociations-GreatObject-method | 1.695 | 0.060 | 1.755 | |
| getRegionGeneAssociations-dispatch | 0 | 0 | 0 | |
| getTSS | 0 | 0 | 0 | |
| great | 0 | 0 | 0 | |
| great_opt | 0.017 | 0.000 | 0.017 | |
| plotRegionGeneAssociationGraphs-GreatJob-method | 0 | 0 | 0 | |
| plotRegionGeneAssociations-GreatJob-method | 0.930 | 0.072 | 1.002 | |
| plotRegionGeneAssociations-GreatObject-method | 1.427 | 0.076 | 1.503 | |
| plotRegionGeneAssociations-dispatch | 0 | 0 | 0 | |
| plotVolcano-GreatJob-method | 0 | 0 | 0 | |
| plotVolcano-GreatObject-method | 0 | 0 | 0 | |
| plotVolcano-dispatch | 0 | 0 | 0 | |
| randomRegions | 0.205 | 0.004 | 0.209 | |
| randomRegionsFromBioMartGenome | 0.000 | 0.000 | 0.001 | |
| read_gmt | 0.022 | 0.004 | 0.277 | |
| reduce_by_start_and_end | 0 | 0 | 0 | |
| shinyReport-GreatJob-method | 0 | 0 | 0 | |
| shinyReport-GreatObject-method | 0 | 0 | 0 | |
| shinyReport-dispatch | 0 | 0 | 0 | |
| submitGreatJob | 0.300 | 0.008 | 7.447 | |