| Back to Multiple platform build/check report for BioC 3.16: simplified long |
|
This page was generated on 2023-04-12 11:06:23 -0400 (Wed, 12 Apr 2023).
| Hostname | OS | Arch (*) | R version | Installed pkgs |
|---|---|---|---|---|
| nebbiolo2 | Linux (Ubuntu 20.04.5 LTS) | x86_64 | 4.2.3 (2023-03-15) -- "Shortstop Beagle" | 4502 |
| palomino4 | Windows Server 2022 Datacenter | x64 | 4.2.3 (2023-03-15 ucrt) -- "Shortstop Beagle" | 4282 |
| lconway | macOS 12.5.1 Monterey | x86_64 | 4.2.3 (2023-03-15) -- "Shortstop Beagle" | 4310 |
| Click on any hostname to see more info about the system (e.g. compilers) (*) as reported by 'uname -p', except on Windows and Mac OS X | ||||
|
To the developers/maintainers of the rGREAT package: - Please allow up to 24 hours (and sometimes 48 hours) for your latest push to git@git.bioconductor.org:packages/rGREAT.git to reflect on this report. See How and When does the builder pull? When will my changes propagate? for more information. - Make sure to use the following settings in order to reproduce any error or warning you see on this page. |
| Package 1667/2183 | Hostname | OS / Arch | INSTALL | BUILD | CHECK | BUILD BIN | ||||||||
| rGREAT 2.0.2 (landing page) Zuguang Gu
| nebbiolo2 | Linux (Ubuntu 20.04.5 LTS) / x86_64 | OK | OK | OK | |||||||||
| palomino4 | Windows Server 2022 Datacenter / x64 | OK | OK | OK | OK | |||||||||
| lconway | macOS 12.5.1 Monterey / x86_64 | OK | OK | OK | OK | |||||||||
| Package: rGREAT |
| Version: 2.0.2 |
| Command: /Library/Frameworks/R.framework/Resources/bin/R CMD check --install=check:rGREAT.install-out.txt --library=/Library/Frameworks/R.framework/Resources/library --no-vignettes --timings rGREAT_2.0.2.tar.gz |
| StartedAt: 2023-04-10 22:13:48 -0400 (Mon, 10 Apr 2023) |
| EndedAt: 2023-04-10 22:17:58 -0400 (Mon, 10 Apr 2023) |
| EllapsedTime: 250.2 seconds |
| RetCode: 0 |
| Status: OK |
| CheckDir: rGREAT.Rcheck |
| Warnings: 0 |
##############################################################################
##############################################################################
###
### Running command:
###
### /Library/Frameworks/R.framework/Resources/bin/R CMD check --install=check:rGREAT.install-out.txt --library=/Library/Frameworks/R.framework/Resources/library --no-vignettes --timings rGREAT_2.0.2.tar.gz
###
##############################################################################
##############################################################################
* using log directory ‘/Users/biocbuild/bbs-3.16-bioc/meat/rGREAT.Rcheck’
* using R version 4.2.3 (2023-03-15)
* using platform: x86_64-apple-darwin17.0 (64-bit)
* using session charset: UTF-8
* using option ‘--no-vignettes’
* checking for file ‘rGREAT/DESCRIPTION’ ... OK
* checking extension type ... Package
* this is package ‘rGREAT’ version ‘2.0.2’
* checking package namespace information ... OK
* checking package dependencies ... NOTE
Packages which this enhances but not available for checking:
'BioMartGOGeneSets', 'UniProtKeywords'
* checking if this is a source package ... OK
* checking if there is a namespace ... OK
* checking for hidden files and directories ... OK
* checking for portable file names ... OK
* checking for sufficient/correct file permissions ... OK
* checking whether package ‘rGREAT’ can be installed ... OK
* checking installed package size ... OK
* checking package directory ... OK
* checking ‘build’ directory ... OK
* checking DESCRIPTION meta-information ... OK
* checking top-level files ... OK
* checking for left-over files ... OK
* checking index information ... OK
* checking package subdirectories ... OK
* checking R files for non-ASCII characters ... OK
* checking R files for syntax errors ... OK
* checking whether the package can be loaded ... OK
* checking whether the package can be loaded with stated dependencies ... OK
* checking whether the package can be unloaded cleanly ... OK
* checking whether the namespace can be loaded with stated dependencies ... OK
* checking whether the namespace can be unloaded cleanly ... OK
* checking dependencies in R code ... OK
* checking S3 generic/method consistency ... OK
* checking replacement functions ... OK
* checking foreign function calls ... OK
* checking R code for possible problems ... OK
* checking Rd files ... OK
* checking Rd metadata ... OK
* checking Rd cross-references ... OK
* checking for missing documentation entries ... OK
* checking for code/documentation mismatches ... OK
* checking Rd \usage sections ... OK
* checking Rd contents ... OK
* checking for unstated dependencies in examples ... OK
* checking line endings in C/C++/Fortran sources/headers ... OK
* checking compiled code ... NOTE
Note: information on .o files is not available
* checking files in ‘vignettes’ ... OK
* checking examples ... OK
Examples with CPU (user + system) or elapsed time > 5s
user system elapsed
submitGreatJob 0.272 0.023 8.424
* checking for unstated dependencies in ‘tests’ ... OK
* checking tests ...
Running ‘test-all.R’
OK
* checking for unstated dependencies in vignettes ... OK
* checking package vignettes in ‘inst/doc’ ... OK
* checking running R code from vignettes ... SKIPPED
* checking re-building of vignette outputs ... SKIPPED
* checking PDF version of manual ... OK
* DONE
Status: 2 NOTEs
See
‘/Users/biocbuild/bbs-3.16-bioc/meat/rGREAT.Rcheck/00check.log’
for details.
rGREAT.Rcheck/00install.out
############################################################################## ############################################################################## ### ### Running command: ### ### /Library/Frameworks/R.framework/Resources/bin/R CMD INSTALL rGREAT ### ############################################################################## ############################################################################## * installing to library ‘/Library/Frameworks/R.framework/Versions/4.2/Resources/library’ * installing *source* package ‘rGREAT’ ... ** using staged installation ** libs clang++ -mmacosx-version-min=10.13 -std=gnu++14 -I"/Library/Frameworks/R.framework/Resources/include" -DNDEBUG -I'/Library/Frameworks/R.framework/Versions/4.2/Resources/library/Rcpp/include' -I/usr/local/include -fPIC -Wall -g -O2 -c RcppExports.cpp -o RcppExports.o clang++ -mmacosx-version-min=10.13 -std=gnu++14 -I"/Library/Frameworks/R.framework/Resources/include" -DNDEBUG -I'/Library/Frameworks/R.framework/Versions/4.2/Resources/library/Rcpp/include' -I/usr/local/include -fPIC -Wall -g -O2 -c reduce_by_start_and_end.cpp -o reduce_by_start_and_end.o clang++ -mmacosx-version-min=10.13 -std=gnu++14 -dynamiclib -Wl,-headerpad_max_install_names -undefined dynamic_lookup -single_module -multiply_defined suppress -L/Library/Frameworks/R.framework/Resources/lib -L/usr/local/lib -o rGREAT.so RcppExports.o reduce_by_start_and_end.o -F/Library/Frameworks/R.framework/.. -framework R -Wl,-framework -Wl,CoreFoundation installing to /Library/Frameworks/R.framework/Versions/4.2/Resources/library/00LOCK-rGREAT/00new/rGREAT/libs ** R ** inst ** byte-compile and prepare package for lazy loading ** help *** installing help indices ** building package indices ** installing vignettes ** testing if installed package can be loaded from temporary location ** checking absolute paths in shared objects and dynamic libraries ** testing if installed package can be loaded from final location ** testing if installed package keeps a record of temporary installation path * DONE (rGREAT)
rGREAT.Rcheck/tests/test-all.Rout
R version 4.2.3 (2023-03-15) -- "Shortstop Beagle"
Copyright (C) 2023 The R Foundation for Statistical Computing
Platform: x86_64-apple-darwin17.0 (64-bit)
R is free software and comes with ABSOLUTELY NO WARRANTY.
You are welcome to redistribute it under certain conditions.
Type 'license()' or 'licence()' for distribution details.
R is a collaborative project with many contributors.
Type 'contributors()' for more information and
'citation()' on how to cite R or R packages in publications.
Type 'demo()' for some demos, 'help()' for on-line help, or
'help.start()' for an HTML browser interface to help.
Type 'q()' to quit R.
> library(testthat)
> suppressWarnings(suppressPackageStartupMessages(library(rGREAT)))
>
> test_check("rGREAT")
[ FAIL 0 | WARN 0 | SKIP 0 | PASS 2 ]
>
> proc.time()
user system elapsed
13.551 0.629 14.209
rGREAT.Rcheck/rGREAT-Ex.timings
| name | user | system | elapsed | |
| GreatJob-class | 0.000 | 0.001 | 0.000 | |
| GreatJob | 0 | 0 | 0 | |
| GreatObject-class | 0.001 | 0.000 | 0.000 | |
| GreatObject | 0 | 0 | 0 | |
| availableCategories-GreatJob-method | 0.164 | 0.010 | 0.176 | |
| availableOntologies-GreatJob-method | 0.108 | 0.004 | 0.113 | |
| extendTSS | 0.000 | 0.000 | 0.001 | |
| extendTSSFromDataFrame | 0.000 | 0.000 | 0.001 | |
| extendTSSFromOrgDb | 0.000 | 0.000 | 0.001 | |
| extendTSSFromTxDb | 0 | 0 | 0 | |
| getEnrichmentTable-GreatJob-method | 0.116 | 0.005 | 0.121 | |
| getEnrichmentTable-GreatObject-method | 0.069 | 0.005 | 0.074 | |
| getEnrichmentTable-dispatch | 0 | 0 | 0 | |
| getEnrichmentTables-GreatJob-method | 0.133 | 0.008 | 0.150 | |
| getEnrichmentTables-GreatObject-method | 0 | 0 | 0 | |
| getEnrichmentTables-dispatch | 0.000 | 0.001 | 0.000 | |
| getGREATDefaultTSS | 0 | 0 | 0 | |
| getGapFromUCSC | 0.067 | 0.002 | 0.070 | |
| getGeneSetsFromBioMart | 0.000 | 0.001 | 0.000 | |
| getGenesFromGencode | 0 | 0 | 0 | |
| getRefSeqGenesFromUCSC | 0.000 | 0.001 | 0.000 | |
| getRegionGeneAssociations-GreatJob-method | 0.615 | 0.013 | 0.630 | |
| getRegionGeneAssociations-GreatObject-method | 1.536 | 0.022 | 1.560 | |
| getRegionGeneAssociations-dispatch | 0 | 0 | 0 | |
| getTSS | 0.000 | 0.001 | 0.000 | |
| great | 0.001 | 0.000 | 0.000 | |
| great_opt | 0.014 | 0.001 | 0.015 | |
| plotRegionGeneAssociationGraphs-GreatJob-method | 0.001 | 0.000 | 0.000 | |
| plotRegionGeneAssociations-GreatJob-method | 0.973 | 0.042 | 1.019 | |
| plotRegionGeneAssociations-GreatObject-method | 1.410 | 0.018 | 1.430 | |
| plotRegionGeneAssociations-dispatch | 0.000 | 0.001 | 0.000 | |
| plotVolcano-GreatJob-method | 0 | 0 | 0 | |
| plotVolcano-GreatObject-method | 0 | 0 | 0 | |
| plotVolcano-dispatch | 0.000 | 0.000 | 0.001 | |
| randomRegions | 0.204 | 0.020 | 0.227 | |
| randomRegionsFromBioMartGenome | 0 | 0 | 0 | |
| read_gmt | 0.022 | 0.032 | 0.408 | |
| reduce_by_start_and_end | 0 | 0 | 0 | |
| shinyReport-GreatJob-method | 0 | 0 | 0 | |
| shinyReport-GreatObject-method | 0.000 | 0.000 | 0.001 | |
| shinyReport-dispatch | 0 | 0 | 0 | |
| submitGreatJob | 0.272 | 0.023 | 8.424 | |