| Back to Multiple platform build/check report for BioC 3.16: simplified long |
|
This page was generated on 2023-04-12 11:05:47 -0400 (Wed, 12 Apr 2023).
| Hostname | OS | Arch (*) | R version | Installed pkgs |
|---|---|---|---|---|
| nebbiolo2 | Linux (Ubuntu 20.04.5 LTS) | x86_64 | 4.2.3 (2023-03-15) -- "Shortstop Beagle" | 4502 |
| palomino4 | Windows Server 2022 Datacenter | x64 | 4.2.3 (2023-03-15 ucrt) -- "Shortstop Beagle" | 4282 |
| lconway | macOS 12.5.1 Monterey | x86_64 | 4.2.3 (2023-03-15) -- "Shortstop Beagle" | 4310 |
| Click on any hostname to see more info about the system (e.g. compilers) (*) as reported by 'uname -p', except on Windows and Mac OS X | ||||
|
To the developers/maintainers of the qvalue package: - Please allow up to 24 hours (and sometimes 48 hours) for your latest push to git@git.bioconductor.org:packages/qvalue.git to reflect on this report. See How and When does the builder pull? When will my changes propagate? for more information. - Make sure to use the following settings in order to reproduce any error or warning you see on this page. |
| Package 1580/2183 | Hostname | OS / Arch | INSTALL | BUILD | CHECK | BUILD BIN | ||||||||
| qvalue 2.30.0 (landing page) John D. Storey
| nebbiolo2 | Linux (Ubuntu 20.04.5 LTS) / x86_64 | OK | OK | OK | |||||||||
| palomino4 | Windows Server 2022 Datacenter / x64 | OK | OK | OK | OK | |||||||||
| lconway | macOS 12.5.1 Monterey / x86_64 | OK | OK | OK | OK | |||||||||
| Package: qvalue |
| Version: 2.30.0 |
| Command: F:\biocbuild\bbs-3.16-bioc\R\bin\R.exe CMD check --no-multiarch --install=check:qvalue.install-out.txt --library=F:\biocbuild\bbs-3.16-bioc\R\library --no-vignettes --timings qvalue_2.30.0.tar.gz |
| StartedAt: 2023-04-11 04:55:11 -0400 (Tue, 11 Apr 2023) |
| EndedAt: 2023-04-11 04:56:05 -0400 (Tue, 11 Apr 2023) |
| EllapsedTime: 53.7 seconds |
| RetCode: 0 |
| Status: OK |
| CheckDir: qvalue.Rcheck |
| Warnings: 0 |
##############################################################################
##############################################################################
###
### Running command:
###
### F:\biocbuild\bbs-3.16-bioc\R\bin\R.exe CMD check --no-multiarch --install=check:qvalue.install-out.txt --library=F:\biocbuild\bbs-3.16-bioc\R\library --no-vignettes --timings qvalue_2.30.0.tar.gz
###
##############################################################################
##############################################################################
* using log directory 'F:/biocbuild/bbs-3.16-bioc/meat/qvalue.Rcheck'
* using R version 4.2.3 (2023-03-15 ucrt)
* using platform: x86_64-w64-mingw32 (64-bit)
* using session charset: UTF-8
* using option '--no-vignettes'
* checking for file 'qvalue/DESCRIPTION' ... OK
* checking extension type ... Package
* this is package 'qvalue' version '2.30.0'
* checking package namespace information ... OK
* checking package dependencies ... OK
* checking if this is a source package ... OK
* checking if there is a namespace ... OK
* checking for hidden files and directories ... OK
* checking for portable file names ... OK
* checking whether package 'qvalue' can be installed ... OK
* checking installed package size ... OK
* checking package directory ... OK
* checking 'build' directory ... OK
* checking DESCRIPTION meta-information ... OK
* checking top-level files ... OK
* checking for left-over files ... OK
* checking index information ... OK
* checking package subdirectories ... OK
* checking R files for non-ASCII characters ... OK
* checking R files for syntax errors ... OK
* checking whether the package can be loaded ... OK
* checking whether the package can be loaded with stated dependencies ... OK
* checking whether the package can be unloaded cleanly ... OK
* checking whether the namespace can be loaded with stated dependencies ... OK
* checking whether the namespace can be unloaded cleanly ... OK
* checking dependencies in R code ... OK
* checking S3 generic/method consistency ... OK
* checking replacement functions ... OK
* checking foreign function calls ... OK
* checking R code for possible problems ... NOTE
hist.qvalue: no visible binding for global variable 'density'
lfdr: no visible global function definition for 'qnorm'
lfdr: no visible global function definition for 'density'
lfdr: no visible global function definition for 'smooth.spline'
lfdr: no visible global function definition for 'predict'
lfdr: no visible global function definition for 'dnorm'
pi0est: no visible global function definition for 'smooth.spline'
pi0est: no visible global function definition for 'predict'
pi0est: no visible global function definition for 'quantile'
plot.qvalue: no visible global function definition for 'quantile'
write.qvalue: no visible global function definition for 'write.table'
Undefined global functions or variables:
density dnorm predict qnorm quantile smooth.spline write.table
Consider adding
importFrom("stats", "density", "dnorm", "predict", "qnorm", "quantile",
"smooth.spline")
importFrom("utils", "write.table")
to your NAMESPACE file.
* checking Rd files ... OK
* checking Rd metadata ... OK
* checking Rd cross-references ... OK
* checking for missing documentation entries ... OK
* checking for code/documentation mismatches ... OK
* checking Rd \usage sections ... OK
* checking Rd contents ... OK
* checking for unstated dependencies in examples ... OK
* checking contents of 'data' directory ... OK
* checking data for non-ASCII characters ... OK
* checking data for ASCII and uncompressed saves ... OK
* checking sizes of PDF files under 'inst/doc' ... OK
* checking installed files from 'inst/doc' ... OK
* checking files in 'vignettes' ... OK
* checking examples ... OK
* checking for unstated dependencies in vignettes ... OK
* checking package vignettes in 'inst/doc' ... OK
* checking running R code from vignettes ... SKIPPED
* checking re-building of vignette outputs ... SKIPPED
* checking PDF version of manual ... OK
* DONE
Status: 1 NOTE
See
'F:/biocbuild/bbs-3.16-bioc/meat/qvalue.Rcheck/00check.log'
for details.
qvalue.Rcheck/00install.out
############################################################################## ############################################################################## ### ### Running command: ### ### F:\biocbuild\bbs-3.16-bioc\R\bin\R.exe CMD INSTALL qvalue ### ############################################################################## ############################################################################## * installing to library 'F:/biocbuild/bbs-3.16-bioc/R/library' * installing *source* package 'qvalue' ... ** using staged installation ** R ** data ** inst ** byte-compile and prepare package for lazy loading ** help *** installing help indices ** building package indices ** installing vignettes ** testing if installed package can be loaded from temporary location ** testing if installed package can be loaded from final location ** testing if installed package keeps a record of temporary installation path * DONE (qvalue)
qvalue.Rcheck/qvalue-Ex.timings
| name | user | system | elapsed | |
| empPvals | 0.09 | 0.00 | 0.10 | |
| hedenfalk | 1.30 | 0.11 | 1.40 | |
| hist.qvalue | 0.43 | 0.00 | 0.43 | |
| lfdr | 0.33 | 0.06 | 0.40 | |
| pi0est | 1.13 | 0.06 | 1.18 | |
| plot.qvalue | 0.47 | 0.02 | 0.49 | |
| qvalue | 0.73 | 0.03 | 0.76 | |
| summary.qvalue | 0.02 | 0.02 | 0.03 | |
| write.qvalue | 0.06 | 0.00 | 0.07 | |