| Back to Multiple platform build/check report for BioC 3.16: simplified long |
|
This page was generated on 2023-04-12 11:05:15 -0400 (Wed, 12 Apr 2023).
| Hostname | OS | Arch (*) | R version | Installed pkgs |
|---|---|---|---|---|
| nebbiolo2 | Linux (Ubuntu 20.04.5 LTS) | x86_64 | 4.2.3 (2023-03-15) -- "Shortstop Beagle" | 4502 |
| palomino4 | Windows Server 2022 Datacenter | x64 | 4.2.3 (2023-03-15 ucrt) -- "Shortstop Beagle" | 4282 |
| lconway | macOS 12.5.1 Monterey | x86_64 | 4.2.3 (2023-03-15) -- "Shortstop Beagle" | 4310 |
| Click on any hostname to see more info about the system (e.g. compilers) (*) as reported by 'uname -p', except on Windows and Mac OS X | ||||
|
To the developers/maintainers of the qvalue package: - Please allow up to 24 hours (and sometimes 48 hours) for your latest push to git@git.bioconductor.org:packages/qvalue.git to reflect on this report. See How and When does the builder pull? When will my changes propagate? for more information. - Make sure to use the following settings in order to reproduce any error or warning you see on this page. |
| Package 1580/2183 | Hostname | OS / Arch | INSTALL | BUILD | CHECK | BUILD BIN | ||||||||
| qvalue 2.30.0 (landing page) John D. Storey
| nebbiolo2 | Linux (Ubuntu 20.04.5 LTS) / x86_64 | OK | OK | OK | |||||||||
| palomino4 | Windows Server 2022 Datacenter / x64 | OK | OK | OK | OK | |||||||||
| lconway | macOS 12.5.1 Monterey / x86_64 | OK | OK | OK | OK | |||||||||
| Package: qvalue |
| Version: 2.30.0 |
| Command: /home/biocbuild/bbs-3.16-bioc/R/bin/R CMD check --install=check:qvalue.install-out.txt --library=/home/biocbuild/bbs-3.16-bioc/R/site-library --timings qvalue_2.30.0.tar.gz |
| StartedAt: 2023-04-10 23:14:11 -0400 (Mon, 10 Apr 2023) |
| EndedAt: 2023-04-10 23:14:52 -0400 (Mon, 10 Apr 2023) |
| EllapsedTime: 41.0 seconds |
| RetCode: 0 |
| Status: OK |
| CheckDir: qvalue.Rcheck |
| Warnings: 0 |
##############################################################################
##############################################################################
###
### Running command:
###
### /home/biocbuild/bbs-3.16-bioc/R/bin/R CMD check --install=check:qvalue.install-out.txt --library=/home/biocbuild/bbs-3.16-bioc/R/site-library --timings qvalue_2.30.0.tar.gz
###
##############################################################################
##############################################################################
* using log directory ‘/home/biocbuild/bbs-3.16-bioc/meat/qvalue.Rcheck’
* using R version 4.2.3 (2023-03-15)
* using platform: x86_64-pc-linux-gnu (64-bit)
* using session charset: UTF-8
* checking for file ‘qvalue/DESCRIPTION’ ... OK
* checking extension type ... Package
* this is package ‘qvalue’ version ‘2.30.0’
* checking package namespace information ... OK
* checking package dependencies ... OK
* checking if this is a source package ... OK
* checking if there is a namespace ... OK
* checking for hidden files and directories ... OK
* checking for portable file names ... OK
* checking for sufficient/correct file permissions ... OK
* checking whether package ‘qvalue’ can be installed ... OK
* checking installed package size ... OK
* checking package directory ... OK
* checking ‘build’ directory ... OK
* checking DESCRIPTION meta-information ... OK
* checking top-level files ... OK
* checking for left-over files ... OK
* checking index information ... OK
* checking package subdirectories ... OK
* checking R files for non-ASCII characters ... OK
* checking R files for syntax errors ... OK
* checking whether the package can be loaded ... OK
* checking whether the package can be loaded with stated dependencies ... OK
* checking whether the package can be unloaded cleanly ... OK
* checking whether the namespace can be loaded with stated dependencies ... OK
* checking whether the namespace can be unloaded cleanly ... OK
* checking loading without being on the library search path ... OK
* checking dependencies in R code ... OK
* checking S3 generic/method consistency ... OK
* checking replacement functions ... OK
* checking foreign function calls ... OK
* checking R code for possible problems ... NOTE
hist.qvalue: no visible binding for global variable ‘density’
lfdr: no visible global function definition for ‘qnorm’
lfdr: no visible global function definition for ‘density’
lfdr: no visible global function definition for ‘smooth.spline’
lfdr: no visible global function definition for ‘predict’
lfdr: no visible global function definition for ‘dnorm’
pi0est: no visible global function definition for ‘smooth.spline’
pi0est: no visible global function definition for ‘predict’
pi0est: no visible global function definition for ‘quantile’
plot.qvalue: no visible global function definition for ‘quantile’
write.qvalue: no visible global function definition for ‘write.table’
Undefined global functions or variables:
density dnorm predict qnorm quantile smooth.spline write.table
Consider adding
importFrom("stats", "density", "dnorm", "predict", "qnorm", "quantile",
"smooth.spline")
importFrom("utils", "write.table")
to your NAMESPACE file.
* checking Rd files ... OK
* checking Rd metadata ... OK
* checking Rd cross-references ... OK
* checking for missing documentation entries ... OK
* checking for code/documentation mismatches ... OK
* checking Rd \usage sections ... OK
* checking Rd contents ... OK
* checking for unstated dependencies in examples ... OK
* checking contents of ‘data’ directory ... OK
* checking data for non-ASCII characters ... OK
* checking data for ASCII and uncompressed saves ... OK
* checking installed files from ‘inst/doc’ ... OK
* checking files in ‘vignettes’ ... OK
* checking examples ... OK
* checking for unstated dependencies in vignettes ... OK
* checking package vignettes in ‘inst/doc’ ... OK
* checking running R code from vignettes ...
‘qvalue.Rnw’ using ‘UTF-8’... OK
NONE
* checking re-building of vignette outputs ... OK
* checking PDF version of manual ... OK
* DONE
Status: 1 NOTE
See
‘/home/biocbuild/bbs-3.16-bioc/meat/qvalue.Rcheck/00check.log’
for details.
qvalue.Rcheck/00install.out
############################################################################## ############################################################################## ### ### Running command: ### ### /home/biocbuild/bbs-3.16-bioc/R/bin/R CMD INSTALL qvalue ### ############################################################################## ############################################################################## * installing to library ‘/home/biocbuild/bbs-3.16-bioc/R/site-library’ * installing *source* package ‘qvalue’ ... ** using staged installation ** R ** data ** inst ** byte-compile and prepare package for lazy loading ** help *** installing help indices ** building package indices ** installing vignettes ** testing if installed package can be loaded from temporary location ** testing if installed package can be loaded from final location ** testing if installed package keeps a record of temporary installation path * DONE (qvalue)
qvalue.Rcheck/qvalue-Ex.timings
| name | user | system | elapsed | |
| empPvals | 0.084 | 0.016 | 0.100 | |
| hedenfalk | 1.141 | 0.032 | 1.173 | |
| hist.qvalue | 0.36 | 0.00 | 0.36 | |
| lfdr | 0.336 | 0.000 | 0.337 | |
| pi0est | 0.988 | 0.016 | 1.004 | |
| plot.qvalue | 0.487 | 0.000 | 0.487 | |
| qvalue | 0.742 | 0.008 | 0.750 | |
| summary.qvalue | 0.026 | 0.000 | 0.025 | |
| write.qvalue | 0.048 | 0.000 | 0.048 | |