| Back to Multiple platform build/check report for BioC 3.16: simplified long |
|
This page was generated on 2023-04-12 11:05:13 -0400 (Wed, 12 Apr 2023).
| Hostname | OS | Arch (*) | R version | Installed pkgs |
|---|---|---|---|---|
| nebbiolo2 | Linux (Ubuntu 20.04.5 LTS) | x86_64 | 4.2.3 (2023-03-15) -- "Shortstop Beagle" | 4502 |
| palomino4 | Windows Server 2022 Datacenter | x64 | 4.2.3 (2023-03-15 ucrt) -- "Shortstop Beagle" | 4282 |
| lconway | macOS 12.5.1 Monterey | x86_64 | 4.2.3 (2023-03-15) -- "Shortstop Beagle" | 4310 |
| Click on any hostname to see more info about the system (e.g. compilers) (*) as reported by 'uname -p', except on Windows and Mac OS X | ||||
|
To the developers/maintainers of the peakPantheR package: - Please allow up to 24 hours (and sometimes 48 hours) for your latest push to git@git.bioconductor.org:packages/peakPantheR.git to reflect on this report. See How and When does the builder pull? When will my changes propagate? for more information. - Make sure to use the following settings in order to reproduce any error or warning you see on this page. |
| Package 1457/2183 | Hostname | OS / Arch | INSTALL | BUILD | CHECK | BUILD BIN | ||||||||
| peakPantheR 1.12.2 (landing page) Arnaud Wolfer
| nebbiolo2 | Linux (Ubuntu 20.04.5 LTS) / x86_64 | OK | OK | OK | |||||||||
| palomino4 | Windows Server 2022 Datacenter / x64 | OK | OK | OK | OK | |||||||||
| lconway | macOS 12.5.1 Monterey / x86_64 | OK | OK | OK | OK | |||||||||
| Package: peakPantheR |
| Version: 1.12.2 |
| Command: /home/biocbuild/bbs-3.16-bioc/R/bin/R CMD check --install=check:peakPantheR.install-out.txt --library=/home/biocbuild/bbs-3.16-bioc/R/site-library --timings peakPantheR_1.12.2.tar.gz |
| StartedAt: 2023-04-10 22:46:48 -0400 (Mon, 10 Apr 2023) |
| EndedAt: 2023-04-10 23:12:26 -0400 (Mon, 10 Apr 2023) |
| EllapsedTime: 1537.8 seconds |
| RetCode: 0 |
| Status: OK |
| CheckDir: peakPantheR.Rcheck |
| Warnings: 0 |
##############################################################################
##############################################################################
###
### Running command:
###
### /home/biocbuild/bbs-3.16-bioc/R/bin/R CMD check --install=check:peakPantheR.install-out.txt --library=/home/biocbuild/bbs-3.16-bioc/R/site-library --timings peakPantheR_1.12.2.tar.gz
###
##############################################################################
##############################################################################
* using log directory ‘/home/biocbuild/bbs-3.16-bioc/meat/peakPantheR.Rcheck’
* using R version 4.2.3 (2023-03-15)
* using platform: x86_64-pc-linux-gnu (64-bit)
* using session charset: UTF-8
* checking for file ‘peakPantheR/DESCRIPTION’ ... OK
* this is package ‘peakPantheR’ version ‘1.12.2’
* package encoding: UTF-8
* checking package namespace information ... OK
* checking package dependencies ... OK
* checking if this is a source package ... OK
* checking if there is a namespace ... OK
* checking for hidden files and directories ... OK
* checking for portable file names ... OK
* checking for sufficient/correct file permissions ... OK
* checking whether package ‘peakPantheR’ can be installed ... OK
* checking installed package size ... OK
* checking package directory ... OK
* checking ‘build’ directory ... OK
* checking DESCRIPTION meta-information ... OK
* checking top-level files ... OK
* checking for left-over files ... OK
* checking index information ... OK
* checking package subdirectories ... OK
* checking R files for non-ASCII characters ... OK
* checking R files for syntax errors ... OK
* checking whether the package can be loaded ... OK
* checking whether the package can be loaded with stated dependencies ... OK
* checking whether the package can be unloaded cleanly ... OK
* checking whether the namespace can be loaded with stated dependencies ... OK
* checking whether the namespace can be unloaded cleanly ... OK
* checking loading without being on the library search path ... OK
* checking dependencies in R code ... OK
* checking S3 generic/method consistency ... OK
* checking replacement functions ... OK
* checking foreign function calls ... OK
* checking R code for possible problems ... OK
* checking Rd files ... OK
* checking Rd metadata ... OK
* checking Rd cross-references ... OK
* checking for missing documentation entries ... OK
* checking for code/documentation mismatches ... OK
* checking Rd \usage sections ... OK
* checking Rd contents ... OK
* checking for unstated dependencies in examples ... OK
* checking files in ‘vignettes’ ... OK
* checking examples ... OK
Examples with CPU (user + system) or elapsed time > 5s
user system elapsed
peakPantheR_ROIStatistics 25.458 0.400 26.393
peakPantheR_parallelAnnotation 19.664 0.235 21.135
retentionTimeCorrection-peakPantheRAnnotation-method 14.972 0.120 15.209
outputAnnotationDiagnostic-peakPantheRAnnotation-method 14.078 0.292 14.393
outputAnnotationResult-peakPantheRAnnotation-method 13.652 0.176 13.878
EICs-peakPantheRAnnotation-method 8.390 0.368 8.770
peakPantheR_singleFileSearch 6.418 0.088 7.269
* checking for unstated dependencies in ‘tests’ ... OK
* checking tests ...
Running ‘testthat.R’
OK
* checking for unstated dependencies in vignettes ... OK
* checking package vignettes in ‘inst/doc’ ... OK
* checking running R code from vignettes ...
‘getting-started.Rmd’ using ‘UTF-8’... OK
‘parallel-annotation.Rmd’ using ‘UTF-8’... OK
‘peakPantheR-GUI.Rmd’ using ‘UTF-8’... OK
‘real-time-annotation.Rmd’ using ‘UTF-8’... OK
NONE
* checking re-building of vignette outputs ... OK
* checking PDF version of manual ... OK
* DONE
Status: OK
peakPantheR.Rcheck/00install.out
############################################################################## ############################################################################## ### ### Running command: ### ### /home/biocbuild/bbs-3.16-bioc/R/bin/R CMD INSTALL peakPantheR ### ############################################################################## ############################################################################## * installing to library ‘/home/biocbuild/bbs-3.16-bioc/R/site-library’ * installing *source* package ‘peakPantheR’ ... ** using staged installation ** R ** inst ** byte-compile and prepare package for lazy loading ** help *** installing help indices *** copying figures ** building package indices ** installing vignettes ** testing if installed package can be loaded from temporary location ** testing if installed package can be loaded from final location ** testing if installed package keeps a record of temporary installation path * DONE (peakPantheR)
peakPantheR.Rcheck/tests/testthat.Rout
R version 4.2.3 (2023-03-15) -- "Shortstop Beagle"
Copyright (C) 2023 The R Foundation for Statistical Computing
Platform: x86_64-pc-linux-gnu (64-bit)
R is free software and comes with ABSOLUTELY NO WARRANTY.
You are welcome to redistribute it under certain conditions.
Type 'license()' or 'licence()' for distribution details.
R is a collaborative project with many contributors.
Type 'contributors()' for more information and
'citation()' on how to cite R or R packages in publications.
Type 'demo()' for some demos, 'help()' for on-line help, or
'help.start()' for an HTML browser interface to help.
Type 'q()' to quit R.
> library(testthat)
> library(peakPantheR)
This is peakPantheR version 1.12.2
>
> test_check("peakPantheR")
[ FAIL 0 | WARN 1 | SKIP 0 | PASS 1438 ]
[ FAIL 0 | WARN 1 | SKIP 0 | PASS 1438 ]
Warning messages:
1: In .Internal(gc(verbose, reset, full)) :
closing unused connection 10 (/tmp/Rtmpba9yUD/notValidXML.mzML)
2: In .Internal(gc(verbose, reset, full)) :
closing unused connection 9 (/tmp/Rtmpba9yUD/notValidXML.mzML)
3: In .Internal(gc(verbose, reset, full)) :
closing unused connection 8 (/tmp/Rtmpba9yUD/notValidXML.mzML)
4: In .Internal(gc(verbose, reset, full)) :
closing unused connection 7 (/tmp/Rtmpba9yUD/notValidXML.mzML)
5: In .Internal(gc(verbose, reset, full)) :
closing unused connection 6 (/home/biocbuild/bbs-3.16-bioc/R/site-library/peakPantheR/extdata/test_fakemzML.mzML)
6: In .Internal(gc(verbose, reset, full)) :
closing unused connection 5 (/home/biocbuild/bbs-3.16-bioc/R/site-library/peakPantheR/extdata/test_fakemzML.mzML)
>
> proc.time()
user system elapsed
937.493 21.347 1198.676
peakPantheR.Rcheck/peakPantheR-Ex.timings
| name | user | system | elapsed | |
| EICs-peakPantheRAnnotation-method | 8.390 | 0.368 | 8.770 | |
| FIR-peakPantheRAnnotation-method | 0.148 | 0.004 | 0.152 | |
| ROI-peakPantheRAnnotation-method | 0.122 | 0.000 | 0.122 | |
| TIC-peakPantheRAnnotation-method | 0.125 | 0.000 | 0.125 | |
| acquisitionTime-peakPantheRAnnotation-method | 0.129 | 0.004 | 0.133 | |
| annotationDiagnosticPlots-peakPantheRAnnotation-method | 0.114 | 0.000 | 0.114 | |
| annotationParamsDiagnostic-peakPantheRAnnotation-method | 0.115 | 0.004 | 0.119 | |
| annotationTable-peakPantheRAnnotation-method | 0.118 | 0.004 | 0.121 | |
| annotation_diagnostic_multiplot_UI_helper | 0.079 | 0.008 | 0.087 | |
| annotation_fit_summary_UI_helper | 0.006 | 0.000 | 0.006 | |
| annotation_showMethod_UI_helper | 0.003 | 0.000 | 0.003 | |
| annotation_showText_UI_helper | 0.000 | 0.000 | 0.001 | |
| cpdID-peakPantheRAnnotation-method | 0.115 | 0.004 | 0.119 | |
| cpdMetadata-peakPantheRAnnotation-method | 0.131 | 0.004 | 0.135 | |
| cpdName-peakPantheRAnnotation-method | 0.144 | 0.000 | 0.145 | |
| dataPoints-peakPantheRAnnotation-method | 0.127 | 0.008 | 0.136 | |
| filename-peakPantheRAnnotation-method | 0.146 | 0.004 | 0.150 | |
| filepath-peakPantheRAnnotation-method | 0.121 | 0.004 | 0.125 | |
| initialise_annotation_from_files_UI_helper | 0.012 | 0.000 | 0.011 | |
| isAnnotated-peakPantheRAnnotation-method | 0.12 | 0.00 | 0.12 | |
| load_annotation_from_file_UI_helper | 0.006 | 0.000 | 0.005 | |
| nbCompounds-peakPantheRAnnotation-method | 0.126 | 0.000 | 0.127 | |
| nbSamples-peakPantheRAnnotation-method | 0.133 | 0.004 | 0.137 | |
| outputAnnotationDiagnostic-peakPantheRAnnotation-method | 14.078 | 0.292 | 14.393 | |
| outputAnnotationFeatureMetadata_UI_helper | 0.004 | 0.000 | 0.005 | |
| outputAnnotationParamsCSV-peakPantheRAnnotation-method | 0.017 | 0.004 | 0.021 | |
| outputAnnotationResult-peakPantheRAnnotation-method | 13.652 | 0.176 | 13.878 | |
| outputAnnotationSpectraMetadata_UI_helper | 0.009 | 0.000 | 0.009 | |
| peakFit-peakPantheRAnnotation-method | 0.350 | 0.004 | 0.353 | |
| peakPantheRAnnotation | 0.397 | 0.000 | 0.398 | |
| peakPantheR_ROIStatistics | 25.458 | 0.400 | 26.393 | |
| peakPantheR_loadAnnotationParamsCSV | 0.005 | 0.000 | 0.006 | |
| peakPantheR_parallelAnnotation | 19.664 | 0.235 | 21.135 | |
| peakPantheR_plotEICFit | 0.304 | 0.000 | 0.305 | |
| peakPantheR_plotPeakwidth | 0.515 | 0.008 | 0.524 | |
| peakPantheR_singleFileSearch | 6.418 | 0.088 | 7.269 | |
| peakPantheR_start_GUI | 0 | 0 | 0 | |
| peakTables-peakPantheRAnnotation-method | 0.145 | 0.000 | 0.145 | |
| resetAnnotation-peakPantheRAnnotation-method | 0.174 | 0.000 | 0.174 | |
| resetFIR-peakPantheRAnnotation-method | 0.004 | 0.000 | 0.004 | |
| retentionTimeCorrection-peakPantheRAnnotation-method | 14.972 | 0.120 | 15.209 | |
| spectraMetadata-peakPantheRAnnotation-method | 0.414 | 0.003 | 0.418 | |
| spectraPaths_and_metadata_UI_helper | 0.000 | 0.004 | 0.004 | |
| spectra_metadata_colourScheme_UI_helper | 0.007 | 0.000 | 0.007 | |
| uROI-peakPantheRAnnotation-method | 0.387 | 0.004 | 0.391 | |
| uROIExist-peakPantheRAnnotation-method | 0.358 | 0.008 | 0.366 | |
| useFIR-peakPantheRAnnotation-method | 0.363 | 0.004 | 0.367 | |
| useUROI-peakPantheRAnnotation-method | 0.361 | 0.008 | 0.369 | |