| Back to Multiple platform build/check report for BioC 3.16: simplified long |
|
This page was generated on 2023-04-12 11:06:19 -0400 (Wed, 12 Apr 2023).
| Hostname | OS | Arch (*) | R version | Installed pkgs |
|---|---|---|---|---|
| nebbiolo2 | Linux (Ubuntu 20.04.5 LTS) | x86_64 | 4.2.3 (2023-03-15) -- "Shortstop Beagle" | 4502 |
| palomino4 | Windows Server 2022 Datacenter | x64 | 4.2.3 (2023-03-15 ucrt) -- "Shortstop Beagle" | 4282 |
| lconway | macOS 12.5.1 Monterey | x86_64 | 4.2.3 (2023-03-15) -- "Shortstop Beagle" | 4310 |
| Click on any hostname to see more info about the system (e.g. compilers) (*) as reported by 'uname -p', except on Windows and Mac OS X | ||||
|
To the developers/maintainers of the peakPantheR package: - Please allow up to 24 hours (and sometimes 48 hours) for your latest push to git@git.bioconductor.org:packages/peakPantheR.git to reflect on this report. See How and When does the builder pull? When will my changes propagate? for more information. - Make sure to use the following settings in order to reproduce any error or warning you see on this page. |
| Package 1457/2183 | Hostname | OS / Arch | INSTALL | BUILD | CHECK | BUILD BIN | ||||||||
| peakPantheR 1.12.2 (landing page) Arnaud Wolfer
| nebbiolo2 | Linux (Ubuntu 20.04.5 LTS) / x86_64 | OK | OK | OK | |||||||||
| palomino4 | Windows Server 2022 Datacenter / x64 | OK | OK | OK | OK | |||||||||
| lconway | macOS 12.5.1 Monterey / x86_64 | OK | OK | OK | OK | |||||||||
| Package: peakPantheR |
| Version: 1.12.2 |
| Command: /Library/Frameworks/R.framework/Resources/bin/R CMD check --install=check:peakPantheR.install-out.txt --library=/Library/Frameworks/R.framework/Resources/library --no-vignettes --timings peakPantheR_1.12.2.tar.gz |
| StartedAt: 2023-04-10 21:48:12 -0400 (Mon, 10 Apr 2023) |
| EndedAt: 2023-04-10 22:02:21 -0400 (Mon, 10 Apr 2023) |
| EllapsedTime: 849.5 seconds |
| RetCode: 0 |
| Status: OK |
| CheckDir: peakPantheR.Rcheck |
| Warnings: 0 |
##############################################################################
##############################################################################
###
### Running command:
###
### /Library/Frameworks/R.framework/Resources/bin/R CMD check --install=check:peakPantheR.install-out.txt --library=/Library/Frameworks/R.framework/Resources/library --no-vignettes --timings peakPantheR_1.12.2.tar.gz
###
##############################################################################
##############################################################################
* using log directory ‘/Users/biocbuild/bbs-3.16-bioc/meat/peakPantheR.Rcheck’
* using R version 4.2.3 (2023-03-15)
* using platform: x86_64-apple-darwin17.0 (64-bit)
* using session charset: UTF-8
* using option ‘--no-vignettes’
* checking for file ‘peakPantheR/DESCRIPTION’ ... OK
* this is package ‘peakPantheR’ version ‘1.12.2’
* package encoding: UTF-8
* checking package namespace information ... OK
* checking package dependencies ... OK
* checking if this is a source package ... OK
* checking if there is a namespace ... OK
* checking for hidden files and directories ... OK
* checking for portable file names ... OK
* checking for sufficient/correct file permissions ... OK
* checking whether package ‘peakPantheR’ can be installed ... OK
* checking installed package size ... OK
* checking package directory ... OK
* checking ‘build’ directory ... OK
* checking DESCRIPTION meta-information ... OK
* checking top-level files ... OK
* checking for left-over files ... OK
* checking index information ... OK
* checking package subdirectories ... OK
* checking R files for non-ASCII characters ... OK
* checking R files for syntax errors ... OK
* checking whether the package can be loaded ... OK
* checking whether the package can be loaded with stated dependencies ... OK
* checking whether the package can be unloaded cleanly ... OK
* checking whether the namespace can be loaded with stated dependencies ... OK
* checking whether the namespace can be unloaded cleanly ... OK
* checking dependencies in R code ... OK
* checking S3 generic/method consistency ... OK
* checking replacement functions ... OK
* checking foreign function calls ... OK
* checking R code for possible problems ... OK
* checking Rd files ... OK
* checking Rd metadata ... OK
* checking Rd cross-references ... OK
* checking for missing documentation entries ... OK
* checking for code/documentation mismatches ... OK
* checking Rd \usage sections ... OK
* checking Rd contents ... OK
* checking for unstated dependencies in examples ... OK
* checking files in ‘vignettes’ ... OK
* checking examples ... OK
Examples with CPU (user + system) or elapsed time > 5s
user system elapsed
peakPantheR_ROIStatistics 15.388 0.153 15.579
peakPantheR_parallelAnnotation 11.469 0.100 11.586
outputAnnotationResult-peakPantheRAnnotation-method 10.950 0.101 11.099
outputAnnotationDiagnostic-peakPantheRAnnotation-method 10.917 0.093 11.072
EICs-peakPantheRAnnotation-method 7.268 0.326 7.630
retentionTimeCorrection-peakPantheRAnnotation-method 7.519 0.055 7.592
* checking for unstated dependencies in ‘tests’ ... OK
* checking tests ...
Running ‘testthat.R’
OK
* checking for unstated dependencies in vignettes ... OK
* checking package vignettes in ‘inst/doc’ ... OK
* checking running R code from vignettes ... SKIPPED
* checking re-building of vignette outputs ... SKIPPED
* checking PDF version of manual ... OK
* DONE
Status: OK
peakPantheR.Rcheck/00install.out
############################################################################## ############################################################################## ### ### Running command: ### ### /Library/Frameworks/R.framework/Resources/bin/R CMD INSTALL peakPantheR ### ############################################################################## ############################################################################## * installing to library ‘/Library/Frameworks/R.framework/Versions/4.2/Resources/library’ * installing *source* package ‘peakPantheR’ ... ** using staged installation ** R ** inst ** byte-compile and prepare package for lazy loading ** help *** installing help indices *** copying figures ** building package indices ** installing vignettes ** testing if installed package can be loaded from temporary location ** testing if installed package can be loaded from final location ** testing if installed package keeps a record of temporary installation path * DONE (peakPantheR)
peakPantheR.Rcheck/tests/testthat.Rout
R version 4.2.3 (2023-03-15) -- "Shortstop Beagle"
Copyright (C) 2023 The R Foundation for Statistical Computing
Platform: x86_64-apple-darwin17.0 (64-bit)
R is free software and comes with ABSOLUTELY NO WARRANTY.
You are welcome to redistribute it under certain conditions.
Type 'license()' or 'licence()' for distribution details.
R is a collaborative project with many contributors.
Type 'contributors()' for more information and
'citation()' on how to cite R or R packages in publications.
Type 'demo()' for some demos, 'help()' for on-line help, or
'help.start()' for an HTML browser interface to help.
Type 'q()' to quit R.
> library(testthat)
> library(peakPantheR)
This is peakPantheR version 1.12.2
>
> test_check("peakPantheR")
2023-04-10 21:54:20.538 R[51274:1014715106] XType: com.apple.fonts is not accessible.
2023-04-10 21:54:20.538 R[51274:1014715106] XType: XTFontStaticRegistry is enabled.
2023-04-10 21:54:32.928 R[72252:1014779953] XType: com.apple.fonts is not accessible.
2023-04-10 21:54:32.928 R[72252:1014779953] XType: XTFontStaticRegistry is enabled.
2023-04-10 21:54:40.787 R[73319:1014874092] XType: com.apple.fonts is not accessible.
2023-04-10 21:54:40.787 R[73319:1014874092] XType: XTFontStaticRegistry is enabled.
2023-04-10 21:57:24.411 R[85110:1014909474] XType: com.apple.fonts is not accessible.
2023-04-10 21:57:24.411 R[85110:1014909474] XType: XTFontStaticRegistry is enabled.
[ FAIL 0 | WARN 1 | SKIP 0 | PASS 1438 ]
[ FAIL 0 | WARN 1 | SKIP 0 | PASS 1438 ]
Warning messages:
1: In .Internal(gc(verbose, reset, full)) :
closing unused connection 10 (/private/tmp/Rtmp8Un393/notValidXML.mzML)
2: In .Internal(gc(verbose, reset, full)) :
closing unused connection 9 (/private/tmp/Rtmp8Un393/notValidXML.mzML)
3: In .Internal(gc(verbose, reset, full)) :
closing unused connection 8 (/private/tmp/Rtmp8Un393/notValidXML.mzML)
4: In .Internal(gc(verbose, reset, full)) :
closing unused connection 7 (/private/tmp/Rtmp8Un393/notValidXML.mzML)
5: In .Internal(gc(verbose, reset, full)) :
closing unused connection 6 (/Library/Frameworks/R.framework/Versions/4.2/Resources/library/peakPantheR/extdata/test_fakemzML.mzML)
6: In .Internal(gc(verbose, reset, full)) :
closing unused connection 5 (/Library/Frameworks/R.framework/Versions/4.2/Resources/library/peakPantheR/extdata/test_fakemzML.mzML)
>
> proc.time()
user system elapsed
565.371 4.947 704.316
peakPantheR.Rcheck/peakPantheR-Ex.timings
| name | user | system | elapsed | |
| EICs-peakPantheRAnnotation-method | 7.268 | 0.326 | 7.630 | |
| FIR-peakPantheRAnnotation-method | 0.173 | 0.014 | 0.187 | |
| ROI-peakPantheRAnnotation-method | 0.780 | 0.017 | 0.801 | |
| TIC-peakPantheRAnnotation-method | 0.170 | 0.009 | 0.180 | |
| acquisitionTime-peakPantheRAnnotation-method | 0.163 | 0.015 | 0.186 | |
| annotationDiagnosticPlots-peakPantheRAnnotation-method | 0.174 | 0.011 | 0.185 | |
| annotationParamsDiagnostic-peakPantheRAnnotation-method | 0.178 | 0.011 | 0.189 | |
| annotationTable-peakPantheRAnnotation-method | 0.201 | 0.013 | 0.216 | |
| annotation_diagnostic_multiplot_UI_helper | 0.096 | 0.004 | 0.101 | |
| annotation_fit_summary_UI_helper | 0.008 | 0.001 | 0.008 | |
| annotation_showMethod_UI_helper | 0.003 | 0.000 | 0.004 | |
| annotation_showText_UI_helper | 0.000 | 0.000 | 0.001 | |
| cpdID-peakPantheRAnnotation-method | 0.189 | 0.011 | 0.200 | |
| cpdMetadata-peakPantheRAnnotation-method | 0.199 | 0.015 | 0.218 | |
| cpdName-peakPantheRAnnotation-method | 0.204 | 0.018 | 0.227 | |
| dataPoints-peakPantheRAnnotation-method | 0.205 | 0.014 | 0.220 | |
| filename-peakPantheRAnnotation-method | 0.174 | 0.010 | 0.185 | |
| filepath-peakPantheRAnnotation-method | 0.199 | 0.010 | 0.238 | |
| initialise_annotation_from_files_UI_helper | 0.013 | 0.001 | 0.014 | |
| isAnnotated-peakPantheRAnnotation-method | 0.185 | 0.012 | 0.197 | |
| load_annotation_from_file_UI_helper | 0.005 | 0.001 | 0.005 | |
| nbCompounds-peakPantheRAnnotation-method | 0.191 | 0.010 | 0.201 | |
| nbSamples-peakPantheRAnnotation-method | 0.161 | 0.009 | 0.169 | |
| outputAnnotationDiagnostic-peakPantheRAnnotation-method | 10.917 | 0.093 | 11.072 | |
| outputAnnotationFeatureMetadata_UI_helper | 0.004 | 0.001 | 0.004 | |
| outputAnnotationParamsCSV-peakPantheRAnnotation-method | 0.021 | 0.001 | 0.022 | |
| outputAnnotationResult-peakPantheRAnnotation-method | 10.950 | 0.101 | 11.099 | |
| outputAnnotationSpectraMetadata_UI_helper | 0.006 | 0.002 | 0.008 | |
| peakFit-peakPantheRAnnotation-method | 0.183 | 0.012 | 0.197 | |
| peakPantheRAnnotation | 0.190 | 0.016 | 0.211 | |
| peakPantheR_ROIStatistics | 15.388 | 0.153 | 15.579 | |
| peakPantheR_loadAnnotationParamsCSV | 0.007 | 0.001 | 0.008 | |
| peakPantheR_parallelAnnotation | 11.469 | 0.100 | 11.586 | |
| peakPantheR_plotEICFit | 0.270 | 0.003 | 0.274 | |
| peakPantheR_plotPeakwidth | 0.500 | 0.017 | 0.521 | |
| peakPantheR_singleFileSearch | 3.865 | 0.044 | 3.915 | |
| peakPantheR_start_GUI | 0.000 | 0.000 | 0.001 | |
| peakTables-peakPantheRAnnotation-method | 0.223 | 0.012 | 0.237 | |
| resetAnnotation-peakPantheRAnnotation-method | 0.207 | 0.013 | 0.222 | |
| resetFIR-peakPantheRAnnotation-method | 0.004 | 0.001 | 0.004 | |
| retentionTimeCorrection-peakPantheRAnnotation-method | 7.519 | 0.055 | 7.592 | |
| spectraMetadata-peakPantheRAnnotation-method | 0.180 | 0.009 | 0.189 | |
| spectraPaths_and_metadata_UI_helper | 0.002 | 0.001 | 0.003 | |
| spectra_metadata_colourScheme_UI_helper | 0.004 | 0.000 | 0.005 | |
| uROI-peakPantheRAnnotation-method | 0.222 | 0.012 | 0.236 | |
| uROIExist-peakPantheRAnnotation-method | 0.214 | 0.012 | 0.226 | |
| useFIR-peakPantheRAnnotation-method | 0.211 | 0.012 | 0.224 | |
| useUROI-peakPantheRAnnotation-method | 0.189 | 0.011 | 0.199 | |