| Back to Multiple platform build/check report for BioC 3.16: simplified long |
|
This page was generated on 2023-04-12 11:05:13 -0400 (Wed, 12 Apr 2023).
| Hostname | OS | Arch (*) | R version | Installed pkgs |
|---|---|---|---|---|
| nebbiolo2 | Linux (Ubuntu 20.04.5 LTS) | x86_64 | 4.2.3 (2023-03-15) -- "Shortstop Beagle" | 4502 |
| palomino4 | Windows Server 2022 Datacenter | x64 | 4.2.3 (2023-03-15 ucrt) -- "Shortstop Beagle" | 4282 |
| lconway | macOS 12.5.1 Monterey | x86_64 | 4.2.3 (2023-03-15) -- "Shortstop Beagle" | 4310 |
| Click on any hostname to see more info about the system (e.g. compilers) (*) as reported by 'uname -p', except on Windows and Mac OS X | ||||
|
To the developers/maintainers of the pathwayPCA package: - Please allow up to 24 hours (and sometimes 48 hours) for your latest push to git@git.bioconductor.org:packages/pathwayPCA.git to reflect on this report. See How and When does the builder pull? When will my changes propagate? for more information. - Make sure to use the following settings in order to reproduce any error or warning you see on this page. |
| Package 1447/2183 | Hostname | OS / Arch | INSTALL | BUILD | CHECK | BUILD BIN | ||||||||
| pathwayPCA 1.14.0 (landing page) Gabriel Odom
| nebbiolo2 | Linux (Ubuntu 20.04.5 LTS) / x86_64 | OK | OK | OK | |||||||||
| palomino4 | Windows Server 2022 Datacenter / x64 | OK | OK | OK | OK | |||||||||
| lconway | macOS 12.5.1 Monterey / x86_64 | OK | OK | OK | OK | |||||||||
| Package: pathwayPCA |
| Version: 1.14.0 |
| Command: /home/biocbuild/bbs-3.16-bioc/R/bin/R CMD check --install=check:pathwayPCA.install-out.txt --library=/home/biocbuild/bbs-3.16-bioc/R/site-library --timings pathwayPCA_1.14.0.tar.gz |
| StartedAt: 2023-04-10 22:44:01 -0400 (Mon, 10 Apr 2023) |
| EndedAt: 2023-04-10 22:52:14 -0400 (Mon, 10 Apr 2023) |
| EllapsedTime: 492.8 seconds |
| RetCode: 0 |
| Status: OK |
| CheckDir: pathwayPCA.Rcheck |
| Warnings: 0 |
##############################################################################
##############################################################################
###
### Running command:
###
### /home/biocbuild/bbs-3.16-bioc/R/bin/R CMD check --install=check:pathwayPCA.install-out.txt --library=/home/biocbuild/bbs-3.16-bioc/R/site-library --timings pathwayPCA_1.14.0.tar.gz
###
##############################################################################
##############################################################################
* using log directory ‘/home/biocbuild/bbs-3.16-bioc/meat/pathwayPCA.Rcheck’
* using R version 4.2.3 (2023-03-15)
* using platform: x86_64-pc-linux-gnu (64-bit)
* using session charset: UTF-8
* checking for file ‘pathwayPCA/DESCRIPTION’ ... OK
* checking extension type ... Package
* this is package ‘pathwayPCA’ version ‘1.14.0’
* package encoding: UTF-8
* checking package namespace information ... OK
* checking package dependencies ... OK
* checking if this is a source package ... OK
* checking if there is a namespace ... OK
* checking for hidden files and directories ... OK
* checking for portable file names ... OK
* checking for sufficient/correct file permissions ... OK
* checking whether package ‘pathwayPCA’ can be installed ... OK
* checking installed package size ... OK
* checking package directory ... OK
* checking ‘build’ directory ... OK
* checking DESCRIPTION meta-information ... OK
* checking top-level files ... OK
* checking for left-over files ... OK
* checking index information ... OK
* checking package subdirectories ... OK
* checking R files for non-ASCII characters ... OK
* checking R files for syntax errors ... OK
* checking whether the package can be loaded ... OK
* checking whether the package can be loaded with stated dependencies ... OK
* checking whether the package can be unloaded cleanly ... OK
* checking whether the namespace can be loaded with stated dependencies ... OK
* checking whether the namespace can be unloaded cleanly ... OK
* checking loading without being on the library search path ... OK
* checking dependencies in R code ... OK
* checking S3 generic/method consistency ... OK
* checking replacement functions ... OK
* checking foreign function calls ... OK
* checking R code for possible problems ... OK
* checking Rd files ... OK
* checking Rd metadata ... OK
* checking Rd cross-references ... OK
* checking for missing documentation entries ... OK
* checking for code/documentation mismatches ... OK
* checking Rd \usage sections ... OK
* checking Rd contents ... OK
* checking for unstated dependencies in examples ... OK
* checking contents of ‘data’ directory ... OK
* checking data for non-ASCII characters ... OK
* checking data for ASCII and uncompressed saves ... OK
* checking files in ‘vignettes’ ... OK
* checking examples ... OK
Examples with CPU (user + system) or elapsed time > 5s
user system elapsed
SE2Tidy 15.800 0.664 16.569
SuperPCA_pVals 0.631 0.024 9.332
getPathpVals 0.648 0.004 18.971
LoadOntoPCs 0.394 0.084 5.752
AESPCA_pVals 0.366 0.060 5.572
getPathPCLs 0.272 0.004 10.026
* checking for unstated dependencies in ‘tests’ ... OK
* checking tests ...
Running ‘testthat.R’
OK
* checking for unstated dependencies in vignettes ... OK
* checking package vignettes in ‘inst/doc’ ... OK
* checking running R code from vignettes ...
‘Introduction_to_pathwayPCA.Rmd’ using ‘UTF-8’... OK
‘Supplement1-Quickstart_Guide.Rmd’ using ‘UTF-8’... OK
‘Supplement2-Importing_Data.Rmd’ using ‘UTF-8’... OK
‘Supplement3-Create_Omics_Objects.Rmd’ using ‘UTF-8’... OK
‘Supplement4-Methods_Walkthrough.Rmd’ using ‘UTF-8’... OK
‘Supplement5-Analyse_Results.Rmd’ using ‘UTF-8’... OK
NONE
* checking re-building of vignette outputs ... OK
* checking PDF version of manual ... OK
* DONE
Status: OK
pathwayPCA.Rcheck/00install.out
############################################################################## ############################################################################## ### ### Running command: ### ### /home/biocbuild/bbs-3.16-bioc/R/bin/R CMD INSTALL pathwayPCA ### ############################################################################## ############################################################################## * installing to library ‘/home/biocbuild/bbs-3.16-bioc/R/site-library’ * installing *source* package ‘pathwayPCA’ ... ** using staged installation ** R ** data ** inst ** byte-compile and prepare package for lazy loading ** help *** installing help indices ** building package indices ** installing vignettes ** testing if installed package can be loaded from temporary location ** testing if installed package can be loaded from final location ** testing if installed package keeps a record of temporary installation path * DONE (pathwayPCA)
pathwayPCA.Rcheck/tests/testthat.Rout
R version 4.2.3 (2023-03-15) -- "Shortstop Beagle"
Copyright (C) 2023 The R Foundation for Statistical Computing
Platform: x86_64-pc-linux-gnu (64-bit)
R is free software and comes with ABSOLUTELY NO WARRANTY.
You are welcome to redistribute it under certain conditions.
Type 'license()' or 'licence()' for distribution details.
R is a collaborative project with many contributors.
Type 'contributors()' for more information and
'citation()' on how to cite R or R packages in publications.
Type 'demo()' for some demos, 'help()' for on-line help, or
'help.start()' for an HTML browser interface to help.
Type 'q()' to quit R.
> library(testthat)
> library(pathwayPCA)
>
> test_check("pathwayPCA")
[ FAIL 0 | WARN 0 | SKIP 0 | PASS 47 ]
>
> proc.time()
user system elapsed
19.048 2.051 68.627
pathwayPCA.Rcheck/pathwayPCA-Ex.timings
| name | user | system | elapsed | |
| AESPCA_pVals | 0.366 | 0.060 | 5.572 | |
| CheckAssay | 0 | 0 | 0 | |
| CheckPwyColl | 0 | 0 | 0 | |
| CheckSampleIDs | 0 | 0 | 0 | |
| Contains | 0 | 0 | 0 | |
| ControlFDR | 0 | 0 | 0 | |
| CreateOmics | 0.359 | 0.004 | 0.363 | |
| CreateOmicsPathway | 0.153 | 0.003 | 0.156 | |
| CreatePathwayCollection | 0.006 | 0.000 | 0.006 | |
| ExtractAESPCs | 0.300 | 0.047 | 3.618 | |
| GumbelMixpValues | 0.001 | 0.000 | 0.000 | |
| IntersectOmicsPwyCollct | 0 | 0 | 0 | |
| JoinPhenoAssay | 0.001 | 0.000 | 0.000 | |
| LoadOntoPCs | 0.394 | 0.084 | 5.752 | |
| OptimGumbelMixParams | 0.000 | 0.000 | 0.001 | |
| PathwaytValues | 0 | 0 | 0 | |
| PermTestCateg | 0 | 0 | 0 | |
| PermTestReg | 0.001 | 0.000 | 0.000 | |
| PermTestSurv | 0.000 | 0.000 | 0.001 | |
| SE2Tidy | 15.800 | 0.664 | 16.569 | |
| SubsetPathwayCollection | 0.005 | 0.000 | 0.005 | |
| SubsetPathwayData | 0.582 | 0.044 | 0.639 | |
| SuperPCA_pVals | 0.631 | 0.024 | 9.332 | |
| TabulatepValues | 0.001 | 0.000 | 0.000 | |
| TransposeAssay | 0.060 | 0.004 | 0.064 | |
| WhichPathways | 0.005 | 0.000 | 0.005 | |
| aespca | 0 | 0 | 0 | |
| coxTrain_fun | 0 | 0 | 0 | |
| getPathPCLs | 0.272 | 0.004 | 10.026 | |
| getPathpVals | 0.648 | 0.004 | 18.971 | |
| get_set_OmicsPathway | 1.773 | 0.212 | 2.940 | |
| get_set_OmicsRegCateg | 0.671 | 0.000 | 0.751 | |
| get_set_OmicsSurv | 1.061 | 0.008 | 1.069 | |
| glmTrain_fun | 0.000 | 0.000 | 0.001 | |
| lars.lsa | 0 | 0 | 0 | |
| mysvd | 0.000 | 0.000 | 0.001 | |
| normalize | 0 | 0 | 0 | |
| olsTrain_fun | 0.001 | 0.000 | 0.000 | |
| pathway_tControl | 0 | 0 | 0 | |
| pathway_tScores | 0.000 | 0.000 | 0.001 | |
| permuteSamps | 0 | 0 | 0 | |
| print.pathwayCollection | 0.005 | 0.000 | 0.006 | |
| read_gmt | 0.116 | 0.000 | 0.117 | |
| show-OmicsPathway-method | 0.276 | 0.000 | 0.276 | |
| superpc.st | 0.001 | 0.000 | 0.000 | |
| superpc.train | 0 | 0 | 0 | |
| write_gmt | 0.002 | 0.000 | 0.003 | |