| Back to Multiple platform build/check report for BioC 3.16: simplified long |
|
This page was generated on 2023-04-12 11:06:19 -0400 (Wed, 12 Apr 2023).
| Hostname | OS | Arch (*) | R version | Installed pkgs |
|---|---|---|---|---|
| nebbiolo2 | Linux (Ubuntu 20.04.5 LTS) | x86_64 | 4.2.3 (2023-03-15) -- "Shortstop Beagle" | 4502 |
| palomino4 | Windows Server 2022 Datacenter | x64 | 4.2.3 (2023-03-15 ucrt) -- "Shortstop Beagle" | 4282 |
| lconway | macOS 12.5.1 Monterey | x86_64 | 4.2.3 (2023-03-15) -- "Shortstop Beagle" | 4310 |
| Click on any hostname to see more info about the system (e.g. compilers) (*) as reported by 'uname -p', except on Windows and Mac OS X | ||||
|
To the developers/maintainers of the pathwayPCA package: - Please allow up to 24 hours (and sometimes 48 hours) for your latest push to git@git.bioconductor.org:packages/pathwayPCA.git to reflect on this report. See How and When does the builder pull? When will my changes propagate? for more information. - Make sure to use the following settings in order to reproduce any error or warning you see on this page. |
| Package 1447/2183 | Hostname | OS / Arch | INSTALL | BUILD | CHECK | BUILD BIN | ||||||||
| pathwayPCA 1.14.0 (landing page) Gabriel Odom
| nebbiolo2 | Linux (Ubuntu 20.04.5 LTS) / x86_64 | OK | OK | OK | |||||||||
| palomino4 | Windows Server 2022 Datacenter / x64 | OK | OK | OK | OK | |||||||||
| lconway | macOS 12.5.1 Monterey / x86_64 | OK | OK | OK | OK | |||||||||
| Package: pathwayPCA |
| Version: 1.14.0 |
| Command: /Library/Frameworks/R.framework/Resources/bin/R CMD check --install=check:pathwayPCA.install-out.txt --library=/Library/Frameworks/R.framework/Resources/library --no-vignettes --timings pathwayPCA_1.14.0.tar.gz |
| StartedAt: 2023-04-10 21:46:57 -0400 (Mon, 10 Apr 2023) |
| EndedAt: 2023-04-10 21:49:10 -0400 (Mon, 10 Apr 2023) |
| EllapsedTime: 132.2 seconds |
| RetCode: 0 |
| Status: OK |
| CheckDir: pathwayPCA.Rcheck |
| Warnings: 0 |
##############################################################################
##############################################################################
###
### Running command:
###
### /Library/Frameworks/R.framework/Resources/bin/R CMD check --install=check:pathwayPCA.install-out.txt --library=/Library/Frameworks/R.framework/Resources/library --no-vignettes --timings pathwayPCA_1.14.0.tar.gz
###
##############################################################################
##############################################################################
* using log directory ‘/Users/biocbuild/bbs-3.16-bioc/meat/pathwayPCA.Rcheck’
* using R version 4.2.3 (2023-03-15)
* using platform: x86_64-apple-darwin17.0 (64-bit)
* using session charset: UTF-8
* using option ‘--no-vignettes’
* checking for file ‘pathwayPCA/DESCRIPTION’ ... OK
* checking extension type ... Package
* this is package ‘pathwayPCA’ version ‘1.14.0’
* package encoding: UTF-8
* checking package namespace information ... OK
* checking package dependencies ... OK
* checking if this is a source package ... OK
* checking if there is a namespace ... OK
* checking for hidden files and directories ... OK
* checking for portable file names ... OK
* checking for sufficient/correct file permissions ... OK
* checking whether package ‘pathwayPCA’ can be installed ... OK
* checking installed package size ... OK
* checking package directory ... OK
* checking ‘build’ directory ... OK
* checking DESCRIPTION meta-information ... OK
* checking top-level files ... OK
* checking for left-over files ... OK
* checking index information ... OK
* checking package subdirectories ... OK
* checking R files for non-ASCII characters ... OK
* checking R files for syntax errors ... OK
* checking whether the package can be loaded ... OK
* checking whether the package can be loaded with stated dependencies ... OK
* checking whether the package can be unloaded cleanly ... OK
* checking whether the namespace can be loaded with stated dependencies ... OK
* checking whether the namespace can be unloaded cleanly ... OK
* checking dependencies in R code ... OK
* checking S3 generic/method consistency ... OK
* checking replacement functions ... OK
* checking foreign function calls ... OK
* checking R code for possible problems ... OK
* checking Rd files ... OK
* checking Rd metadata ... OK
* checking Rd cross-references ... OK
* checking for missing documentation entries ... OK
* checking for code/documentation mismatches ... OK
* checking Rd \usage sections ... OK
* checking Rd contents ... OK
* checking for unstated dependencies in examples ... OK
* checking contents of ‘data’ directory ... OK
* checking data for non-ASCII characters ... OK
* checking data for ASCII and uncompressed saves ... OK
* checking files in ‘vignettes’ ... OK
* checking examples ... OK
Examples with CPU (user + system) or elapsed time > 5s
user system elapsed
SE2Tidy 8.120 0.261 8.411
LoadOntoPCs 0.431 0.121 5.942
AESPCA_pVals 0.368 0.102 5.726
SuperPCA_pVals 0.306 0.026 5.560
getPathPCLs 0.287 0.035 6.369
getPathpVals 0.220 0.022 6.197
* checking for unstated dependencies in ‘tests’ ... OK
* checking tests ...
Running ‘testthat.R’
OK
* checking for unstated dependencies in vignettes ... OK
* checking package vignettes in ‘inst/doc’ ... OK
* checking running R code from vignettes ... SKIPPED
* checking re-building of vignette outputs ... SKIPPED
* checking PDF version of manual ... OK
* DONE
Status: OK
pathwayPCA.Rcheck/00install.out
############################################################################## ############################################################################## ### ### Running command: ### ### /Library/Frameworks/R.framework/Resources/bin/R CMD INSTALL pathwayPCA ### ############################################################################## ############################################################################## * installing to library ‘/Library/Frameworks/R.framework/Versions/4.2/Resources/library’ * installing *source* package ‘pathwayPCA’ ... ** using staged installation ** R ** data ** inst ** byte-compile and prepare package for lazy loading ** help *** installing help indices ** building package indices ** installing vignettes ** testing if installed package can be loaded from temporary location ** testing if installed package can be loaded from final location ** testing if installed package keeps a record of temporary installation path * DONE (pathwayPCA)
pathwayPCA.Rcheck/tests/testthat.Rout
R version 4.2.3 (2023-03-15) -- "Shortstop Beagle"
Copyright (C) 2023 The R Foundation for Statistical Computing
Platform: x86_64-apple-darwin17.0 (64-bit)
R is free software and comes with ABSOLUTELY NO WARRANTY.
You are welcome to redistribute it under certain conditions.
Type 'license()' or 'licence()' for distribution details.
R is a collaborative project with many contributors.
Type 'contributors()' for more information and
'citation()' on how to cite R or R packages in publications.
Type 'demo()' for some demos, 'help()' for on-line help, or
'help.start()' for an HTML browser interface to help.
Type 'q()' to quit R.
> library(testthat)
> library(pathwayPCA)
>
> test_check("pathwayPCA")
[ FAIL 0 | WARN 0 | SKIP 0 | PASS 47 ]
>
> proc.time()
user system elapsed
11.034 0.619 32.044
pathwayPCA.Rcheck/pathwayPCA-Ex.timings
| name | user | system | elapsed | |
| AESPCA_pVals | 0.368 | 0.102 | 5.726 | |
| CheckAssay | 0.000 | 0.001 | 0.000 | |
| CheckPwyColl | 0.001 | 0.000 | 0.000 | |
| CheckSampleIDs | 0 | 0 | 0 | |
| Contains | 0.001 | 0.000 | 0.001 | |
| ControlFDR | 0 | 0 | 0 | |
| CreateOmics | 0.301 | 0.034 | 0.336 | |
| CreateOmicsPathway | 0.172 | 0.007 | 0.180 | |
| CreatePathwayCollection | 0.006 | 0.002 | 0.008 | |
| ExtractAESPCs | 0.331 | 0.103 | 4.035 | |
| GumbelMixpValues | 0.001 | 0.001 | 0.001 | |
| IntersectOmicsPwyCollct | 0.001 | 0.000 | 0.000 | |
| JoinPhenoAssay | 0 | 0 | 0 | |
| LoadOntoPCs | 0.431 | 0.121 | 5.942 | |
| OptimGumbelMixParams | 0.000 | 0.000 | 0.001 | |
| PathwaytValues | 0.001 | 0.000 | 0.001 | |
| PermTestCateg | 0.000 | 0.000 | 0.001 | |
| PermTestReg | 0.000 | 0.000 | 0.001 | |
| PermTestSurv | 0 | 0 | 0 | |
| SE2Tidy | 8.120 | 0.261 | 8.411 | |
| SubsetPathwayCollection | 0.003 | 0.001 | 0.004 | |
| SubsetPathwayData | 0.283 | 0.076 | 0.364 | |
| SuperPCA_pVals | 0.306 | 0.026 | 5.560 | |
| TabulatepValues | 0.001 | 0.000 | 0.000 | |
| TransposeAssay | 0.056 | 0.031 | 0.088 | |
| WhichPathways | 0.005 | 0.002 | 0.007 | |
| aespca | 0 | 0 | 0 | |
| coxTrain_fun | 0.000 | 0.000 | 0.001 | |
| getPathPCLs | 0.287 | 0.035 | 6.369 | |
| getPathpVals | 0.220 | 0.022 | 6.197 | |
| get_set_OmicsPathway | 0.715 | 0.472 | 1.195 | |
| get_set_OmicsRegCateg | 0.182 | 0.009 | 0.191 | |
| get_set_OmicsSurv | 0.262 | 0.017 | 0.282 | |
| glmTrain_fun | 0.001 | 0.000 | 0.000 | |
| lars.lsa | 0 | 0 | 0 | |
| mysvd | 0.000 | 0.000 | 0.001 | |
| normalize | 0 | 0 | 0 | |
| olsTrain_fun | 0.000 | 0.001 | 0.000 | |
| pathway_tControl | 0 | 0 | 0 | |
| pathway_tScores | 0.000 | 0.001 | 0.000 | |
| permuteSamps | 0 | 0 | 0 | |
| print.pathwayCollection | 0.003 | 0.002 | 0.005 | |
| read_gmt | 0.085 | 0.002 | 0.088 | |
| show-OmicsPathway-method | 0.200 | 0.010 | 0.209 | |
| superpc.st | 0 | 0 | 0 | |
| superpc.train | 0 | 0 | 0 | |
| write_gmt | 0.002 | 0.001 | 0.002 | |