| Back to Multiple platform build/check report for BioC 3.16: simplified long |
|
This page was generated on 2023-04-12 11:05:11 -0400 (Wed, 12 Apr 2023).
| Hostname | OS | Arch (*) | R version | Installed pkgs |
|---|---|---|---|---|
| nebbiolo2 | Linux (Ubuntu 20.04.5 LTS) | x86_64 | 4.2.3 (2023-03-15) -- "Shortstop Beagle" | 4502 |
| palomino4 | Windows Server 2022 Datacenter | x64 | 4.2.3 (2023-03-15 ucrt) -- "Shortstop Beagle" | 4282 |
| lconway | macOS 12.5.1 Monterey | x86_64 | 4.2.3 (2023-03-15) -- "Shortstop Beagle" | 4310 |
| Click on any hostname to see more info about the system (e.g. compilers) (*) as reported by 'uname -p', except on Windows and Mac OS X | ||||
|
To the developers/maintainers of the motifStack package: - Please allow up to 24 hours (and sometimes 48 hours) for your latest push to git@git.bioconductor.org:packages/motifStack.git to reflect on this report. See How and When does the builder pull? When will my changes propagate? for more information. - Make sure to use the following settings in order to reproduce any error or warning you see on this page. |
| Package 1258/2183 | Hostname | OS / Arch | INSTALL | BUILD | CHECK | BUILD BIN | ||||||||
| motifStack 1.42.0 (landing page) Jianhong Ou
| nebbiolo2 | Linux (Ubuntu 20.04.5 LTS) / x86_64 | OK | OK | OK | |||||||||
| palomino4 | Windows Server 2022 Datacenter / x64 | OK | OK | OK | OK | |||||||||
| lconway | macOS 12.5.1 Monterey / x86_64 | OK | OK | OK | OK | |||||||||
| Package: motifStack |
| Version: 1.42.0 |
| Command: /home/biocbuild/bbs-3.16-bioc/R/bin/R CMD check --install=check:motifStack.install-out.txt --library=/home/biocbuild/bbs-3.16-bioc/R/site-library --timings motifStack_1.42.0.tar.gz |
| StartedAt: 2023-04-10 22:08:54 -0400 (Mon, 10 Apr 2023) |
| EndedAt: 2023-04-10 22:15:27 -0400 (Mon, 10 Apr 2023) |
| EllapsedTime: 393.3 seconds |
| RetCode: 0 |
| Status: OK |
| CheckDir: motifStack.Rcheck |
| Warnings: 0 |
##############################################################################
##############################################################################
###
### Running command:
###
### /home/biocbuild/bbs-3.16-bioc/R/bin/R CMD check --install=check:motifStack.install-out.txt --library=/home/biocbuild/bbs-3.16-bioc/R/site-library --timings motifStack_1.42.0.tar.gz
###
##############################################################################
##############################################################################
* using log directory ‘/home/biocbuild/bbs-3.16-bioc/meat/motifStack.Rcheck’
* using R version 4.2.3 (2023-03-15)
* using platform: x86_64-pc-linux-gnu (64-bit)
* using session charset: UTF-8
* checking for file ‘motifStack/DESCRIPTION’ ... OK
* checking extension type ... Package
* this is package ‘motifStack’ version ‘1.42.0’
* package encoding: UTF-8
* checking package namespace information ... OK
* checking package dependencies ... OK
* checking if this is a source package ... OK
* checking if there is a namespace ... OK
* checking for hidden files and directories ... OK
* checking for portable file names ... OK
* checking for sufficient/correct file permissions ... OK
* checking whether package ‘motifStack’ can be installed ... OK
* checking installed package size ... OK
* checking package directory ... OK
* checking ‘build’ directory ... OK
* checking DESCRIPTION meta-information ... OK
* checking top-level files ... OK
* checking for left-over files ... OK
* checking index information ... OK
* checking package subdirectories ... OK
* checking R files for non-ASCII characters ... OK
* checking R files for syntax errors ... OK
* checking whether the package can be loaded ... OK
* checking whether the package can be loaded with stated dependencies ... OK
* checking whether the package can be unloaded cleanly ... OK
* checking whether the namespace can be loaded with stated dependencies ... OK
* checking whether the namespace can be unloaded cleanly ... OK
* checking loading without being on the library search path ... OK
* checking dependencies in R code ... OK
* checking S3 generic/method consistency ... OK
* checking replacement functions ... OK
* checking foreign function calls ... OK
* checking R code for possible problems ... OK
* checking Rd files ... OK
* checking Rd metadata ... OK
* checking Rd cross-references ... OK
* checking for missing documentation entries ... OK
* checking for code/documentation mismatches ... OK
* checking Rd \usage sections ... OK
* checking Rd contents ... OK
* checking for unstated dependencies in examples ... OK
* checking files in ‘vignettes’ ... OK
* checking examples ... OK
Examples with CPU (user + system) or elapsed time > 5s
user system elapsed
AAmotifAlignment 7.877 0.196 8.074
pfm2pwm 5.237 0.164 5.401
* checking for unstated dependencies in ‘tests’ ... OK
* checking tests ...
Running ‘runTests.R’
OK
* checking for unstated dependencies in vignettes ... OK
* checking package vignettes in ‘inst/doc’ ... OK
* checking running R code from vignettes ...
‘motifStack_HTML.Rmd’ using ‘UTF-8’... OK
NONE
* checking re-building of vignette outputs ... OK
* checking PDF version of manual ... OK
* DONE
Status: OK
motifStack.Rcheck/00install.out
############################################################################## ############################################################################## ### ### Running command: ### ### /home/biocbuild/bbs-3.16-bioc/R/bin/R CMD INSTALL motifStack ### ############################################################################## ############################################################################## * installing to library ‘/home/biocbuild/bbs-3.16-bioc/R/site-library’ * installing *source* package ‘motifStack’ ... ** using staged installation ** R ** inst ** byte-compile and prepare package for lazy loading ** help *** installing help indices ** building package indices ** installing vignettes ** testing if installed package can be loaded from temporary location ** testing if installed package can be loaded from final location ** testing if installed package keeps a record of temporary installation path * DONE (motifStack)
motifStack.Rcheck/tests/runTests.Rout
R version 4.2.3 (2023-03-15) -- "Shortstop Beagle"
Copyright (C) 2023 The R Foundation for Statistical Computing
Platform: x86_64-pc-linux-gnu (64-bit)
R is free software and comes with ABSOLUTELY NO WARRANTY.
You are welcome to redistribute it under certain conditions.
Type 'license()' or 'licence()' for distribution details.
R is a collaborative project with many contributors.
Type 'contributors()' for more information and
'citation()' on how to cite R or R packages in publications.
Type 'demo()' for some demos, 'help()' for on-line help, or
'help.start()' for an HTML browser interface to help.
Type 'q()' to quit R.
> require("motifStack") || stop("unable to load Package:motifStack")
Loading required package: motifStack
Loading required package: grid
[1] TRUE
> require("TFBSTools") || stop("unable to load Package:TFBSTools")
Loading required package: TFBSTools
[1] TRUE
> #require("MotifDb") || stop("unalble to load Package::motifDb")
> BiocGenerics:::testPackage("motifStack")
RUNIT TEST PROTOCOL -- Mon Apr 10 22:14:06 2023
***********************************************
Number of test functions: 10
Number of errors: 0
Number of failures: 0
1 Test Suite :
motifStack RUnit Tests - 10 test functions, 0 errors, 0 failures
Number of test functions: 10
Number of errors: 0
Number of failures: 0
>
> proc.time()
user system elapsed
12.807 0.764 13.557
motifStack.Rcheck/motifStack-Ex.timings
| name | user | system | elapsed | |
| AAmotifAlignment | 7.877 | 0.196 | 8.074 | |
| DNAmotifAlignment | 0.077 | 0.000 | 0.078 | |
| DNAmotifToRNAmotif | 0.008 | 0.000 | 0.008 | |
| GeomMotif | 0.566 | 0.024 | 0.589 | |
| browseMotifs | 0.001 | 0.000 | 0.000 | |
| clusterMotifs | 0.000 | 0.001 | 0.000 | |
| colorset | 0 | 0 | 0 | |
| geom_motif | 0.241 | 0.007 | 0.247 | |
| getRankedUniqueMotifs | 0.000 | 0.000 | 0.001 | |
| highlightCol | 0.000 | 0.000 | 0.001 | |
| importMatrix | 0.011 | 0.000 | 0.011 | |
| marker-class | 0.002 | 0.000 | 0.001 | |
| matalign | 0 | 0 | 0 | |
| mergeMotifs | 0.085 | 0.000 | 0.085 | |
| motifCircos | 0.001 | 0.000 | 0.002 | |
| motifCloud | 0.000 | 0.000 | 0.001 | |
| motifGrob | 0.093 | 0.012 | 0.105 | |
| motifHclust | 0.001 | 0.000 | 0.000 | |
| motifPiles | 0.002 | 0.000 | 0.001 | |
| motifSignature | 0.001 | 0.000 | 0.000 | |
| motifStack | 0.001 | 0.000 | 0.001 | |
| ouNode-class | 0.003 | 0.000 | 0.002 | |
| pcm-class | 0.084 | 0.019 | 0.103 | |
| pfm-class | 0.079 | 0.008 | 0.086 | |
| pfm2pwm | 5.237 | 0.164 | 5.401 | |
| plotAffinityLogo | 0.512 | 0.011 | 0.524 | |
| plotMotifLogo | 0.177 | 0.000 | 0.176 | |
| plotMotifLogoA | 0.164 | 0.000 | 0.164 | |
| plotMotifLogoStack | 0.220 | 0.000 | 0.219 | |
| plotMotifLogoStackWithTree | 1.680 | 0.052 | 1.732 | |
| plotMotifOverMotif | 0.252 | 0.000 | 0.252 | |
| plotMotifStackWithPhylog | 0.001 | 0.000 | 0.001 | |
| plotMotifStackWithRadialPhylog | 0.001 | 0.000 | 0.001 | |
| psam-class | 0.542 | 0.000 | 0.543 | |
| pssm-class | 0.348 | 0.008 | 0.356 | |
| readPCM | 0.008 | 0.000 | 0.008 | |
| reorderUPGMAtree | 0.000 | 0.001 | 0.001 | |