| Back to Multiple platform build/check report for BioC 3.16: simplified long |
|
This page was generated on 2023-04-12 11:06:16 -0400 (Wed, 12 Apr 2023).
| Hostname | OS | Arch (*) | R version | Installed pkgs |
|---|---|---|---|---|
| nebbiolo2 | Linux (Ubuntu 20.04.5 LTS) | x86_64 | 4.2.3 (2023-03-15) -- "Shortstop Beagle" | 4502 |
| palomino4 | Windows Server 2022 Datacenter | x64 | 4.2.3 (2023-03-15 ucrt) -- "Shortstop Beagle" | 4282 |
| lconway | macOS 12.5.1 Monterey | x86_64 | 4.2.3 (2023-03-15) -- "Shortstop Beagle" | 4310 |
| Click on any hostname to see more info about the system (e.g. compilers) (*) as reported by 'uname -p', except on Windows and Mac OS X | ||||
|
To the developers/maintainers of the motifStack package: - Please allow up to 24 hours (and sometimes 48 hours) for your latest push to git@git.bioconductor.org:packages/motifStack.git to reflect on this report. See How and When does the builder pull? When will my changes propagate? for more information. - Make sure to use the following settings in order to reproduce any error or warning you see on this page. |
| Package 1258/2183 | Hostname | OS / Arch | INSTALL | BUILD | CHECK | BUILD BIN | ||||||||
| motifStack 1.42.0 (landing page) Jianhong Ou
| nebbiolo2 | Linux (Ubuntu 20.04.5 LTS) / x86_64 | OK | OK | OK | |||||||||
| palomino4 | Windows Server 2022 Datacenter / x64 | OK | OK | OK | OK | |||||||||
| lconway | macOS 12.5.1 Monterey / x86_64 | OK | OK | OK | OK | |||||||||
| Package: motifStack |
| Version: 1.42.0 |
| Command: /Library/Frameworks/R.framework/Resources/bin/R CMD check --install=check:motifStack.install-out.txt --library=/Library/Frameworks/R.framework/Resources/library --no-vignettes --timings motifStack_1.42.0.tar.gz |
| StartedAt: 2023-04-10 21:21:28 -0400 (Mon, 10 Apr 2023) |
| EndedAt: 2023-04-10 21:26:05 -0400 (Mon, 10 Apr 2023) |
| EllapsedTime: 277.0 seconds |
| RetCode: 0 |
| Status: OK |
| CheckDir: motifStack.Rcheck |
| Warnings: 0 |
##############################################################################
##############################################################################
###
### Running command:
###
### /Library/Frameworks/R.framework/Resources/bin/R CMD check --install=check:motifStack.install-out.txt --library=/Library/Frameworks/R.framework/Resources/library --no-vignettes --timings motifStack_1.42.0.tar.gz
###
##############################################################################
##############################################################################
* using log directory ‘/Users/biocbuild/bbs-3.16-bioc/meat/motifStack.Rcheck’
* using R version 4.2.3 (2023-03-15)
* using platform: x86_64-apple-darwin17.0 (64-bit)
* using session charset: UTF-8
* using option ‘--no-vignettes’
* checking for file ‘motifStack/DESCRIPTION’ ... OK
* checking extension type ... Package
* this is package ‘motifStack’ version ‘1.42.0’
* package encoding: UTF-8
* checking package namespace information ... OK
* checking package dependencies ... OK
* checking if this is a source package ... OK
* checking if there is a namespace ... OK
* checking for hidden files and directories ... OK
* checking for portable file names ... OK
* checking for sufficient/correct file permissions ... OK
* checking whether package ‘motifStack’ can be installed ... OK
* checking installed package size ... OK
* checking package directory ... OK
* checking ‘build’ directory ... OK
* checking DESCRIPTION meta-information ... OK
* checking top-level files ... OK
* checking for left-over files ... OK
* checking index information ... OK
* checking package subdirectories ... OK
* checking R files for non-ASCII characters ... OK
* checking R files for syntax errors ... OK
* checking whether the package can be loaded ... OK
* checking whether the package can be loaded with stated dependencies ... OK
* checking whether the package can be unloaded cleanly ... OK
* checking whether the namespace can be loaded with stated dependencies ... OK
* checking whether the namespace can be unloaded cleanly ... OK
* checking dependencies in R code ... OK
* checking S3 generic/method consistency ... OK
* checking replacement functions ... OK
* checking foreign function calls ... OK
* checking R code for possible problems ... OK
* checking Rd files ... OK
* checking Rd metadata ... OK
* checking Rd cross-references ... OK
* checking for missing documentation entries ... OK
* checking for code/documentation mismatches ... OK
* checking Rd \usage sections ... OK
* checking Rd contents ... OK
* checking for unstated dependencies in examples ... OK
* checking files in ‘vignettes’ ... OK
* checking examples ... OK
Examples with CPU (user + system) or elapsed time > 5s
user system elapsed
AAmotifAlignment 7.241 0.19 7.45
* checking for unstated dependencies in ‘tests’ ... OK
* checking tests ...
Running ‘runTests.R’
OK
* checking for unstated dependencies in vignettes ... OK
* checking package vignettes in ‘inst/doc’ ... OK
* checking running R code from vignettes ... SKIPPED
* checking re-building of vignette outputs ... SKIPPED
* checking PDF version of manual ... OK
* DONE
Status: OK
motifStack.Rcheck/00install.out
############################################################################## ############################################################################## ### ### Running command: ### ### /Library/Frameworks/R.framework/Resources/bin/R CMD INSTALL motifStack ### ############################################################################## ############################################################################## * installing to library ‘/Library/Frameworks/R.framework/Versions/4.2/Resources/library’ * installing *source* package ‘motifStack’ ... ** using staged installation ** R ** inst ** byte-compile and prepare package for lazy loading ** help *** installing help indices ** building package indices ** installing vignettes ** testing if installed package can be loaded from temporary location ** testing if installed package can be loaded from final location ** testing if installed package keeps a record of temporary installation path * DONE (motifStack)
motifStack.Rcheck/tests/runTests.Rout
R version 4.2.3 (2023-03-15) -- "Shortstop Beagle"
Copyright (C) 2023 The R Foundation for Statistical Computing
Platform: x86_64-apple-darwin17.0 (64-bit)
R is free software and comes with ABSOLUTELY NO WARRANTY.
You are welcome to redistribute it under certain conditions.
Type 'license()' or 'licence()' for distribution details.
R is a collaborative project with many contributors.
Type 'contributors()' for more information and
'citation()' on how to cite R or R packages in publications.
Type 'demo()' for some demos, 'help()' for on-line help, or
'help.start()' for an HTML browser interface to help.
Type 'q()' to quit R.
> require("motifStack") || stop("unable to load Package:motifStack")
Loading required package: motifStack
Loading required package: grid
[1] TRUE
> require("TFBSTools") || stop("unable to load Package:TFBSTools")
Loading required package: TFBSTools
[1] TRUE
> #require("MotifDb") || stop("unalble to load Package::motifDb")
> BiocGenerics:::testPackage("motifStack")
RUNIT TEST PROTOCOL -- Mon Apr 10 21:25:56 2023
***********************************************
Number of test functions: 10
Number of errors: 0
Number of failures: 0
1 Test Suite :
motifStack RUnit Tests - 10 test functions, 0 errors, 0 failures
Number of test functions: 10
Number of errors: 0
Number of failures: 0
>
> proc.time()
user system elapsed
11.811 0.569 12.397
motifStack.Rcheck/motifStack-Ex.timings
| name | user | system | elapsed | |
| AAmotifAlignment | 7.241 | 0.190 | 7.450 | |
| DNAmotifAlignment | 0.082 | 0.002 | 0.085 | |
| DNAmotifToRNAmotif | 0.008 | 0.001 | 0.011 | |
| GeomMotif | 0.531 | 0.027 | 0.561 | |
| browseMotifs | 0.001 | 0.001 | 0.001 | |
| clusterMotifs | 0.000 | 0.000 | 0.001 | |
| colorset | 0 | 0 | 0 | |
| geom_motif | 0.242 | 0.014 | 0.257 | |
| getRankedUniqueMotifs | 0.000 | 0.000 | 0.001 | |
| highlightCol | 0.000 | 0.001 | 0.001 | |
| importMatrix | 0.009 | 0.004 | 0.013 | |
| marker-class | 0.001 | 0.000 | 0.002 | |
| matalign | 0.000 | 0.000 | 0.001 | |
| mergeMotifs | 0.071 | 0.012 | 0.084 | |
| motifCircos | 0.002 | 0.000 | 0.003 | |
| motifCloud | 0.001 | 0.001 | 0.002 | |
| motifGrob | 0.094 | 0.008 | 0.102 | |
| motifHclust | 0 | 0 | 0 | |
| motifPiles | 0.002 | 0.000 | 0.002 | |
| motifSignature | 0.001 | 0.001 | 0.001 | |
| motifStack | 0.001 | 0.000 | 0.001 | |
| ouNode-class | 0.001 | 0.001 | 0.002 | |
| pcm-class | 0.093 | 0.004 | 0.098 | |
| pfm-class | 0.079 | 0.004 | 0.083 | |
| pfm2pwm | 4.739 | 0.102 | 4.847 | |
| plotAffinityLogo | 0.574 | 0.013 | 0.613 | |
| plotMotifLogo | 0.184 | 0.002 | 0.188 | |
| plotMotifLogoA | 0.148 | 0.001 | 0.151 | |
| plotMotifLogoStack | 0.219 | 0.005 | 0.225 | |
| plotMotifLogoStackWithTree | 1.730 | 0.021 | 1.758 | |
| plotMotifOverMotif | 0.234 | 0.005 | 0.240 | |
| plotMotifStackWithPhylog | 0.001 | 0.000 | 0.002 | |
| plotMotifStackWithRadialPhylog | 0.001 | 0.001 | 0.002 | |
| psam-class | 0.541 | 0.015 | 0.560 | |
| pssm-class | 0.390 | 0.010 | 0.407 | |
| readPCM | 0.008 | 0.002 | 0.009 | |
| reorderUPGMAtree | 0.001 | 0.001 | 0.001 | |