| Back to Multiple platform build/check report for BioC 3.16: simplified long |
|
This page was generated on 2023-04-12 11:05:09 -0400 (Wed, 12 Apr 2023).
| Hostname | OS | Arch (*) | R version | Installed pkgs |
|---|---|---|---|---|
| nebbiolo2 | Linux (Ubuntu 20.04.5 LTS) | x86_64 | 4.2.3 (2023-03-15) -- "Shortstop Beagle" | 4502 |
| palomino4 | Windows Server 2022 Datacenter | x64 | 4.2.3 (2023-03-15 ucrt) -- "Shortstop Beagle" | 4282 |
| lconway | macOS 12.5.1 Monterey | x86_64 | 4.2.3 (2023-03-15) -- "Shortstop Beagle" | 4310 |
| Click on any hostname to see more info about the system (e.g. compilers) (*) as reported by 'uname -p', except on Windows and Mac OS X | ||||
|
To the developers/maintainers of the metabinR package: - Please allow up to 24 hours (and sometimes 48 hours) for your latest push to git@git.bioconductor.org:packages/metabinR.git to reflect on this report. See How and When does the builder pull? When will my changes propagate? for more information. - Make sure to use the following settings in order to reproduce any error or warning you see on this page. |
| Package 1140/2183 | Hostname | OS / Arch | INSTALL | BUILD | CHECK | BUILD BIN | ||||||||
| metabinR 1.0.0 (landing page) Anestis Gkanogiannis
| nebbiolo2 | Linux (Ubuntu 20.04.5 LTS) / x86_64 | OK | OK | OK | |||||||||
| palomino4 | Windows Server 2022 Datacenter / x64 | OK | OK | OK | OK | |||||||||
| lconway | macOS 12.5.1 Monterey / x86_64 | OK | OK | OK | OK | |||||||||
| Package: metabinR |
| Version: 1.0.0 |
| Command: /home/biocbuild/bbs-3.16-bioc/R/bin/R CMD check --install=check:metabinR.install-out.txt --library=/home/biocbuild/bbs-3.16-bioc/R/site-library --timings metabinR_1.0.0.tar.gz |
| StartedAt: 2023-04-10 21:48:19 -0400 (Mon, 10 Apr 2023) |
| EndedAt: 2023-04-10 21:49:54 -0400 (Mon, 10 Apr 2023) |
| EllapsedTime: 95.3 seconds |
| RetCode: 0 |
| Status: OK |
| CheckDir: metabinR.Rcheck |
| Warnings: 0 |
##############################################################################
##############################################################################
###
### Running command:
###
### /home/biocbuild/bbs-3.16-bioc/R/bin/R CMD check --install=check:metabinR.install-out.txt --library=/home/biocbuild/bbs-3.16-bioc/R/site-library --timings metabinR_1.0.0.tar.gz
###
##############################################################################
##############################################################################
* using log directory ‘/home/biocbuild/bbs-3.16-bioc/meat/metabinR.Rcheck’
* using R version 4.2.3 (2023-03-15)
* using platform: x86_64-pc-linux-gnu (64-bit)
* using session charset: UTF-8
* checking for file ‘metabinR/DESCRIPTION’ ... OK
* checking extension type ... Package
* this is package ‘metabinR’ version ‘1.0.0’
* package encoding: UTF-8
* checking package namespace information ... OK
* checking package dependencies ... OK
* checking if this is a source package ... OK
* checking if there is a namespace ... OK
* checking for hidden files and directories ... OK
* checking for portable file names ... OK
* checking for sufficient/correct file permissions ... OK
* checking whether package ‘metabinR’ can be installed ... OK
* checking installed package size ... OK
* checking package directory ... OK
* checking ‘build’ directory ... OK
* checking DESCRIPTION meta-information ... OK
* checking top-level files ... OK
* checking for left-over files ... OK
* checking index information ... OK
* checking package subdirectories ... OK
* checking R files for non-ASCII characters ... OK
* checking R files for syntax errors ... OK
* checking whether the package can be loaded ... OK
* checking whether the package can be loaded with stated dependencies ... OK
* checking whether the package can be unloaded cleanly ... OK
* checking whether the namespace can be loaded with stated dependencies ... OK
* checking whether the namespace can be unloaded cleanly ... OK
* checking loading without being on the library search path ... OK
* checking dependencies in R code ... OK
* checking S3 generic/method consistency ... OK
* checking replacement functions ... OK
* checking foreign function calls ... OK
* checking R code for possible problems ... OK
* checking Rd files ... OK
* checking Rd metadata ... OK
* checking Rd cross-references ... OK
* checking for missing documentation entries ... OK
* checking for code/documentation mismatches ... OK
* checking Rd \usage sections ... OK
* checking Rd contents ... OK
* checking for unstated dependencies in examples ... OK
* checking files in ‘vignettes’ ... OK
* checking examples ... OK
Examples with CPU (user + system) or elapsed time > 5s
user system elapsed
abundance_based_binning 8.641 0.663 5.513
hierarchical_binning 4.999 0.228 3.009
* checking for unstated dependencies in ‘tests’ ... OK
* checking tests ...
Running ‘spelling.R’
Running ‘testthat.R’
OK
* checking for unstated dependencies in vignettes ... OK
* checking package vignettes in ‘inst/doc’ ... OK
* checking running R code from vignettes ...
‘metabinR_vignette.Rmd’ using ‘UTF-8’... OK
NONE
* checking re-building of vignette outputs ... OK
* checking PDF version of manual ... OK
* DONE
Status: OK
metabinR.Rcheck/00install.out
############################################################################## ############################################################################## ### ### Running command: ### ### /home/biocbuild/bbs-3.16-bioc/R/bin/R CMD INSTALL metabinR ### ############################################################################## ############################################################################## * installing to library ‘/home/biocbuild/bbs-3.16-bioc/R/site-library’ * installing *source* package ‘metabinR’ ... ** using staged installation ** R ** inst ** byte-compile and prepare package for lazy loading ** help *** installing help indices ** building package indices ** installing vignettes ** testing if installed package can be loaded from temporary location ** testing if installed package can be loaded from final location ** testing if installed package keeps a record of temporary installation path * DONE (metabinR)
metabinR.Rcheck/tests/spelling.Rout
R version 4.2.3 (2023-03-15) -- "Shortstop Beagle"
Copyright (C) 2023 The R Foundation for Statistical Computing
Platform: x86_64-pc-linux-gnu (64-bit)
R is free software and comes with ABSOLUTELY NO WARRANTY.
You are welcome to redistribute it under certain conditions.
Type 'license()' or 'licence()' for distribution details.
R is a collaborative project with many contributors.
Type 'contributors()' for more information and
'citation()' on how to cite R or R packages in publications.
Type 'demo()' for some demos, 'help()' for on-line help, or
'help.start()' for an HTML browser interface to help.
Type 'q()' to quit R.
> if(requireNamespace('spelling', quietly = TRUE))
+ spelling::spell_check_test(vignettes = TRUE, error = FALSE,
+ skip_on_cran = TRUE)
NULL
>
> proc.time()
user system elapsed
0.163 0.026 0.172
metabinR.Rcheck/tests/testthat.Rout
R version 4.2.3 (2023-03-15) -- "Shortstop Beagle"
Copyright (C) 2023 The R Foundation for Statistical Computing
Platform: x86_64-pc-linux-gnu (64-bit)
R is free software and comes with ABSOLUTELY NO WARRANTY.
You are welcome to redistribute it under certain conditions.
Type 'license()' or 'licence()' for distribution details.
R is a collaborative project with many contributors.
Type 'contributors()' for more information and
'citation()' on how to cite R or R packages in publications.
Type 'demo()' for some demos, 'help()' for on-line help, or
'help.start()' for an HTML browser interface to help.
Type 'q()' to quit R.
> library(testthat)
> library(metabinR)
>
> test_check("metabinR")
version MTxAB =Mon Apr 10 15:08:34 EDT 2023
cpus=72
using=1
2023/04/10 21:48:49 Using Dictionary ORIGINAL
2023/04/10 21:48:49 START of AB Counting
2023/04/10 21:48:49 FastaManager: START READ
2023/04/10 21:48:49 SequenceProcessor: 0 AB_KMERCOUNT START
CHUNK_SIZE=67108864
2023/04/10 21:48:49 FastaManager: lines read 53328
2023/04/10 21:48:50 FastaManager: END READ
2023/04/10 21:48:50 FastaManager: FASTA
2023/04/10 21:48:51 SequenceProcessor: 0 AB_KMERCOUNT EXIT
2023/04/10 21:48:51 END of AB Counting
2023/04/10 21:48:51 Loaded sequences: 26664
2023/04/10 21:48:51 Total kmers(before remove): 65536
##### Heap utilization statistics [GB] #####
Max Memory=0.5
Current Total Memory=0.5
Current Used Memory=0.237
Current Free Memory=0.263
############################################
2023/04/10 21:48:51
Unique: 0
Distinct: 65536
Total: 7625904
MaxCount: 1574
2023/04/10 21:48:51 START of EMsync
Run=1
Run=2
Run=3
Run=4
Run=5
Run=6
Run=7
Run=8
Run=9
Run=10
Run=11
Run=12
Run=13
Run=14
Run=15
Run=16
Run=17
Run=18
Run=19
Run=20
Run=21
Run=22
Run=23
Run=24
Run=25
2023/04/10 21:48:51 Runs=25
2023/04/10 21:48:51 END of EMsync
2023/04/10 21:48:51 START of Creating AB Cluster Vectors
Cluster 1 Abundance=241.01134335779187 Length=16168.173737759438 LowLimit=163 HighLimit=318
Cluster 2 Abundance=75.53888858729701 Length=49367.826262240575 LowLimit=32 HighLimit=118
2023/04/10 21:48:51 Trove size/4=18022
2023/04/10 21:48:51 Trove size/4=18022
2023/04/10 21:48:51 Cluster 2 size in kmers=65536 norm=221.81983091435748
2023/04/10 21:48:51 Cluster 1 size in kmers=65536 norm=126.5058948513796
2023/04/10 21:48:51 END of Creating AB Cluster Vectors
cpus=72
using=1
2023/04/10 21:48:51 START of AB Binning
2023/04/10 21:48:51 FastaManager: START READ
2023/04/10 21:48:51 SequenceProcessor: 0 AB_BINNING START
2023/04/10 21:48:51 FastaManager: lines read 53328
2023/04/10 21:48:51 FastaManager: END READ
2023/04/10 21:48:51 FastaManager: FASTA
2023/04/10 21:48:54 SequenceProcessor: 0 AB_BINNING EXIT
2023/04/10 21:48:54 END of AB Binning
Clustered reads:
AB Cluster 1: 19871
AB Cluster 2: 6793
##### Heap utilization statistics [GB] #####
Max Memory=0.5
Current Total Memory=0.5
Current Used Memory=0.23
Current Free Memory=0.27
############################################
version MTxCB =Mon Apr 10 15:08:34 EDT 2023
cpus=72
using=1
2023/04/10 21:48:54 START of CB Counting
2023/04/10 21:48:54 FastaManager: START READ
2023/04/10 21:48:54 SequenceProcessor: 0 CB_SEQUENCEVECTORBUILD START
2023/04/10 21:48:54 FastaManager: lines read 53328
2023/04/10 21:48:54 FastaManager: END READ
2023/04/10 21:48:54 FastaManager: FASTA
2023/04/10 21:48:55 SequenceProcessor: 0 CB_SEQUENCEVECTORBUILD EXIT
2023/04/10 21:48:55 END of CB Counting
2023/04/10 21:48:55 Loaded sequences: 26664
##### Heap utilization statistics [GB] #####
Max Memory=0.5
Current Total Memory=0.5
Current Used Memory=0.401
Current Free Memory=0.099
############################################
cpus=72
using=1
2023/04/10 21:48:55 START of Creating CB Clusters Size=26664
K-Means clustering started
... centers initialized
... concurrent processing mode with 1 subtask threads
... iteration 1 moves = 1774
... iteration 2 moves = 312
... iteration 3 moves = 165
... iteration 4 moves = 95
... iteration 5 moves = 78
... iteration 6 moves = 40
... iteration 7 moves = 35
... iteration 8 moves = 28
... iteration 9 moves = 15
... iteration 10 moves = 12
... iteration 11 moves = 16
... iteration 12 moves = 12
... iteration 13 moves = 4
... iteration 14 moves = 10
... iteration 15 moves = 5
... iteration 16 moves = 0
...end. 5.489 seconds.
2023/04/10 21:49:00 : kMeans cleanup.
2023/04/10 21:49:00 END of Creating CB Clusters.
cpus=72
using=1
2023/04/10 21:49:00 START of CB Binning
2023/04/10 21:49:00 FastaManager: START READ
2023/04/10 21:49:00 SequenceProcessor: 0 CB_BINNING START
2023/04/10 21:49:01 FastaManager: lines read 53328
2023/04/10 21:49:01 FastaManager: END READ
2023/04/10 21:49:01 FastaManager: FASTA
2023/04/10 21:49:01 SequenceProcessor: 0 CB_BINNING EXIT
Clustered reads:
CB Cluster 1: 9303
CB Cluster 2: 17361
##### Heap utilization statistics [GB] #####
Max Memory=0.5
Current Total Memory=0.5
Current Used Memory=0.304
Current Free Memory=0.196
############################################
version MTxABxCB =Mon Apr 10 15:08:34 EDT 2023
cpus=72
using=1
2023/04/10 21:49:01 Using Dictionary ORIGINAL
2023/04/10 21:49:01 START of AB Counting
2023/04/10 21:49:01 FastaManager: START READ
2023/04/10 21:49:01 SequenceProcessor: 0 AB_KMERCOUNT START
2023/04/10 21:49:01 FastaManager: lines read 53328
2023/04/10 21:49:01 FastaManager: END READ
2023/04/10 21:49:01 FastaManager: FASTA
2023/04/10 21:49:03 SequenceProcessor: 0 AB_KMERCOUNT EXIT
2023/04/10 21:49:03 END of AB Counting
2023/04/10 21:49:03 Loaded sequences: 26664
2023/04/10 21:49:03 Distinct kmers(before remove): 65536
##### Heap utilization statistics [GB] #####
Max Memory=0.5
Current Total Memory=0.5
Current Used Memory=0.22
Current Free Memory=0.28
############################################
2023/04/10 21:49:03
Unique: 0
Distinct: 65536
Total: 7625904
MaxCount: 1574
2023/04/10 21:49:03 START of EMsync
Run=1
Run=2
Run=3
Run=4
Run=5
Run=6
Run=7
Run=8
Run=9
Run=10
Run=11
Run=12
Run=13
Run=14
Run=15
Run=16
Run=17
Run=18
Run=19
Run=20
Run=21
Run=22
Run=23
Run=24
Run=25
2023/04/10 21:49:03 Runs=25
2023/04/10 21:49:03 END of EMsync
2023/04/10 21:49:03 Filter before=2
2023/04/10 21:49:03 Filter after=2
2023/04/10 21:49:03 START of Creating AB Cluster Vectors
Cluster 1 Abundance=241.01134335779187 Length=16168.173737759438 LowLimit=163 HighLimit=318
Cluster 2 Abundance=75.53888858729701 Length=49367.826262240575 LowLimit=32 HighLimit=118
2023/04/10 21:49:03 Trove size/4=18022
2023/04/10 21:49:03 Trove size/4=18022
2023/04/10 21:49:03 Cluster 2 size in kmers=65536 norm=221.81983091435748
2023/04/10 21:49:03 Cluster 1 size in kmers=65536 norm=126.5058948513796
2023/04/10 21:49:03 END of Creating AB Cluster Vectors
cpus=72
using=1
2023/04/10 21:49:03 START of AB Binning
2023/04/10 21:49:03 FastaManager: START READ
2023/04/10 21:49:03 SequenceProcessor: 0 AB_BINNING START
2023/04/10 21:49:03 FastaManager: lines read 53328
2023/04/10 21:49:03 FastaManager: END READ
2023/04/10 21:49:03 FastaManager: FASTA
2023/04/10 21:49:05 SequenceProcessor: 0 AB_BINNING EXIT
2023/04/10 21:49:05 END of AB Binning
cpus=72
using=1
2023/04/10 21:49:05 START of CB Counting
2023/04/10 21:49:05 FastaManager: START READ
2023/04/10 21:49:05 SequenceProcessor: 0 CB_SEQUENCEVECTORBUILD START
2023/04/10 21:49:05 FastaManager: lines read 53328
2023/04/10 21:49:05 FastaManager: END READ
2023/04/10 21:49:05 FastaManager: FASTA
2023/04/10 21:49:06 SequenceProcessor: 0 CB_SEQUENCEVECTORBUILD EXIT
2023/04/10 21:49:06 END of CB Counting
2023/04/10 21:49:06 Loaded sequences: 26664
##### Heap utilization statistics [GB] #####
Max Memory=0.5
Current Total Memory=0.5
Current Used Memory=0.263
Current Free Memory=0.237
############################################
2023/04/10 21:49:06 AB Cluster=1 Size=19871
2023/04/10 21:49:06 AB Cluster=2 Size=6793
cpus=72
using=1
ABid size abundance EMLength newLength EMspecies newspecies
----- ---- --------- -------- --------- --------- ----------
1 19,871 241.01134 16,168 12,367 1 1
2023/04/10 21:49:06 START of Creating CB Clusters for AB Cluster=1 Size=19871
K-Means clustering started
... centers initialized
... concurrent processing mode with 1 subtask threads
... iteration 1 moves = 0
...end. 2.288 seconds.
2023/04/10 21:49:08 : kMeans cleanup.
2023/04/10 21:49:08 END of Creating CB Clusters for AB Cluster=1
cpus=72
using=1
ABid size abundance EMLength newLength EMspecies newspecies
----- ---- --------- -------- --------- --------- ----------
2 6,793 75.53889 49,367 13,489 1 1
2023/04/10 21:49:08 START of Creating CB Clusters for AB Cluster=2 Size=6793
K-Means clustering started
... centers initialized
... concurrent processing mode with 1 subtask threads
... iteration 1 moves = 0
...end. 0.781 seconds.
2023/04/10 21:49:09 : kMeans cleanup.
2023/04/10 21:49:09 END of Creating CB Clusters for AB Cluster=2
##### Heap utilization statistics [GB] #####
Max Memory=0.5
Current Total Memory=0.5
Current Used Memory=0.282
Current Free Memory=0.218
############################################
cpus=72
using=1
2023/04/10 21:49:09 START of CB Binning
2023/04/10 21:49:09 FastaManager: START READ
2023/04/10 21:49:09 SequenceProcessor: 0 CB_BINNING START
2023/04/10 21:49:09 FastaManager: lines read 53328
2023/04/10 21:49:09 FastaManager: END READ
2023/04/10 21:49:09 FastaManager: FASTA
2023/04/10 21:49:09 SequenceProcessor: 0 CB_BINNING EXIT
Clustered reads:
ABxCB Cluster 1: 19871
ABxCB Cluster 2: 6793
##### Heap utilization statistics [GB] #####
Max Memory=0.5
Current Total Memory=0.5
Current Used Memory=0.438
Current Free Memory=0.062
############################################
[ FAIL 0 | WARN 0 | SKIP 0 | PASS 52 ]
>
> proc.time()
user system elapsed
31.390 1.138 21.080
metabinR.Rcheck/metabinR-Ex.timings
| name | user | system | elapsed | |
| abundance_based_binning | 8.641 | 0.663 | 5.513 | |
| composition_based_binning | 3.523 | 0.252 | 1.548 | |
| hierarchical_binning | 4.999 | 0.228 | 3.009 | |