| Back to Multiple platform build/check report for BioC 3.16: simplified long |
|
This page was generated on 2023-04-12 11:06:14 -0400 (Wed, 12 Apr 2023).
| Hostname | OS | Arch (*) | R version | Installed pkgs |
|---|---|---|---|---|
| nebbiolo2 | Linux (Ubuntu 20.04.5 LTS) | x86_64 | 4.2.3 (2023-03-15) -- "Shortstop Beagle" | 4502 |
| palomino4 | Windows Server 2022 Datacenter | x64 | 4.2.3 (2023-03-15 ucrt) -- "Shortstop Beagle" | 4282 |
| lconway | macOS 12.5.1 Monterey | x86_64 | 4.2.3 (2023-03-15) -- "Shortstop Beagle" | 4310 |
| Click on any hostname to see more info about the system (e.g. compilers) (*) as reported by 'uname -p', except on Windows and Mac OS X | ||||
|
To the developers/maintainers of the metabinR package: - Please allow up to 24 hours (and sometimes 48 hours) for your latest push to git@git.bioconductor.org:packages/metabinR.git to reflect on this report. See How and When does the builder pull? When will my changes propagate? for more information. - Make sure to use the following settings in order to reproduce any error or warning you see on this page. |
| Package 1140/2183 | Hostname | OS / Arch | INSTALL | BUILD | CHECK | BUILD BIN | ||||||||
| metabinR 1.0.0 (landing page) Anestis Gkanogiannis
| nebbiolo2 | Linux (Ubuntu 20.04.5 LTS) / x86_64 | OK | OK | OK | |||||||||
| palomino4 | Windows Server 2022 Datacenter / x64 | OK | OK | OK | OK | |||||||||
| lconway | macOS 12.5.1 Monterey / x86_64 | OK | OK | OK | OK | |||||||||
| Package: metabinR |
| Version: 1.0.0 |
| Command: /Library/Frameworks/R.framework/Resources/bin/R CMD check --install=check:metabinR.install-out.txt --library=/Library/Frameworks/R.framework/Resources/library --no-vignettes --timings metabinR_1.0.0.tar.gz |
| StartedAt: 2023-04-10 21:05:02 -0400 (Mon, 10 Apr 2023) |
| EndedAt: 2023-04-10 21:06:08 -0400 (Mon, 10 Apr 2023) |
| EllapsedTime: 66.3 seconds |
| RetCode: 0 |
| Status: OK |
| CheckDir: metabinR.Rcheck |
| Warnings: 0 |
##############################################################################
##############################################################################
###
### Running command:
###
### /Library/Frameworks/R.framework/Resources/bin/R CMD check --install=check:metabinR.install-out.txt --library=/Library/Frameworks/R.framework/Resources/library --no-vignettes --timings metabinR_1.0.0.tar.gz
###
##############################################################################
##############################################################################
* using log directory ‘/Users/biocbuild/bbs-3.16-bioc/meat/metabinR.Rcheck’
* using R version 4.2.3 (2023-03-15)
* using platform: x86_64-apple-darwin17.0 (64-bit)
* using session charset: UTF-8
* using option ‘--no-vignettes’
* checking for file ‘metabinR/DESCRIPTION’ ... OK
* checking extension type ... Package
* this is package ‘metabinR’ version ‘1.0.0’
* package encoding: UTF-8
* checking package namespace information ... OK
* checking package dependencies ... OK
* checking if this is a source package ... OK
* checking if there is a namespace ... OK
* checking for hidden files and directories ... OK
* checking for portable file names ... OK
* checking for sufficient/correct file permissions ... OK
* checking whether package ‘metabinR’ can be installed ... OK
* checking installed package size ... OK
* checking package directory ... OK
* checking ‘build’ directory ... OK
* checking DESCRIPTION meta-information ... OK
* checking top-level files ... OK
* checking for left-over files ... OK
* checking index information ... OK
* checking package subdirectories ... OK
* checking R files for non-ASCII characters ... OK
* checking R files for syntax errors ... OK
* checking whether the package can be loaded ... OK
* checking whether the package can be loaded with stated dependencies ... OK
* checking whether the package can be unloaded cleanly ... OK
* checking whether the namespace can be loaded with stated dependencies ... OK
* checking whether the namespace can be unloaded cleanly ... OK
* checking dependencies in R code ... OK
* checking S3 generic/method consistency ... OK
* checking replacement functions ... OK
* checking foreign function calls ... OK
* checking R code for possible problems ... OK
* checking Rd files ... OK
* checking Rd metadata ... OK
* checking Rd cross-references ... OK
* checking for missing documentation entries ... OK
* checking for code/documentation mismatches ... OK
* checking Rd \usage sections ... OK
* checking Rd contents ... OK
* checking for unstated dependencies in examples ... OK
* checking files in ‘vignettes’ ... OK
* checking examples ... OK
Examples with CPU (user + system) or elapsed time > 5s
user system elapsed
abundance_based_binning 7.6 0.865 5.993
* checking for unstated dependencies in ‘tests’ ... OK
* checking tests ...
Running ‘spelling.R’
Running ‘testthat.R’
OK
* checking for unstated dependencies in vignettes ... OK
* checking package vignettes in ‘inst/doc’ ... OK
* checking running R code from vignettes ... SKIPPED
* checking re-building of vignette outputs ... SKIPPED
* checking PDF version of manual ... OK
* DONE
Status: OK
metabinR.Rcheck/00install.out
############################################################################## ############################################################################## ### ### Running command: ### ### /Library/Frameworks/R.framework/Resources/bin/R CMD INSTALL metabinR ### ############################################################################## ############################################################################## * installing to library ‘/Library/Frameworks/R.framework/Versions/4.2/Resources/library’ * installing *source* package ‘metabinR’ ... ** using staged installation ** R ** inst ** byte-compile and prepare package for lazy loading ** help *** installing help indices ** building package indices ** installing vignettes ** testing if installed package can be loaded from temporary location ** testing if installed package can be loaded from final location ** testing if installed package keeps a record of temporary installation path * DONE (metabinR)
metabinR.Rcheck/tests/spelling.Rout
R version 4.2.3 (2023-03-15) -- "Shortstop Beagle"
Copyright (C) 2023 The R Foundation for Statistical Computing
Platform: x86_64-apple-darwin17.0 (64-bit)
R is free software and comes with ABSOLUTELY NO WARRANTY.
You are welcome to redistribute it under certain conditions.
Type 'license()' or 'licence()' for distribution details.
R is a collaborative project with many contributors.
Type 'contributors()' for more information and
'citation()' on how to cite R or R packages in publications.
Type 'demo()' for some demos, 'help()' for on-line help, or
'help.start()' for an HTML browser interface to help.
Type 'q()' to quit R.
> if(requireNamespace('spelling', quietly = TRUE))
+ spelling::spell_check_test(vignettes = TRUE, error = FALSE,
+ skip_on_cran = TRUE)
NULL
>
> proc.time()
user system elapsed
0.185 0.067 0.241
metabinR.Rcheck/tests/testthat.Rout
R version 4.2.3 (2023-03-15) -- "Shortstop Beagle"
Copyright (C) 2023 The R Foundation for Statistical Computing
Platform: x86_64-apple-darwin17.0 (64-bit)
R is free software and comes with ABSOLUTELY NO WARRANTY.
You are welcome to redistribute it under certain conditions.
Type 'license()' or 'licence()' for distribution details.
R is a collaborative project with many contributors.
Type 'contributors()' for more information and
'citation()' on how to cite R or R packages in publications.
Type 'demo()' for some demos, 'help()' for on-line help, or
'help.start()' for an HTML browser interface to help.
Type 'q()' to quit R.
> library(testthat)
> library(metabinR)
>
> test_check("metabinR")
version MTxAB =Mon Apr 10 15:05:31 EDT 2023
cpus=48
using=1
2023/04/10 21:05:38 Using Dictionary ORIGINAL
2023/04/10 21:05:38 START of AB Counting
2023/04/10 21:05:38 FastaManager: START READ
2023/04/10 21:05:38 SequenceProcessor: 0 AB_KMERCOUNT START
CHUNK_SIZE=67108864
2023/04/10 21:05:38 FastaManager: lines read 53328
2023/04/10 21:05:38 FastaManager: END READ
2023/04/10 21:05:38 FastaManager: FASTA
2023/04/10 21:05:40 SequenceProcessor: 0 AB_KMERCOUNT EXIT
2023/04/10 21:05:40 END of AB Counting
2023/04/10 21:05:40 Loaded sequences: 26664
2023/04/10 21:05:40 Total kmers(before remove): 65536
##### Heap utilization statistics [GB] #####
Max Memory=0.5
Current Total Memory=0.5
Current Used Memory=0.291
Current Free Memory=0.209
############################################
2023/04/10 21:05:40
Unique: 0
Distinct: 65536
Total: 7625904
MaxCount: 1574
2023/04/10 21:05:40 START of EMsync
Run=1
Run=2
Run=3
Run=4
Run=5
Run=6
Run=7
Run=8
Run=9
Run=10
Run=11
Run=12
Run=13
Run=14
Run=15
Run=16
Run=17
Run=18
Run=19
Run=20
Run=21
Run=22
Run=23
Run=24
Run=25
2023/04/10 21:05:40 Runs=25
2023/04/10 21:05:40 END of EMsync
2023/04/10 21:05:40 START of Creating AB Cluster Vectors
Cluster 1 Abundance=241.01134335779187 Length=16168.173737759438 LowLimit=163 HighLimit=318
Cluster 2 Abundance=75.53888858729701 Length=49367.826262240575 LowLimit=32 HighLimit=118
2023/04/10 21:05:40 Trove size/4=18022
2023/04/10 21:05:40 Trove size/4=18022
2023/04/10 21:05:40 Cluster 1 size in kmers=65536 norm=126.5058948513796
2023/04/10 21:05:40 Cluster 2 size in kmers=65536 norm=221.81983091435748
2023/04/10 21:05:40 END of Creating AB Cluster Vectors
cpus=48
using=1
2023/04/10 21:05:40 START of AB Binning
2023/04/10 21:05:40 FastaManager: START READ
2023/04/10 21:05:40 SequenceProcessor: 0 AB_BINNING START
2023/04/10 21:05:40 FastaManager: lines read 53328
2023/04/10 21:05:40 FastaManager: END READ
2023/04/10 21:05:40 FastaManager: FASTA
2023/04/10 21:05:42 SequenceProcessor: 0 AB_BINNING EXIT
2023/04/10 21:05:42 END of AB Binning
Clustered reads:
AB Cluster 1: 19871
AB Cluster 2: 6793
##### Heap utilization statistics [GB] #####
Max Memory=0.5
Current Total Memory=0.5
Current Used Memory=0.255
Current Free Memory=0.245
############################################
version MTxCB =Mon Apr 10 15:05:31 EDT 2023
cpus=48
using=1
2023/04/10 21:05:43 START of CB Counting
2023/04/10 21:05:43 FastaManager: START READ
2023/04/10 21:05:43 SequenceProcessor: 0 CB_SEQUENCEVECTORBUILD START
2023/04/10 21:05:43 FastaManager: lines read 53328
2023/04/10 21:05:43 FastaManager: END READ
2023/04/10 21:05:43 FastaManager: FASTA
2023/04/10 21:05:43 SequenceProcessor: 0 CB_SEQUENCEVECTORBUILD EXIT
2023/04/10 21:05:43 END of CB Counting
2023/04/10 21:05:43 Loaded sequences: 26664
##### Heap utilization statistics [GB] #####
Max Memory=0.5
Current Total Memory=0.5
Current Used Memory=0.292
Current Free Memory=0.208
############################################
cpus=48
using=1
2023/04/10 21:05:43 START of Creating CB Clusters Size=26664
K-Means clustering started
... centers initialized
... concurrent processing mode with 1 subtask threads
... iteration 1 moves = 2351
... iteration 2 moves = 517
... iteration 3 moves = 218
... iteration 4 moves = 147
... iteration 5 moves = 85
... iteration 6 moves = 64
... iteration 7 moves = 44
... iteration 8 moves = 25
... iteration 9 moves = 20
... iteration 10 moves = 23
... iteration 11 moves = 18
... iteration 12 moves = 13
... iteration 13 moves = 11
... iteration 14 moves = 7
... iteration 15 moves = 5
... iteration 16 moves = 2
... iteration 17 moves = 0
...end. 5.065 seconds.
2023/04/10 21:05:48 : kMeans cleanup.
2023/04/10 21:05:48 END of Creating CB Clusters.
cpus=48
using=1
2023/04/10 21:05:48 START of CB Binning
2023/04/10 21:05:48 FastaManager: START READ
2023/04/10 21:05:48 SequenceProcessor: 0 CB_BINNING START
2023/04/10 21:05:48 FastaManager: lines read 53328
2023/04/10 21:05:48 FastaManager: END READ
2023/04/10 21:05:48 FastaManager: FASTA
2023/04/10 21:05:49 SequenceProcessor: 0 CB_BINNING EXIT
Clustered reads:
CB Cluster 1: 17373
CB Cluster 2: 9291
##### Heap utilization statistics [GB] #####
Max Memory=0.5
Current Total Memory=0.5
Current Used Memory=0.306
Current Free Memory=0.194
############################################
version MTxABxCB =Mon Apr 10 15:05:31 EDT 2023
cpus=48
using=1
2023/04/10 21:05:49 Using Dictionary ORIGINAL
2023/04/10 21:05:49 START of AB Counting
2023/04/10 21:05:49 FastaManager: START READ
2023/04/10 21:05:49 SequenceProcessor: 0 AB_KMERCOUNT START
2023/04/10 21:05:49 FastaManager: lines read 53328
2023/04/10 21:05:49 FastaManager: END READ
2023/04/10 21:05:49 FastaManager: FASTA
2023/04/10 21:05:50 SequenceProcessor: 0 AB_KMERCOUNT EXIT
2023/04/10 21:05:50 END of AB Counting
2023/04/10 21:05:50 Loaded sequences: 26664
2023/04/10 21:05:50 Distinct kmers(before remove): 65536
##### Heap utilization statistics [GB] #####
Max Memory=0.5
Current Total Memory=0.5
Current Used Memory=0.162
Current Free Memory=0.338
############################################
2023/04/10 21:05:51
Unique: 0
Distinct: 65536
Total: 7625904
MaxCount: 1574
2023/04/10 21:05:51 START of EMsync
Run=1
Run=2
Run=3
Run=4
Run=5
Run=6
Run=7
Run=8
Run=9
Run=10
Run=11
Run=12
Run=13
Run=14
Run=15
Run=16
Run=17
Run=18
Run=19
Run=20
Run=21
Run=22
Run=23
Run=24
Run=25
2023/04/10 21:05:51 Runs=25
2023/04/10 21:05:51 END of EMsync
2023/04/10 21:05:51 Filter before=2
2023/04/10 21:05:51 Filter after=2
2023/04/10 21:05:51 START of Creating AB Cluster Vectors
Cluster 1 Abundance=75.53888858729701 Length=49367.826262240575 LowLimit=32 HighLimit=118
Cluster 2 Abundance=241.01134335779187 Length=16168.173737759438 LowLimit=163 HighLimit=318
2023/04/10 21:05:51 Trove size/4=18022
2023/04/10 21:05:51 Trove size/4=18022
2023/04/10 21:05:51 Cluster 2 size in kmers=65536 norm=126.5058948513796
2023/04/10 21:05:51 Cluster 1 size in kmers=65536 norm=221.81983091435748
2023/04/10 21:05:51 END of Creating AB Cluster Vectors
cpus=48
using=1
2023/04/10 21:05:51 START of AB Binning
2023/04/10 21:05:51 FastaManager: START READ
2023/04/10 21:05:51 SequenceProcessor: 0 AB_BINNING START
2023/04/10 21:05:51 FastaManager: lines read 53328
2023/04/10 21:05:51 FastaManager: END READ
2023/04/10 21:05:51 FastaManager: FASTA
2023/04/10 21:05:53 SequenceProcessor: 0 AB_BINNING EXIT
2023/04/10 21:05:53 END of AB Binning
cpus=48
using=1
2023/04/10 21:05:53 START of CB Counting
2023/04/10 21:05:53 FastaManager: START READ
2023/04/10 21:05:53 SequenceProcessor: 0 CB_SEQUENCEVECTORBUILD START
2023/04/10 21:05:53 FastaManager: lines read 53328
2023/04/10 21:05:53 FastaManager: END READ
2023/04/10 21:05:53 FastaManager: FASTA
2023/04/10 21:05:53 SequenceProcessor: 0 CB_SEQUENCEVECTORBUILD EXIT
2023/04/10 21:05:53 END of CB Counting
2023/04/10 21:05:53 Loaded sequences: 26664
##### Heap utilization statistics [GB] #####
Max Memory=0.5
Current Total Memory=0.376
Current Used Memory=0.229
Current Free Memory=0.147
############################################
2023/04/10 21:05:53 AB Cluster=1 Size=6793
2023/04/10 21:05:53 AB Cluster=2 Size=19871
cpus=48
using=1
ABid size abundance EMLength newLength EMspecies newspecies
----- ---- --------- -------- --------- --------- ----------
1 6,793 75.53889 49,367 13,489 1 1
2023/04/10 21:05:53 START of Creating CB Clusters for AB Cluster=1 Size=6793
K-Means clustering started
... centers initialized
... concurrent processing mode with 1 subtask threads
... iteration 1 moves = 0
...end. 0.712 seconds.
2023/04/10 21:05:54 : kMeans cleanup.
2023/04/10 21:05:54 END of Creating CB Clusters for AB Cluster=1
cpus=48
using=1
ABid size abundance EMLength newLength EMspecies newspecies
----- ---- --------- -------- --------- --------- ----------
2 19,871 241.01134 16,168 12,367 1 1
2023/04/10 21:05:54 START of Creating CB Clusters for AB Cluster=2 Size=19871
K-Means clustering started
... centers initialized
... concurrent processing mode with 1 subtask threads
... iteration 1 moves = 0
...end. 2.071 seconds.
2023/04/10 21:05:56 : kMeans cleanup.
2023/04/10 21:05:56 END of Creating CB Clusters for AB Cluster=2
##### Heap utilization statistics [GB] #####
Max Memory=0.5
Current Total Memory=0.42
Current Used Memory=0.305
Current Free Memory=0.115
############################################
cpus=48
using=1
2023/04/10 21:05:56 START of CB Binning
2023/04/10 21:05:56 FastaManager: START READ
2023/04/10 21:05:56 SequenceProcessor: 0 CB_BINNING START
2023/04/10 21:05:56 FastaManager: lines read 53328
2023/04/10 21:05:56 FastaManager: END READ
2023/04/10 21:05:56 FastaManager: FASTA
2023/04/10 21:05:57 SequenceProcessor: 0 CB_BINNING EXIT
Clustered reads:
ABxCB Cluster 1: 6793
ABxCB Cluster 2: 19871
##### Heap utilization statistics [GB] #####
Max Memory=0.5
Current Total Memory=0.5
Current Used Memory=0.255
Current Free Memory=0.245
############################################
[ FAIL 0 | WARN 0 | SKIP 0 | PASS 52 ]
>
> proc.time()
user system elapsed
26.109 1.211 19.977
metabinR.Rcheck/metabinR-Ex.timings
| name | user | system | elapsed | |
| abundance_based_binning | 7.600 | 0.865 | 5.993 | |
| composition_based_binning | 3.791 | 0.558 | 1.654 | |
| hierarchical_binning | 4.280 | 0.541 | 3.238 | |