| Back to Multiple platform build/check report for BioC 3.16: simplified long |
|
This page was generated on 2023-04-12 11:05:08 -0400 (Wed, 12 Apr 2023).
| Hostname | OS | Arch (*) | R version | Installed pkgs |
|---|---|---|---|---|
| nebbiolo2 | Linux (Ubuntu 20.04.5 LTS) | x86_64 | 4.2.3 (2023-03-15) -- "Shortstop Beagle" | 4502 |
| palomino4 | Windows Server 2022 Datacenter | x64 | 4.2.3 (2023-03-15 ucrt) -- "Shortstop Beagle" | 4282 |
| lconway | macOS 12.5.1 Monterey | x86_64 | 4.2.3 (2023-03-15) -- "Shortstop Beagle" | 4310 |
| Click on any hostname to see more info about the system (e.g. compilers) (*) as reported by 'uname -p', except on Windows and Mac OS X | ||||
|
To the developers/maintainers of the inveRsion package: - Please allow up to 24 hours (and sometimes 48 hours) for your latest push to git@git.bioconductor.org:packages/inveRsion.git to reflect on this report. See How and When does the builder pull? When will my changes propagate? for more information. - Make sure to use the following settings in order to reproduce any error or warning you see on this page. |
| Package 988/2183 | Hostname | OS / Arch | INSTALL | BUILD | CHECK | BUILD BIN | ||||||||
Alejandro Caceres
| nebbiolo2 | Linux (Ubuntu 20.04.5 LTS) / x86_64 | OK | ERROR | skipped | |||||||||
| palomino4 | Windows Server 2022 Datacenter / x64 | OK | ERROR | skipped | skipped | |||||||||
| lconway | macOS 12.5.1 Monterey / x86_64 | OK | ERROR | skipped | skipped | |||||||||
| Package: inveRsion |
| Version: 1.46.2 |
| Command: /home/biocbuild/bbs-3.16-bioc/R/bin/R CMD INSTALL inveRsion |
| StartedAt: 2023-04-10 15:19:28 -0400 (Mon, 10 Apr 2023) |
| EndedAt: 2023-04-10 15:19:42 -0400 (Mon, 10 Apr 2023) |
| EllapsedTime: 14.7 seconds |
| RetCode: 0 |
| Status: OK |
##############################################################################
##############################################################################
###
### Running command:
###
### /home/biocbuild/bbs-3.16-bioc/R/bin/R CMD INSTALL inveRsion
###
##############################################################################
##############################################################################
* installing to library ‘/home/biocbuild/bbs-3.16-bioc/R/site-library’
* installing *source* package ‘inveRsion’ ...
** using staged installation
** libs
gcc -I"/home/biocbuild/bbs-3.16-bioc/R/include" -DNDEBUG -I/usr/local/include -fpic -g -O2 -Wall -c init_inveRsion.c -o init_inveRsion.o
gcc -I"/home/biocbuild/bbs-3.16-bioc/R/include" -DNDEBUG -I/usr/local/include -fpic -g -O2 -Wall -c inversionModel.c -o inversionModel.o
inversionModel.c: In function ‘blockAndLev’:
inversionModel.c:185:31: warning: suggest parentheses around comparison in operand of ‘&’ [-Wparentheses]
185 | if(dat[(*nr)*(c1)+row]==levelleft[level] & dat[(*nr)*(c2)+row]==levelright[level])
| ~~~~~~~~~~~~~~~~~~~^~~~~~~~~~~~~~~~~~
inversionModel.c: In function ‘inversionModel’:
inversionModel.c:360:15: warning: suggest parentheses around comparison in operand of ‘&’ [-Wparentheses]
360 | while(steps<*maxSteps & tol>mintol)
| ~~~~~^~~~~~~~~~
gcc -I"/home/biocbuild/bbs-3.16-bioc/R/include" -DNDEBUG -I/usr/local/include -fpic -g -O2 -Wall -c writeGenoDat.c -o writeGenoDat.o
writeGenoDat.c: In function ‘writeGenoDat’:
writeGenoDat.c:34:16: warning: ‘dat’ may be used uninitialized in this function [-Wmaybe-uninitialized]
34 | int i,j,l,k,dat,nomiss[*numlevcaco],sum[*numlevcaco];
| ^~~
gcc -shared -L/home/biocbuild/bbs-3.16-bioc/R/lib -L/usr/local/lib -o inveRsion.so init_inveRsion.o inversionModel.o writeGenoDat.o -L/home/biocbuild/bbs-3.16-bioc/R/lib -lRlapack -L/home/biocbuild/bbs-3.16-bioc/R/lib -lRblas -lgfortran -lm -lquadmath -L/home/biocbuild/bbs-3.16-bioc/R/lib -lR
installing to /home/biocbuild/bbs-3.16-bioc/R/site-library/00LOCK-inveRsion/00new/inveRsion/libs
** R
** data
** inst
** byte-compile and prepare package for lazy loading
** help
*** installing help indices
** building package indices
** installing vignettes
** testing if installed package can be loaded from temporary location
Warning: Package 'inveRsion' is deprecated and will be removed from Bioconductor
version 3.17
** checking absolute paths in shared objects and dynamic libraries
** testing if installed package can be loaded from final location
Warning: Package 'inveRsion' is deprecated and will be removed from Bioconductor
version 3.17
** testing if installed package keeps a record of temporary installation path
* DONE (inveRsion)