| Back to Multiple platform build/check report for BioC 3.16: simplified long |
|
This page was generated on 2023-04-12 11:05:33 -0400 (Wed, 12 Apr 2023).
| Hostname | OS | Arch (*) | R version | Installed pkgs |
|---|---|---|---|---|
| nebbiolo2 | Linux (Ubuntu 20.04.5 LTS) | x86_64 | 4.2.3 (2023-03-15) -- "Shortstop Beagle" | 4502 |
| palomino4 | Windows Server 2022 Datacenter | x64 | 4.2.3 (2023-03-15 ucrt) -- "Shortstop Beagle" | 4282 |
| lconway | macOS 12.5.1 Monterey | x86_64 | 4.2.3 (2023-03-15) -- "Shortstop Beagle" | 4310 |
| Click on any hostname to see more info about the system (e.g. compilers) (*) as reported by 'uname -p', except on Windows and Mac OS X | ||||
|
To the developers/maintainers of the flowGraph package: - Please allow up to 24 hours (and sometimes 48 hours) for your latest push to git@git.bioconductor.org:packages/flowGraph.git to reflect on this report. See How and When does the builder pull? When will my changes propagate? for more information. - Make sure to use the following settings in order to reproduce any error or warning you see on this page. |
| Package 696/2183 | Hostname | OS / Arch | INSTALL | BUILD | CHECK | BUILD BIN | ||||||||
| flowGraph 1.6.0 (landing page) Alice Yue
| nebbiolo2 | Linux (Ubuntu 20.04.5 LTS) / x86_64 | OK | OK | OK | |||||||||
| palomino4 | Windows Server 2022 Datacenter / x64 | OK | OK | OK | OK | |||||||||
| lconway | macOS 12.5.1 Monterey / x86_64 | OK | OK | OK | OK | |||||||||
| Package: flowGraph |
| Version: 1.6.0 |
| Command: F:\biocbuild\bbs-3.16-bioc\R\bin\R.exe CMD check --no-multiarch --install=check:flowGraph.install-out.txt --library=F:\biocbuild\bbs-3.16-bioc\R\library --no-vignettes --timings flowGraph_1.6.0.tar.gz |
| StartedAt: 2023-04-11 01:33:12 -0400 (Tue, 11 Apr 2023) |
| EndedAt: 2023-04-11 01:37:24 -0400 (Tue, 11 Apr 2023) |
| EllapsedTime: 251.5 seconds |
| RetCode: 0 |
| Status: OK |
| CheckDir: flowGraph.Rcheck |
| Warnings: 0 |
##############################################################################
##############################################################################
###
### Running command:
###
### F:\biocbuild\bbs-3.16-bioc\R\bin\R.exe CMD check --no-multiarch --install=check:flowGraph.install-out.txt --library=F:\biocbuild\bbs-3.16-bioc\R\library --no-vignettes --timings flowGraph_1.6.0.tar.gz
###
##############################################################################
##############################################################################
* using log directory 'F:/biocbuild/bbs-3.16-bioc/meat/flowGraph.Rcheck'
* using R version 4.2.3 (2023-03-15 ucrt)
* using platform: x86_64-w64-mingw32 (64-bit)
* using session charset: UTF-8
* using option '--no-vignettes'
* checking for file 'flowGraph/DESCRIPTION' ... OK
* checking extension type ... Package
* this is package 'flowGraph' version '1.6.0'
* checking package namespace information ... OK
* checking package dependencies ... OK
* checking if this is a source package ... OK
* checking if there is a namespace ... OK
* checking for hidden files and directories ... OK
* checking for portable file names ... OK
* checking whether package 'flowGraph' can be installed ... OK
* checking installed package size ... OK
* checking package directory ... OK
* checking 'build' directory ... OK
* checking DESCRIPTION meta-information ... OK
* checking top-level files ... OK
* checking for left-over files ... OK
* checking index information ... OK
* checking package subdirectories ... OK
* checking R files for non-ASCII characters ... OK
* checking R files for syntax errors ... OK
* checking whether the package can be loaded ... OK
* checking whether the package can be loaded with stated dependencies ... OK
* checking whether the package can be unloaded cleanly ... OK
* checking whether the namespace can be loaded with stated dependencies ... OK
* checking whether the namespace can be unloaded cleanly ... OK
* checking dependencies in R code ... OK
* checking S3 generic/method consistency ... OK
* checking replacement functions ... OK
* checking foreign function calls ... OK
* checking R code for possible problems ... NOTE
get_child: no visible binding for global variable 'no_cores'
get_paren: no visible binding for global variable 'no_cores'
ms_psig: no visible binding for global variable 'meta'
Undefined global functions or variables:
meta no_cores
* checking Rd files ... OK
* checking Rd metadata ... OK
* checking Rd cross-references ... OK
* checking for missing documentation entries ... OK
* checking for code/documentation mismatches ... OK
* checking Rd \usage sections ... OK
* checking Rd contents ... OK
* checking for unstated dependencies in examples ... OK
* checking contents of 'data' directory ... OK
* checking data for non-ASCII characters ... OK
* checking data for ASCII and uncompressed saves ... OK
* checking files in 'vignettes' ... OK
* checking examples ... OK
Examples with CPU (user + system) or elapsed time > 5s
user system elapsed
fg_save 43.96 0.97 44.95
fg_load 42.15 1.30 43.49
fg_save_plots 41.24 0.98 42.25
* checking for unstated dependencies in 'tests' ... OK
* checking tests ...
Running 'testthat.R'
OK
* checking for unstated dependencies in vignettes ... OK
* checking package vignettes in 'inst/doc' ... OK
* checking running R code from vignettes ... SKIPPED
* checking re-building of vignette outputs ... SKIPPED
* checking PDF version of manual ... OK
* DONE
Status: 1 NOTE
See
'F:/biocbuild/bbs-3.16-bioc/meat/flowGraph.Rcheck/00check.log'
for details.
flowGraph.Rcheck/00install.out
############################################################################## ############################################################################## ### ### Running command: ### ### F:\biocbuild\bbs-3.16-bioc\R\bin\R.exe CMD INSTALL flowGraph ### ############################################################################## ############################################################################## * installing to library 'F:/biocbuild/bbs-3.16-bioc/R/library' * installing *source* package 'flowGraph' ... ** using staged installation ** R ** data ** inst ** byte-compile and prepare package for lazy loading ** help Loading required namespace: flowGraph *** installing help indices ** building package indices ** installing vignettes ** testing if installed package can be loaded from temporary location ** testing if installed package can be loaded from final location ** testing if installed package keeps a record of temporary installation path * DONE (flowGraph)
flowGraph.Rcheck/tests/testthat.Rout
R version 4.2.3 (2023-03-15 ucrt) -- "Shortstop Beagle"
Copyright (C) 2023 The R Foundation for Statistical Computing
Platform: x86_64-w64-mingw32/x64 (64-bit)
R is free software and comes with ABSOLUTELY NO WARRANTY.
You are welcome to redistribute it under certain conditions.
Type 'license()' or 'licence()' for distribution details.
R is a collaborative project with many contributors.
Type 'contributors()' for more information and
'citation()' on how to cite R or R packages in publications.
Type 'demo()' for some demos, 'help()' for on-line help, or
'help.start()' for an HTML browser interface to help.
Type 'q()' to quit R.
> library(testthat)
> library(flowGraph)
>
> test_check("flowGraph")
[ FAIL 0 | WARN 0 | SKIP 0 | PASS 34 ]
>
> proc.time()
user system elapsed
5.71 0.43 6.14
flowGraph.Rcheck/flowGraph-Ex.timings
| name | user | system | elapsed | |
| cell_type_layers | 0 | 0 | 0 | |
| fg_add_feature | 0.37 | 0.02 | 0.39 | |
| fg_add_summary | 0.91 | 0.01 | 0.92 | |
| fg_clean_phen | 0 | 0 | 0 | |
| fg_clear_features | 0.76 | 0.02 | 0.78 | |
| fg_clear_summary | 0.39 | 0.00 | 0.39 | |
| fg_extract_phenotypes | 0.25 | 0.02 | 0.27 | |
| fg_extract_raw | 0.91 | 0.01 | 0.92 | |
| fg_extract_samples | 0.3 | 0.0 | 0.3 | |
| fg_feat_cumsum | 0.37 | 0.02 | 0.39 | |
| fg_feat_edge_specenr | 0.47 | 0.00 | 0.47 | |
| fg_feat_mean_class | 0.27 | 0.00 | 0.26 | |
| fg_feat_node_prop | 0.26 | 0.00 | 0.27 | |
| fg_feat_node_specenr | 0.41 | 0.00 | 0.41 | |
| fg_feat_prop_edge | 0.34 | 0.00 | 0.34 | |
| fg_get_feature | 0.32 | 0.02 | 0.33 | |
| fg_get_feature_desc | 0.98 | 0.03 | 1.02 | |
| fg_get_feature_means | 1.22 | 0.03 | 1.25 | |
| fg_get_graph | 0.25 | 0.02 | 0.26 | |
| fg_get_markers | 0.33 | 0.00 | 0.33 | |
| fg_get_meta | 0.26 | 0.00 | 0.27 | |
| fg_get_summary | 1.72 | 0.07 | 1.79 | |
| fg_get_summary_desc | 0.78 | 0.04 | 0.82 | |
| fg_get_summary_index | 2.05 | 0.03 | 2.08 | |
| fg_get_summary_tables | 1.30 | 0.03 | 1.32 | |
| fg_gsub_ids | 0.26 | 0.00 | 0.27 | |
| fg_gsub_markers | 0.30 | 0.01 | 0.31 | |
| fg_load | 42.15 | 1.30 | 43.49 | |
| fg_merge | 0.25 | 0.02 | 0.26 | |
| fg_merge_samples | 0.27 | 0.01 | 0.28 | |
| fg_plot | 0.45 | 0.02 | 0.47 | |
| fg_plot_box | 0.63 | 0.01 | 0.64 | |
| fg_plot_pVSdiff | 0.36 | 0.02 | 0.38 | |
| fg_plot_qq | 1.32 | 0.06 | 1.64 | |
| fg_replace_meta | 0.28 | 0.02 | 0.30 | |
| fg_rm_feature | 0.98 | 0.00 | 1.00 | |
| fg_rm_summary | 0.39 | 0.00 | 0.41 | |
| fg_save | 43.96 | 0.97 | 44.95 | |
| fg_save_plots | 41.24 | 0.98 | 42.25 | |
| fg_set_layout | 0.42 | 0.00 | 0.42 | |
| fg_summary | 0.36 | 0.02 | 0.37 | |
| flowGraph-class | 0 | 0 | 0 | |
| flowGraph | 1.26 | 0.01 | 1.28 | |
| flowGraphSubset | 0 | 0 | 0 | |
| flowGraphSubset_summary_adjust | 0 | 0 | 0 | |
| flowGraphSubset_summary_pars | 0 | 0 | 0 | |
| get_phen_list | 0.02 | 0.00 | 0.02 | |
| get_phen_meta | 0 | 0 | 0 | |
| ggdf | 0.39 | 0.00 | 0.40 | |
| loop_ind_f | 0 | 0 | 0 | |
| meandiff | 0 | 0 | 0 | |
| plot_gr | 1.57 | 0.06 | 1.96 | |
| set_layout_graph | 0.38 | 0.00 | 0.39 | |
| summary_table | 0 | 0 | 0 | |
| time_output | 0 | 0 | 0 | |
| tstr | 0 | 0 | 0 | |