| Back to Multiple platform build/check report for BioC 3.16: simplified long |
|
This page was generated on 2023-04-12 11:05:04 -0400 (Wed, 12 Apr 2023).
| Hostname | OS | Arch (*) | R version | Installed pkgs |
|---|---|---|---|---|
| nebbiolo2 | Linux (Ubuntu 20.04.5 LTS) | x86_64 | 4.2.3 (2023-03-15) -- "Shortstop Beagle" | 4502 |
| palomino4 | Windows Server 2022 Datacenter | x64 | 4.2.3 (2023-03-15 ucrt) -- "Shortstop Beagle" | 4282 |
| lconway | macOS 12.5.1 Monterey | x86_64 | 4.2.3 (2023-03-15) -- "Shortstop Beagle" | 4310 |
| Click on any hostname to see more info about the system (e.g. compilers) (*) as reported by 'uname -p', except on Windows and Mac OS X | ||||
|
To the developers/maintainers of the flowGraph package: - Please allow up to 24 hours (and sometimes 48 hours) for your latest push to git@git.bioconductor.org:packages/flowGraph.git to reflect on this report. See How and When does the builder pull? When will my changes propagate? for more information. - Make sure to use the following settings in order to reproduce any error or warning you see on this page. |
| Package 696/2183 | Hostname | OS / Arch | INSTALL | BUILD | CHECK | BUILD BIN | ||||||||
| flowGraph 1.6.0 (landing page) Alice Yue
| nebbiolo2 | Linux (Ubuntu 20.04.5 LTS) / x86_64 | OK | OK | OK | |||||||||
| palomino4 | Windows Server 2022 Datacenter / x64 | OK | OK | OK | OK | |||||||||
| lconway | macOS 12.5.1 Monterey / x86_64 | OK | OK | OK | OK | |||||||||
| Package: flowGraph |
| Version: 1.6.0 |
| Command: /home/biocbuild/bbs-3.16-bioc/R/bin/R CMD check --install=check:flowGraph.install-out.txt --library=/home/biocbuild/bbs-3.16-bioc/R/site-library --timings flowGraph_1.6.0.tar.gz |
| StartedAt: 2023-04-10 20:45:18 -0400 (Mon, 10 Apr 2023) |
| EndedAt: 2023-04-10 20:49:34 -0400 (Mon, 10 Apr 2023) |
| EllapsedTime: 256.5 seconds |
| RetCode: 0 |
| Status: OK |
| CheckDir: flowGraph.Rcheck |
| Warnings: 0 |
##############################################################################
##############################################################################
###
### Running command:
###
### /home/biocbuild/bbs-3.16-bioc/R/bin/R CMD check --install=check:flowGraph.install-out.txt --library=/home/biocbuild/bbs-3.16-bioc/R/site-library --timings flowGraph_1.6.0.tar.gz
###
##############################################################################
##############################################################################
* using log directory ‘/home/biocbuild/bbs-3.16-bioc/meat/flowGraph.Rcheck’
* using R version 4.2.3 (2023-03-15)
* using platform: x86_64-pc-linux-gnu (64-bit)
* using session charset: UTF-8
* checking for file ‘flowGraph/DESCRIPTION’ ... OK
* checking extension type ... Package
* this is package ‘flowGraph’ version ‘1.6.0’
* checking package namespace information ... OK
* checking package dependencies ... OK
* checking if this is a source package ... OK
* checking if there is a namespace ... OK
* checking for hidden files and directories ... OK
* checking for portable file names ... OK
* checking for sufficient/correct file permissions ... OK
* checking whether package ‘flowGraph’ can be installed ... OK
* checking installed package size ... OK
* checking package directory ... OK
* checking ‘build’ directory ... OK
* checking DESCRIPTION meta-information ... OK
* checking top-level files ... OK
* checking for left-over files ... OK
* checking index information ... OK
* checking package subdirectories ... OK
* checking R files for non-ASCII characters ... OK
* checking R files for syntax errors ... OK
* checking whether the package can be loaded ... OK
* checking whether the package can be loaded with stated dependencies ... OK
* checking whether the package can be unloaded cleanly ... OK
* checking whether the namespace can be loaded with stated dependencies ... OK
* checking whether the namespace can be unloaded cleanly ... OK
* checking loading without being on the library search path ... OK
* checking dependencies in R code ... OK
* checking S3 generic/method consistency ... OK
* checking replacement functions ... OK
* checking foreign function calls ... OK
* checking R code for possible problems ... NOTE
get_child: no visible binding for global variable ‘no_cores’
get_paren: no visible binding for global variable ‘no_cores’
ms_psig: no visible binding for global variable ‘meta’
Undefined global functions or variables:
meta no_cores
* checking Rd files ... OK
* checking Rd metadata ... OK
* checking Rd cross-references ... OK
* checking for missing documentation entries ... OK
* checking for code/documentation mismatches ... OK
* checking Rd \usage sections ... OK
* checking Rd contents ... OK
* checking for unstated dependencies in examples ... OK
* checking contents of ‘data’ directory ... OK
* checking data for non-ASCII characters ... OK
* checking data for ASCII and uncompressed saves ... OK
* checking files in ‘vignettes’ ... OK
* checking examples ... OK
Examples with CPU (user + system) or elapsed time > 5s
user system elapsed
fg_save 40.667 0.560 41.230
fg_save_plots 39.983 0.576 40.559
fg_load 37.849 0.804 38.656
* checking for unstated dependencies in ‘tests’ ... OK
* checking tests ...
Running ‘testthat.R’
OK
* checking for unstated dependencies in vignettes ... OK
* checking package vignettes in ‘inst/doc’ ... OK
* checking running R code from vignettes ...
‘flowGraph.Rmd’ using ‘UTF-8’... OK
NONE
* checking re-building of vignette outputs ... OK
* checking PDF version of manual ... OK
* DONE
Status: 1 NOTE
See
‘/home/biocbuild/bbs-3.16-bioc/meat/flowGraph.Rcheck/00check.log’
for details.
flowGraph.Rcheck/00install.out
############################################################################## ############################################################################## ### ### Running command: ### ### /home/biocbuild/bbs-3.16-bioc/R/bin/R CMD INSTALL flowGraph ### ############################################################################## ############################################################################## * installing to library ‘/home/biocbuild/bbs-3.16-bioc/R/site-library’ * installing *source* package ‘flowGraph’ ... ** using staged installation ** R ** data ** inst ** byte-compile and prepare package for lazy loading ** help Loading required namespace: flowGraph *** installing help indices ** building package indices ** installing vignettes ** testing if installed package can be loaded from temporary location ** testing if installed package can be loaded from final location ** testing if installed package keeps a record of temporary installation path * DONE (flowGraph)
flowGraph.Rcheck/tests/testthat.Rout
R version 4.2.3 (2023-03-15) -- "Shortstop Beagle"
Copyright (C) 2023 The R Foundation for Statistical Computing
Platform: x86_64-pc-linux-gnu (64-bit)
R is free software and comes with ABSOLUTELY NO WARRANTY.
You are welcome to redistribute it under certain conditions.
Type 'license()' or 'licence()' for distribution details.
R is a collaborative project with many contributors.
Type 'contributors()' for more information and
'citation()' on how to cite R or R packages in publications.
Type 'demo()' for some demos, 'help()' for on-line help, or
'help.start()' for an HTML browser interface to help.
Type 'q()' to quit R.
> library(testthat)
> library(flowGraph)
>
> test_check("flowGraph")
[ FAIL 0 | WARN 0 | SKIP 0 | PASS 34 ]
>
> proc.time()
user system elapsed
5.065 0.162 5.213
flowGraph.Rcheck/flowGraph-Ex.timings
| name | user | system | elapsed | |
| cell_type_layers | 0.004 | 0.000 | 0.003 | |
| fg_add_feature | 0.326 | 0.012 | 0.338 | |
| fg_add_summary | 0.837 | 0.000 | 0.837 | |
| fg_clean_phen | 0 | 0 | 0 | |
| fg_clear_features | 0.838 | 0.016 | 0.854 | |
| fg_clear_summary | 0.369 | 0.016 | 0.384 | |
| fg_extract_phenotypes | 0.272 | 0.000 | 0.272 | |
| fg_extract_raw | 0.754 | 0.000 | 0.755 | |
| fg_extract_samples | 0.282 | 0.004 | 0.286 | |
| fg_feat_cumsum | 0.268 | 0.000 | 0.268 | |
| fg_feat_edge_specenr | 0.400 | 0.004 | 0.405 | |
| fg_feat_mean_class | 0.278 | 0.000 | 0.278 | |
| fg_feat_node_prop | 0.284 | 0.000 | 0.283 | |
| fg_feat_node_specenr | 0.394 | 0.168 | 0.562 | |
| fg_feat_prop_edge | 0.259 | 0.000 | 0.259 | |
| fg_get_feature | 0.241 | 0.000 | 0.241 | |
| fg_get_feature_desc | 0.77 | 0.02 | 0.79 | |
| fg_get_feature_means | 1.122 | 0.000 | 1.122 | |
| fg_get_graph | 0.245 | 0.004 | 0.249 | |
| fg_get_markers | 0.253 | 0.039 | 0.292 | |
| fg_get_meta | 0.269 | 0.000 | 0.269 | |
| fg_get_summary | 1.604 | 0.000 | 1.605 | |
| fg_get_summary_desc | 0.751 | 0.020 | 0.772 | |
| fg_get_summary_index | 1.597 | 0.084 | 1.681 | |
| fg_get_summary_tables | 1.000 | 0.036 | 1.036 | |
| fg_gsub_ids | 0.221 | 0.004 | 0.226 | |
| fg_gsub_markers | 0.27 | 0.00 | 0.27 | |
| fg_load | 37.849 | 0.804 | 38.656 | |
| fg_merge | 0.268 | 0.000 | 0.268 | |
| fg_merge_samples | 0.346 | 0.024 | 0.369 | |
| fg_plot | 0.399 | 0.008 | 0.406 | |
| fg_plot_box | 0.61 | 0.00 | 0.61 | |
| fg_plot_pVSdiff | 0.381 | 0.000 | 0.382 | |
| fg_plot_qq | 1.154 | 0.000 | 1.155 | |
| fg_replace_meta | 0.272 | 0.000 | 0.273 | |
| fg_rm_feature | 0.762 | 0.004 | 0.766 | |
| fg_rm_summary | 0.344 | 0.004 | 0.348 | |
| fg_save | 40.667 | 0.560 | 41.230 | |
| fg_save_plots | 39.983 | 0.576 | 40.559 | |
| fg_set_layout | 0.275 | 0.000 | 0.275 | |
| fg_summary | 0.349 | 0.000 | 0.350 | |
| flowGraph-class | 0.001 | 0.000 | 0.000 | |
| flowGraph | 1.151 | 0.004 | 1.154 | |
| flowGraphSubset | 0 | 0 | 0 | |
| flowGraphSubset_summary_adjust | 0.000 | 0.000 | 0.001 | |
| flowGraphSubset_summary_pars | 0 | 0 | 0 | |
| get_phen_list | 0.014 | 0.000 | 0.013 | |
| get_phen_meta | 0.002 | 0.000 | 0.002 | |
| ggdf | 0.258 | 0.000 | 0.258 | |
| loop_ind_f | 0 | 0 | 0 | |
| meandiff | 0.000 | 0.000 | 0.001 | |
| plot_gr | 1.481 | 0.008 | 1.490 | |
| set_layout_graph | 0.273 | 0.004 | 0.277 | |
| summary_table | 0.013 | 0.000 | 0.012 | |
| time_output | 0.001 | 0.000 | 0.000 | |
| tstr | 0 | 0 | 0 | |