| Back to Multiple platform build/check report for BioC 3.16: simplified long |
|
This page was generated on 2023-04-12 11:06:07 -0400 (Wed, 12 Apr 2023).
| Hostname | OS | Arch (*) | R version | Installed pkgs |
|---|---|---|---|---|
| nebbiolo2 | Linux (Ubuntu 20.04.5 LTS) | x86_64 | 4.2.3 (2023-03-15) -- "Shortstop Beagle" | 4502 |
| palomino4 | Windows Server 2022 Datacenter | x64 | 4.2.3 (2023-03-15 ucrt) -- "Shortstop Beagle" | 4282 |
| lconway | macOS 12.5.1 Monterey | x86_64 | 4.2.3 (2023-03-15) -- "Shortstop Beagle" | 4310 |
| Click on any hostname to see more info about the system (e.g. compilers) (*) as reported by 'uname -p', except on Windows and Mac OS X | ||||
|
To the developers/maintainers of the flowCore package: - Please allow up to 24 hours (and sometimes 48 hours) for your latest push to git@git.bioconductor.org:packages/flowCore.git to reflect on this report. See How and When does the builder pull? When will my changes propagate? for more information. - Make sure to use the following settings in order to reproduce any error or warning you see on this page. |
| Package 691/2183 | Hostname | OS / Arch | INSTALL | BUILD | CHECK | BUILD BIN | ||||||||
| flowCore 2.10.0 (landing page) Mike Jiang
| nebbiolo2 | Linux (Ubuntu 20.04.5 LTS) / x86_64 | OK | OK | WARNINGS | |||||||||
| palomino4 | Windows Server 2022 Datacenter / x64 | OK | OK | OK | OK | |||||||||
| lconway | macOS 12.5.1 Monterey / x86_64 | OK | OK | OK | OK | |||||||||
| Package: flowCore |
| Version: 2.10.0 |
| Command: /Library/Frameworks/R.framework/Resources/bin/R CMD check --install=check:flowCore.install-out.txt --library=/Library/Frameworks/R.framework/Resources/library --no-vignettes --timings flowCore_2.10.0.tar.gz |
| StartedAt: 2023-04-10 20:14:37 -0400 (Mon, 10 Apr 2023) |
| EndedAt: 2023-04-10 20:17:08 -0400 (Mon, 10 Apr 2023) |
| EllapsedTime: 151.1 seconds |
| RetCode: 0 |
| Status: OK |
| CheckDir: flowCore.Rcheck |
| Warnings: 0 |
##############################################################################
##############################################################################
###
### Running command:
###
### /Library/Frameworks/R.framework/Resources/bin/R CMD check --install=check:flowCore.install-out.txt --library=/Library/Frameworks/R.framework/Resources/library --no-vignettes --timings flowCore_2.10.0.tar.gz
###
##############################################################################
##############################################################################
* using log directory ‘/Users/biocbuild/bbs-3.16-bioc/meat/flowCore.Rcheck’
* using R version 4.2.3 (2023-03-15)
* using platform: x86_64-apple-darwin17.0 (64-bit)
* using session charset: UTF-8
* using option ‘--no-vignettes’
* checking for file ‘flowCore/DESCRIPTION’ ... OK
* this is package ‘flowCore’ version ‘2.10.0’
* package encoding: UTF-8
* checking package namespace information ... OK
* checking package dependencies ... OK
* checking if this is a source package ... OK
* checking if there is a namespace ... OK
* checking for hidden files and directories ... OK
* checking for portable file names ... OK
* checking for sufficient/correct file permissions ... OK
* checking whether package ‘flowCore’ can be installed ... OK
* checking installed package size ... NOTE
installed size is 9.1Mb
sub-directories of 1Mb or more:
R 1.1Mb
data 5.4Mb
extdata 1.1Mb
* checking package directory ... OK
* checking ‘build’ directory ... OK
* checking DESCRIPTION meta-information ... OK
* checking top-level files ... OK
* checking for left-over files ... OK
* checking index information ... OK
* checking package subdirectories ... OK
* checking R files for non-ASCII characters ... OK
* checking R files for syntax errors ... OK
* checking whether the package can be loaded ... OK
* checking whether the package can be loaded with stated dependencies ... OK
* checking whether the package can be unloaded cleanly ... OK
* checking whether the namespace can be loaded with stated dependencies ... OK
* checking whether the namespace can be unloaded cleanly ... OK
* checking dependencies in R code ... OK
* checking S3 generic/method consistency ... OK
* checking replacement functions ... OK
* checking foreign function calls ... OK
* checking R code for possible problems ... NOTE
eval,compensatedParameter-missing : <anonymous>: no visible binding for
global variable ‘mat’
eval,compensatedParameter-missing : <anonymous>: no visible binding for
global variable ‘msv’
show,flowFrame: no visible global function definition for
‘capture.output’
Undefined global functions or variables:
capture.output mat msv
Consider adding
importFrom("utils", "capture.output")
to your NAMESPACE file.
* checking Rd files ... OK
* checking Rd metadata ... OK
* checking Rd cross-references ... OK
* checking for missing documentation entries ... OK
* checking for code/documentation mismatches ... OK
* checking Rd \usage sections ... OK
* checking Rd contents ... OK
* checking for unstated dependencies in examples ... OK
* checking contents of ‘data’ directory ... OK
* checking data for non-ASCII characters ... OK
* checking data for ASCII and uncompressed saves ... OK
* checking line endings in C/C++/Fortran sources/headers ... OK
* checking line endings in Makefiles ... OK
* checking compilation flags in Makevars ... OK
* checking for GNU extensions in Makefiles ... OK
* checking for portable use of $(BLAS_LIBS) and $(LAPACK_LIBS) ... OK
* checking use of PKG_*FLAGS in Makefiles ... OK
* checking compiled code ... NOTE
Note: information on .o files is not available
File ‘/Library/Frameworks/R.framework/Versions/4.2/Resources/library/flowCore/libs/flowCore.so’:
Found ‘__ZNSt3__14cerrE’, possibly from ‘std::cerr’ (C++)
Found ‘_rand’, possibly from ‘rand’ (C)
Found ‘_srand’, possibly from ‘srand’ (C)
Compiled code should not call entry points which might terminate R nor
write to stdout/stderr instead of to the console, nor use Fortran I/O
nor system RNGs. The detected symbols are linked into the code but
might come from libraries and not actually be called.
See ‘Writing portable packages’ in the ‘Writing R Extensions’ manual.
* checking sizes of PDF files under ‘inst/doc’ ... OK
* checking installed files from ‘inst/doc’ ... OK
* checking files in ‘vignettes’ ... OK
* checking examples ... OK
Examples with CPU (user + system) or elapsed time > 5s
user system elapsed
filterResultList-class 4.806 0.208 5.032
* checking for unstated dependencies in ‘tests’ ... OK
* checking tests ...
Running ‘testthat.R’
OK
* checking for unstated dependencies in vignettes ... OK
* checking package vignettes in ‘inst/doc’ ... OK
* checking running R code from vignettes ... SKIPPED
* checking re-building of vignette outputs ... SKIPPED
* checking PDF version of manual ... OK
* DONE
Status: 3 NOTEs
See
‘/Users/biocbuild/bbs-3.16-bioc/meat/flowCore.Rcheck/00check.log’
for details.
flowCore.Rcheck/00install.out
############################################################################## ############################################################################## ### ### Running command: ### ### /Library/Frameworks/R.framework/Resources/bin/R CMD INSTALL flowCore ### ############################################################################## ############################################################################## * installing to library ‘/Library/Frameworks/R.framework/Versions/4.2/Resources/library’ * installing *source* package ‘flowCore’ ... ** using staged installation ** libs clang++ -mmacosx-version-min=10.13 -std=gnu++11 -I"/Library/Frameworks/R.framework/Resources/include" -DNDEBUG -I'/Library/Frameworks/R.framework/Versions/4.2/Resources/library/cpp11/include' -I'/Library/Frameworks/R.framework/Versions/4.2/Resources/library/BH/include' -I'/Library/Frameworks/R.framework/Versions/4.2/Resources/library/cytolib/include' -I'/Library/Frameworks/R.framework/Versions/4.2/Resources/library/RProtoBufLib/include' -I/usr/local/include -fPIC -Wall -g -O2 -c FastLogicle.cpp -o FastLogicle.o clang++ -mmacosx-version-min=10.13 -std=gnu++11 -I"/Library/Frameworks/R.framework/Resources/include" -DNDEBUG -I'/Library/Frameworks/R.framework/Versions/4.2/Resources/library/cpp11/include' -I'/Library/Frameworks/R.framework/Versions/4.2/Resources/library/BH/include' -I'/Library/Frameworks/R.framework/Versions/4.2/Resources/library/cytolib/include' -I'/Library/Frameworks/R.framework/Versions/4.2/Resources/library/RProtoBufLib/include' -I/usr/local/include -fPIC -Wall -g -O2 -c Hyperlog.cpp -o Hyperlog.o clang++ -mmacosx-version-min=10.13 -std=gnu++11 -I"/Library/Frameworks/R.framework/Resources/include" -DNDEBUG -I'/Library/Frameworks/R.framework/Versions/4.2/Resources/library/cpp11/include' -I'/Library/Frameworks/R.framework/Versions/4.2/Resources/library/BH/include' -I'/Library/Frameworks/R.framework/Versions/4.2/Resources/library/cytolib/include' -I'/Library/Frameworks/R.framework/Versions/4.2/Resources/library/RProtoBufLib/include' -I/usr/local/include -fPIC -Wall -g -O2 -c Logicle.cpp -o Logicle.o clang++ -mmacosx-version-min=10.13 -std=gnu++11 -I"/Library/Frameworks/R.framework/Resources/include" -DNDEBUG -I'/Library/Frameworks/R.framework/Versions/4.2/Resources/library/cpp11/include' -I'/Library/Frameworks/R.framework/Versions/4.2/Resources/library/BH/include' -I'/Library/Frameworks/R.framework/Versions/4.2/Resources/library/cytolib/include' -I'/Library/Frameworks/R.framework/Versions/4.2/Resources/library/RProtoBufLib/include' -I/usr/local/include -fPIC -Wall -g -O2 -c biexponential.cpp -o biexponential.o clang++ -mmacosx-version-min=10.13 -std=gnu++11 -I"/Library/Frameworks/R.framework/Resources/include" -DNDEBUG -I'/Library/Frameworks/R.framework/Versions/4.2/Resources/library/cpp11/include' -I'/Library/Frameworks/R.framework/Versions/4.2/Resources/library/BH/include' -I'/Library/Frameworks/R.framework/Versions/4.2/Resources/library/cytolib/include' -I'/Library/Frameworks/R.framework/Versions/4.2/Resources/library/RProtoBufLib/include' -I/usr/local/include -fPIC -Wall -g -O2 -c convertRawBytes.cpp -o convertRawBytes.o clang++ -mmacosx-version-min=10.13 -std=gnu++11 -I"/Library/Frameworks/R.framework/Resources/include" -DNDEBUG -I'/Library/Frameworks/R.framework/Versions/4.2/Resources/library/cpp11/include' -I'/Library/Frameworks/R.framework/Versions/4.2/Resources/library/BH/include' -I'/Library/Frameworks/R.framework/Versions/4.2/Resources/library/cytolib/include' -I'/Library/Frameworks/R.framework/Versions/4.2/Resources/library/RProtoBufLib/include' -I/usr/local/include -fPIC -Wall -g -O2 -c cpp11.cpp -o cpp11.o clang++ -mmacosx-version-min=10.13 -std=gnu++11 -I"/Library/Frameworks/R.framework/Resources/include" -DNDEBUG -I'/Library/Frameworks/R.framework/Versions/4.2/Resources/library/cpp11/include' -I'/Library/Frameworks/R.framework/Versions/4.2/Resources/library/BH/include' -I'/Library/Frameworks/R.framework/Versions/4.2/Resources/library/cytolib/include' -I'/Library/Frameworks/R.framework/Versions/4.2/Resources/library/RProtoBufLib/include' -I/usr/local/include -fPIC -Wall -g -O2 -c fcsTextParse.cpp -o fcsTextParse.o clang++ -mmacosx-version-min=10.13 -std=gnu++11 -I"/Library/Frameworks/R.framework/Resources/include" -DNDEBUG -I'/Library/Frameworks/R.framework/Versions/4.2/Resources/library/cpp11/include' -I'/Library/Frameworks/R.framework/Versions/4.2/Resources/library/BH/include' -I'/Library/Frameworks/R.framework/Versions/4.2/Resources/library/cytolib/include' -I'/Library/Frameworks/R.framework/Versions/4.2/Resources/library/RProtoBufLib/include' -I/usr/local/include -fPIC -Wall -g -O2 -c hyperlogTransform.cpp -o hyperlogTransform.o clang++ -mmacosx-version-min=10.13 -std=gnu++11 -I"/Library/Frameworks/R.framework/Resources/include" -DNDEBUG -I'/Library/Frameworks/R.framework/Versions/4.2/Resources/library/cpp11/include' -I'/Library/Frameworks/R.framework/Versions/4.2/Resources/library/BH/include' -I'/Library/Frameworks/R.framework/Versions/4.2/Resources/library/cytolib/include' -I'/Library/Frameworks/R.framework/Versions/4.2/Resources/library/RProtoBufLib/include' -I/usr/local/include -fPIC -Wall -g -O2 -c inPolygon.cpp -o inPolygon.o clang++ -mmacosx-version-min=10.13 -std=gnu++11 -I"/Library/Frameworks/R.framework/Resources/include" -DNDEBUG -I'/Library/Frameworks/R.framework/Versions/4.2/Resources/library/cpp11/include' -I'/Library/Frameworks/R.framework/Versions/4.2/Resources/library/BH/include' -I'/Library/Frameworks/R.framework/Versions/4.2/Resources/library/cytolib/include' -I'/Library/Frameworks/R.framework/Versions/4.2/Resources/library/RProtoBufLib/include' -I/usr/local/include -fPIC -Wall -g -O2 -c inPolytope.cpp -o inPolytope.o clang++ -mmacosx-version-min=10.13 -std=gnu++11 -I"/Library/Frameworks/R.framework/Resources/include" -DNDEBUG -I'/Library/Frameworks/R.framework/Versions/4.2/Resources/library/cpp11/include' -I'/Library/Frameworks/R.framework/Versions/4.2/Resources/library/BH/include' -I'/Library/Frameworks/R.framework/Versions/4.2/Resources/library/cytolib/include' -I'/Library/Frameworks/R.framework/Versions/4.2/Resources/library/RProtoBufLib/include' -I/usr/local/include -fPIC -Wall -g -O2 -c logicleTransform.cpp -o logicleTransform.o clang++ -mmacosx-version-min=10.13 -std=gnu++11 -I"/Library/Frameworks/R.framework/Resources/include" -DNDEBUG -I'/Library/Frameworks/R.framework/Versions/4.2/Resources/library/cpp11/include' -I'/Library/Frameworks/R.framework/Versions/4.2/Resources/library/BH/include' -I'/Library/Frameworks/R.framework/Versions/4.2/Resources/library/cytolib/include' -I'/Library/Frameworks/R.framework/Versions/4.2/Resources/library/RProtoBufLib/include' -I/usr/local/include -fPIC -Wall -g -O2 -c poly_centroid.cpp -o poly_centroid.o clang++ -mmacosx-version-min=10.13 -std=gnu++11 -I"/Library/Frameworks/R.framework/Resources/include" -DNDEBUG -I'/Library/Frameworks/R.framework/Versions/4.2/Resources/library/cpp11/include' -I'/Library/Frameworks/R.framework/Versions/4.2/Resources/library/BH/include' -I'/Library/Frameworks/R.framework/Versions/4.2/Resources/library/cytolib/include' -I'/Library/Frameworks/R.framework/Versions/4.2/Resources/library/RProtoBufLib/include' -I/usr/local/include -fPIC -Wall -g -O2 -c sortBytes.cpp -o sortBytes.o clang++ -mmacosx-version-min=10.13 -std=gnu++11 -I"/Library/Frameworks/R.framework/Resources/include" -DNDEBUG -I'/Library/Frameworks/R.framework/Versions/4.2/Resources/library/cpp11/include' -I'/Library/Frameworks/R.framework/Versions/4.2/Resources/library/BH/include' -I'/Library/Frameworks/R.framework/Versions/4.2/Resources/library/cytolib/include' -I'/Library/Frameworks/R.framework/Versions/4.2/Resources/library/RProtoBufLib/include' -I/usr/local/include -fPIC -Wall -g -O2 -c uint2double.cpp -o uint2double.o clang++ -mmacosx-version-min=10.13 -std=gnu++11 -I"/Library/Frameworks/R.framework/Resources/include" -DNDEBUG -I'/Library/Frameworks/R.framework/Versions/4.2/Resources/library/cpp11/include' -I'/Library/Frameworks/R.framework/Versions/4.2/Resources/library/BH/include' -I'/Library/Frameworks/R.framework/Versions/4.2/Resources/library/cytolib/include' -I'/Library/Frameworks/R.framework/Versions/4.2/Resources/library/RProtoBufLib/include' -I/usr/local/include -fPIC -Wall -g -O2 -c zeroin.cpp -o zeroin.o clang++ -mmacosx-version-min=10.13 -std=gnu++11 -dynamiclib -Wl,-headerpad_max_install_names -undefined dynamic_lookup -single_module -multiply_defined suppress -L/Library/Frameworks/R.framework/Resources/lib -L/usr/local/lib -o flowCore.so FastLogicle.o Hyperlog.o Logicle.o biexponential.o convertRawBytes.o cpp11.o fcsTextParse.o hyperlogTransform.o inPolygon.o inPolytope.o logicleTransform.o poly_centroid.o sortBytes.o uint2double.o zeroin.o /Library/Frameworks/R.framework/Versions/4.2/Resources/library/cytolib/lib/libcytolib.a -F/Library/Frameworks/R.framework/.. -framework R -Wl,-framework -Wl,CoreFoundation if [ `uname -s` = 'Darwin' ]; then install_name_tool -change /usr/local/clang4/lib/libc++.1.dylib /usr/lib/libc++.1.dylib flowCore.so; fi installing to /Library/Frameworks/R.framework/Versions/4.2/Resources/library/00LOCK-flowCore/00new/flowCore/libs ** R ** data ** inst ** byte-compile and prepare package for lazy loading ** help *** installing help indices ** building package indices ** installing vignettes ** testing if installed package can be loaded from temporary location ** checking absolute paths in shared objects and dynamic libraries ** testing if installed package can be loaded from final location ** testing if installed package keeps a record of temporary installation path * DONE (flowCore)
flowCore.Rcheck/tests/testthat.Rout
R version 4.2.3 (2023-03-15) -- "Shortstop Beagle"
Copyright (C) 2023 The R Foundation for Statistical Computing
Platform: x86_64-apple-darwin17.0 (64-bit)
R is free software and comes with ABSOLUTELY NO WARRANTY.
You are welcome to redistribute it under certain conditions.
Type 'license()' or 'licence()' for distribution details.
R is a collaborative project with many contributors.
Type 'contributors()' for more information and
'citation()' on how to cite R or R packages in publications.
Type 'demo()' for some demos, 'help()' for on-line help, or
'help.start()' for an HTML browser interface to help.
Type 'q()' to quit R.
> library(testthat)
> library(flowCore)
> library(flowStats)
Warning message:
replacing previous import 'flowViz::contour' by 'graphics::contour' when loading 'flowStats'
>
>
> test_check("flowCore")
Loading required package: BiocGenerics
Attaching package: 'BiocGenerics'
The following object is masked from 'package:flowStats':
normalize
The following object is masked from 'package:flowCore':
normalize
The following objects are masked from 'package:stats':
IQR, mad, sd, var, xtabs
The following objects are masked from 'package:base':
Filter, Find, Map, Position, Reduce, anyDuplicated, aperm, append,
as.data.frame, basename, cbind, colnames, dirname, do.call,
duplicated, eval, evalq, get, grep, grepl, intersect, is.unsorted,
lapply, mapply, match, mget, order, paste, pmax, pmax.int, pmin,
pmin.int, rank, rbind, rownames, sapply, setdiff, sort, table,
tapply, union, unique, unsplit, which.max, which.min
Welcome to Bioconductor
Vignettes contain introductory material; view with
'browseVignettes()'. To cite Bioconductor, see
'citation("Biobase")', and for packages 'citation("pkgname")'.
[ FAIL 0 | WARN 2 | SKIP 3 | PASS 334 ]
══ Skipped tests ═══════════════════════════════════════════════════════════════
• dir.exists(dataPath) is not TRUE (1)
• file.exists(filename) is not TRUE (2)
[ FAIL 0 | WARN 2 | SKIP 3 | PASS 334 ]
>
> #devtools::test("~/rglab/workspace/flowCore")
>
> proc.time()
user system elapsed
22.820 1.181 24.080
flowCore.Rcheck/flowCore-Ex.timings
| name | user | system | elapsed | |
| EHtrans-class | 0.042 | 0.006 | 0.048 | |
| FCSTransTransform | 1.495 | 0.030 | 1.531 | |
| Subset-methods | 0.189 | 0.012 | 0.208 | |
| arcsinhTransform | 0.044 | 0.001 | 0.045 | |
| asinht-class | 0.018 | 0.001 | 0.019 | |
| asinhtGml2-class | 0.021 | 0.003 | 0.023 | |
| biexponentialTransform | 3.007 | 0.051 | 3.062 | |
| boundaryFilter-class | 0.053 | 0.003 | 0.056 | |
| characterOrNumeric-class | 0.001 | 0.000 | 0.002 | |
| characterOrParameters-class | 0 | 0 | 0 | |
| characterOrTransformation-class | 0.001 | 0.001 | 0.001 | |
| coerce | 0.041 | 0.003 | 0.045 | |
| collapse_desc | 1.463 | 0.043 | 1.509 | |
| compensatedParameter-class | 0.107 | 0.006 | 0.116 | |
| compensation-class | 0.260 | 0.036 | 0.298 | |
| decompensate | 0.045 | 0.004 | 0.049 | |
| dg1polynomial-class | 0.019 | 0.001 | 0.021 | |
| each_col | 0.023 | 0.002 | 0.024 | |
| ellipsoidGate-class | 0.054 | 0.003 | 0.057 | |
| exponential-class | 0.023 | 0.002 | 0.025 | |
| expressionFilter-class | 0.070 | 0.003 | 0.074 | |
| filter-methods | 1.483 | 0.026 | 1.514 | |
| filter-on-methods | 0.063 | 0.010 | 0.073 | |
| filterList-class | 0.005 | 0.000 | 0.005 | |
| filterResult-class | 0.001 | 0.000 | 0.001 | |
| filterResultList-class | 4.806 | 0.208 | 5.032 | |
| filterSummary-class | 0.105 | 0.023 | 0.129 | |
| filterSummaryList-class | 1.610 | 0.034 | 1.650 | |
| flowFrame-class | 4.082 | 0.164 | 4.262 | |
| flowSet-class | 2.796 | 0.090 | 2.892 | |
| fr_append_cols | 1.437 | 0.014 | 1.454 | |
| fsApply | 0.111 | 0.004 | 0.116 | |
| getIndexSort | 0.015 | 0.000 | 0.016 | |
| hyperlog-class | 0.725 | 0.015 | 0.741 | |
| hyperlogtGml2-class | 0.026 | 0.001 | 0.026 | |
| identifier-methods | 0.019 | 0.001 | 0.020 | |
| inverseLogicleTransform | 1.424 | 0.017 | 1.444 | |
| invsplitscale-class | 0.021 | 0.001 | 0.021 | |
| keyword-methods | 1.459 | 0.030 | 1.494 | |
| kmeansFilter-class | 0.094 | 0.001 | 0.095 | |
| linearTransform | 0.022 | 0.002 | 0.023 | |
| lintGml2-class | 0.019 | 0.001 | 0.020 | |
| lnTransform | 1.669 | 0.067 | 1.740 | |
| logTransform | 0.034 | 0.003 | 0.037 | |
| logarithm-class | 0.023 | 0.001 | 0.025 | |
| logicalFilterResult-class | 0.000 | 0.001 | 0.000 | |
| logicleTransform | 1.516 | 0.026 | 1.545 | |
| logicletGml2-class | 0.034 | 0.001 | 0.036 | |
| logtGml2-class | 0.026 | 0.001 | 0.027 | |
| manyFilterResult-class | 0.001 | 0.000 | 0.001 | |
| markernames | 1.495 | 0.018 | 1.518 | |
| multipleFilterResult-class | 0.001 | 0.001 | 0.002 | |
| parameters-methods | 0.019 | 0.002 | 0.020 | |
| polygonGate-class | 0.053 | 0.002 | 0.055 | |
| quadGate-class | 0.485 | 0.028 | 0.514 | |
| quadratic-class | 0.017 | 0.000 | 0.018 | |
| quadraticTransform | 0.020 | 0.001 | 0.021 | |
| ratio-class | 0.029 | 0.001 | 0.031 | |
| ratiotGml2-class | 0.019 | 0.000 | 0.019 | |
| read.FCS | 0.066 | 0.003 | 0.070 | |
| read.FCSheader | 0.004 | 0.001 | 0.005 | |
| read.flowSet | 0.071 | 0.001 | 0.073 | |
| rectangleGate-class | 0.078 | 0.002 | 0.081 | |
| rotate_gate | 0.000 | 0.001 | 0.000 | |
| sampleFilter-class | 0.043 | 0.001 | 0.044 | |
| scaleTransform | 0.030 | 0.000 | 0.031 | |
| scale_gate | 0 | 0 | 0 | |
| shift_gate | 0 | 0 | 0 | |
| singleParameterTransform-class | 0.001 | 0.001 | 0.001 | |
| sinht-class | 0.020 | 0.001 | 0.021 | |
| split-methods | 2.016 | 0.042 | 2.068 | |
| splitScaleTransform | 1.755 | 0.036 | 1.796 | |
| splitscale-class | 0.021 | 0.001 | 0.020 | |
| squareroot-class | 0.018 | 0.001 | 0.018 | |
| timeFilter-class | 2.245 | 0.041 | 2.290 | |
| transform-class | 0.001 | 0.001 | 0.001 | |
| transform | 1.754 | 0.019 | 1.775 | |
| transformFilter-class | 0.094 | 0.001 | 0.095 | |
| transformList-class | 1.389 | 0.034 | 1.426 | |
| transformMap-class | 0 | 0 | 0 | |
| transform_gate | 0.001 | 0.000 | 0.000 | |
| truncateTransform | 0.022 | 0.001 | 0.023 | |
| unitytransform-class | 0.015 | 0.000 | 0.016 | |
| write.FCS | 0.033 | 0.002 | 0.035 | |
| write.flowSet | 1.648 | 0.034 | 1.687 | |