| Back to Multiple platform build/check report for BioC 3.16: simplified long |
|
This page was generated on 2023-04-12 11:05:02 -0400 (Wed, 12 Apr 2023).
| Hostname | OS | Arch (*) | R version | Installed pkgs |
|---|---|---|---|---|
| nebbiolo2 | Linux (Ubuntu 20.04.5 LTS) | x86_64 | 4.2.3 (2023-03-15) -- "Shortstop Beagle" | 4502 |
| palomino4 | Windows Server 2022 Datacenter | x64 | 4.2.3 (2023-03-15 ucrt) -- "Shortstop Beagle" | 4282 |
| lconway | macOS 12.5.1 Monterey | x86_64 | 4.2.3 (2023-03-15) -- "Shortstop Beagle" | 4310 |
| Click on any hostname to see more info about the system (e.g. compilers) (*) as reported by 'uname -p', except on Windows and Mac OS X | ||||
|
To the developers/maintainers of the cyanoFilter package: - Please allow up to 24 hours (and sometimes 48 hours) for your latest push to git@git.bioconductor.org:packages/cyanoFilter.git to reflect on this report. See How and When does the builder pull? When will my changes propagate? for more information. - Make sure to use the following settings in order to reproduce any error or warning you see on this page. |
| Package 459/2183 | Hostname | OS / Arch | INSTALL | BUILD | CHECK | BUILD BIN | ||||||||
| cyanoFilter 1.6.0 (landing page) Oluwafemi Olusoji
| nebbiolo2 | Linux (Ubuntu 20.04.5 LTS) / x86_64 | OK | OK | OK | |||||||||
| palomino4 | Windows Server 2022 Datacenter / x64 | OK | OK | OK | OK | |||||||||
| lconway | macOS 12.5.1 Monterey / x86_64 | OK | OK | OK | OK | |||||||||
| Package: cyanoFilter |
| Version: 1.6.0 |
| Command: /home/biocbuild/bbs-3.16-bioc/R/bin/R CMD check --install=check:cyanoFilter.install-out.txt --library=/home/biocbuild/bbs-3.16-bioc/R/site-library --timings cyanoFilter_1.6.0.tar.gz |
| StartedAt: 2023-04-10 20:05:07 -0400 (Mon, 10 Apr 2023) |
| EndedAt: 2023-04-10 20:07:24 -0400 (Mon, 10 Apr 2023) |
| EllapsedTime: 137.1 seconds |
| RetCode: 0 |
| Status: OK |
| CheckDir: cyanoFilter.Rcheck |
| Warnings: 0 |
##############################################################################
##############################################################################
###
### Running command:
###
### /home/biocbuild/bbs-3.16-bioc/R/bin/R CMD check --install=check:cyanoFilter.install-out.txt --library=/home/biocbuild/bbs-3.16-bioc/R/site-library --timings cyanoFilter_1.6.0.tar.gz
###
##############################################################################
##############################################################################
* using log directory ‘/home/biocbuild/bbs-3.16-bioc/meat/cyanoFilter.Rcheck’
* using R version 4.2.3 (2023-03-15)
* using platform: x86_64-pc-linux-gnu (64-bit)
* using session charset: UTF-8
* checking for file ‘cyanoFilter/DESCRIPTION’ ... OK
* checking extension type ... Package
* this is package ‘cyanoFilter’ version ‘1.6.0’
* package encoding: UTF-8
* checking package namespace information ... OK
* checking package dependencies ... OK
* checking if this is a source package ... OK
* checking if there is a namespace ... OK
* checking for hidden files and directories ... OK
* checking for portable file names ... OK
* checking for sufficient/correct file permissions ... OK
* checking whether package ‘cyanoFilter’ can be installed ... OK
* checking installed package size ... OK
* checking package directory ... OK
* checking ‘build’ directory ... OK
* checking DESCRIPTION meta-information ... OK
* checking top-level files ... OK
* checking for left-over files ... OK
* checking index information ... OK
* checking package subdirectories ... OK
* checking R files for non-ASCII characters ... OK
* checking R files for syntax errors ... OK
* checking whether the package can be loaded ... OK
* checking whether the package can be loaded with stated dependencies ... OK
* checking whether the package can be unloaded cleanly ... OK
* checking whether the namespace can be loaded with stated dependencies ... OK
* checking whether the namespace can be unloaded cleanly ... OK
* checking loading without being on the library search path ... OK
* checking dependencies in R code ... OK
* checking S3 generic/method consistency ... OK
* checking replacement functions ... OK
* checking foreign function calls ... OK
* checking R code for possible problems ... OK
* checking Rd files ... OK
* checking Rd metadata ... OK
* checking Rd cross-references ... OK
* checking for missing documentation entries ... OK
* checking for code/documentation mismatches ... OK
* checking Rd \usage sections ... OK
* checking Rd contents ... OK
* checking for unstated dependencies in examples ... OK
* checking files in ‘vignettes’ ... OK
* checking examples ... OK
Examples with CPU (user + system) or elapsed time > 5s
user system elapsed
gateFunc 7.931 0.364 6.629
* checking for unstated dependencies in vignettes ... OK
* checking package vignettes in ‘inst/doc’ ... OK
* checking running R code from vignettes ...
‘cyanoFilter.Rmd’ using ‘UTF-8’... OK
NONE
* checking re-building of vignette outputs ... OK
* checking PDF version of manual ... OK
* DONE
Status: OK
cyanoFilter.Rcheck/00install.out
############################################################################## ############################################################################## ### ### Running command: ### ### /home/biocbuild/bbs-3.16-bioc/R/bin/R CMD INSTALL cyanoFilter ### ############################################################################## ############################################################################## * installing to library ‘/home/biocbuild/bbs-3.16-bioc/R/site-library’ * installing *source* package ‘cyanoFilter’ ... ** using staged installation ** R ** inst ** byte-compile and prepare package for lazy loading ** help *** installing help indices ** building package indices ** installing vignettes ** testing if installed package can be loaded from temporary location ** testing if installed package can be loaded from final location ** testing if installed package keeps a record of temporary installation path * DONE (cyanoFilter)
cyanoFilter.Rcheck/cyanoFilter-Ex.timings
| name | user | system | elapsed | |
| MarginEvents | 2.234 | 0.104 | 2.338 | |
| PhytoFilter | 0.902 | 0.032 | 0.933 | |
| PhytopFilter | 0.802 | 0.080 | 0.883 | |
| accTest | 0.297 | 0.004 | 0.301 | |
| accuracy | 0.301 | 0.032 | 0.332 | |
| cellmargin | 0.250 | 0.012 | 0.262 | |
| clusterExtract | 0.651 | 0.028 | 0.678 | |
| clusterExtractp | 0.646 | 0.020 | 0.666 | |
| debrisNc | 0.282 | 0.008 | 0.289 | |
| fullFlowframe-MarginEvents-method | 0.557 | 0.004 | 0.561 | |
| fullFlowframe-PhytopFilter-method | 0.471 | 0.012 | 0.483 | |
| fullFlowframe | 0.231 | 0.004 | 0.234 | |
| gateFunc | 7.931 | 0.364 | 6.629 | |
| ggpairsDens | 2.542 | 0.196 | 2.738 | |
| ggplotDens | 0.493 | 0.052 | 0.546 | |
| ggplotDens2 | 0.697 | 0.048 | 0.745 | |
| goodfcs | 0.042 | 0.004 | 0.046 | |
| is.DebrisFilter | 0 | 0 | 0 | |
| is.MarginEvents | 0.000 | 0.000 | 0.001 | |
| is.PhytopFilter | 0 | 0 | 0 | |
| is.flowFrame | 0 | 0 | 0 | |
| is.flowSet | 0 | 0 | 0 | |
| lnTrans | 0.175 | 0.012 | 0.187 | |
| newFlowframe | 0.171 | 0.040 | 0.211 | |
| nona | 0.084 | 0.000 | 0.084 | |
| noneg | 0.139 | 0.000 | 0.138 | |
| oneDgate | 0.190 | 0.032 | 0.222 | |
| pairsPlot | 1.770 | 0.056 | 1.826 | |
| pigmentGate | 0.594 | 0.052 | 0.647 | |
| reducedFlowframe-MarginEvents-method | 0.236 | 0.008 | 0.244 | |
| reducedFlowframe | 0.237 | 0.004 | 0.241 | |
| retain | 0.015 | 0.000 | 0.015 | |
| rowNumbers | 0.170 | 0.008 | 0.179 | |
| summaries-DebrisFilter-method | 0.236 | 0.004 | 0.239 | |
| summaries-MarginEvents-method | 0.247 | 0.008 | 0.255 | |
| summaries-PhytopFilter-method | 0.491 | 0.028 | 0.520 | |
| summaries | 0.245 | 0.000 | 0.245 | |