| Back to Multiple platform build/check report for BioC 3.16: simplified long |
|
This page was generated on 2023-04-12 11:06:04 -0400 (Wed, 12 Apr 2023).
| Hostname | OS | Arch (*) | R version | Installed pkgs |
|---|---|---|---|---|
| nebbiolo2 | Linux (Ubuntu 20.04.5 LTS) | x86_64 | 4.2.3 (2023-03-15) -- "Shortstop Beagle" | 4502 |
| palomino4 | Windows Server 2022 Datacenter | x64 | 4.2.3 (2023-03-15 ucrt) -- "Shortstop Beagle" | 4282 |
| lconway | macOS 12.5.1 Monterey | x86_64 | 4.2.3 (2023-03-15) -- "Shortstop Beagle" | 4310 |
| Click on any hostname to see more info about the system (e.g. compilers) (*) as reported by 'uname -p', except on Windows and Mac OS X | ||||
|
To the developers/maintainers of the cyanoFilter package: - Please allow up to 24 hours (and sometimes 48 hours) for your latest push to git@git.bioconductor.org:packages/cyanoFilter.git to reflect on this report. See How and When does the builder pull? When will my changes propagate? for more information. - Make sure to use the following settings in order to reproduce any error or warning you see on this page. |
| Package 459/2183 | Hostname | OS / Arch | INSTALL | BUILD | CHECK | BUILD BIN | ||||||||
| cyanoFilter 1.6.0 (landing page) Oluwafemi Olusoji
| nebbiolo2 | Linux (Ubuntu 20.04.5 LTS) / x86_64 | OK | OK | OK | |||||||||
| palomino4 | Windows Server 2022 Datacenter / x64 | OK | OK | OK | OK | |||||||||
| lconway | macOS 12.5.1 Monterey / x86_64 | OK | OK | OK | OK | |||||||||
| Package: cyanoFilter |
| Version: 1.6.0 |
| Command: /Library/Frameworks/R.framework/Resources/bin/R CMD check --install=check:cyanoFilter.install-out.txt --library=/Library/Frameworks/R.framework/Resources/library --no-vignettes --timings cyanoFilter_1.6.0.tar.gz |
| StartedAt: 2023-04-10 19:42:25 -0400 (Mon, 10 Apr 2023) |
| EndedAt: 2023-04-10 19:43:58 -0400 (Mon, 10 Apr 2023) |
| EllapsedTime: 93.2 seconds |
| RetCode: 0 |
| Status: OK |
| CheckDir: cyanoFilter.Rcheck |
| Warnings: 0 |
##############################################################################
##############################################################################
###
### Running command:
###
### /Library/Frameworks/R.framework/Resources/bin/R CMD check --install=check:cyanoFilter.install-out.txt --library=/Library/Frameworks/R.framework/Resources/library --no-vignettes --timings cyanoFilter_1.6.0.tar.gz
###
##############################################################################
##############################################################################
* using log directory ‘/Users/biocbuild/bbs-3.16-bioc/meat/cyanoFilter.Rcheck’
* using R version 4.2.3 (2023-03-15)
* using platform: x86_64-apple-darwin17.0 (64-bit)
* using session charset: UTF-8
* using option ‘--no-vignettes’
* checking for file ‘cyanoFilter/DESCRIPTION’ ... OK
* checking extension type ... Package
* this is package ‘cyanoFilter’ version ‘1.6.0’
* package encoding: UTF-8
* checking package namespace information ... OK
* checking package dependencies ... OK
* checking if this is a source package ... OK
* checking if there is a namespace ... OK
* checking for hidden files and directories ... OK
* checking for portable file names ... OK
* checking for sufficient/correct file permissions ... OK
* checking whether package ‘cyanoFilter’ can be installed ... OK
* checking installed package size ... OK
* checking package directory ... OK
* checking ‘build’ directory ... OK
* checking DESCRIPTION meta-information ... OK
* checking top-level files ... OK
* checking for left-over files ... OK
* checking index information ... OK
* checking package subdirectories ... OK
* checking R files for non-ASCII characters ... OK
* checking R files for syntax errors ... OK
* checking whether the package can be loaded ... OK
* checking whether the package can be loaded with stated dependencies ... OK
* checking whether the package can be unloaded cleanly ... OK
* checking whether the namespace can be loaded with stated dependencies ... OK
* checking whether the namespace can be unloaded cleanly ... OK
* checking dependencies in R code ... OK
* checking S3 generic/method consistency ... OK
* checking replacement functions ... OK
* checking foreign function calls ... OK
* checking R code for possible problems ... OK
* checking Rd files ... OK
* checking Rd metadata ... OK
* checking Rd cross-references ... OK
* checking for missing documentation entries ... OK
* checking for code/documentation mismatches ... OK
* checking Rd \usage sections ... OK
* checking Rd contents ... OK
* checking for unstated dependencies in examples ... OK
* checking files in ‘vignettes’ ... OK
* checking examples ... OK
Examples with CPU (user + system) or elapsed time > 5s
user system elapsed
gateFunc 8.96 0.397 7.43
* checking for unstated dependencies in vignettes ... OK
* checking package vignettes in ‘inst/doc’ ... OK
* checking running R code from vignettes ... SKIPPED
* checking re-building of vignette outputs ... SKIPPED
* checking PDF version of manual ... OK
* DONE
Status: OK
cyanoFilter.Rcheck/00install.out
############################################################################## ############################################################################## ### ### Running command: ### ### /Library/Frameworks/R.framework/Resources/bin/R CMD INSTALL cyanoFilter ### ############################################################################## ############################################################################## * installing to library ‘/Library/Frameworks/R.framework/Versions/4.2/Resources/library’ * installing *source* package ‘cyanoFilter’ ... ** using staged installation ** R ** inst ** byte-compile and prepare package for lazy loading ** help *** installing help indices ** building package indices ** installing vignettes ** testing if installed package can be loaded from temporary location ** testing if installed package can be loaded from final location ** testing if installed package keeps a record of temporary installation path * DONE (cyanoFilter)
cyanoFilter.Rcheck/cyanoFilter-Ex.timings
| name | user | system | elapsed | |
| MarginEvents | 2.096 | 0.133 | 2.238 | |
| PhytoFilter | 0.947 | 0.052 | 1.004 | |
| PhytopFilter | 0.574 | 0.061 | 0.639 | |
| accTest | 0.367 | 0.027 | 0.397 | |
| accuracy | 0.296 | 0.021 | 0.318 | |
| cellmargin | 0.544 | 0.036 | 0.584 | |
| clusterExtract | 0.732 | 0.067 | 0.810 | |
| clusterExtractp | 0.627 | 0.038 | 0.668 | |
| debrisNc | 0.286 | 0.037 | 0.326 | |
| fullFlowframe-MarginEvents-method | 0.268 | 0.020 | 0.292 | |
| fullFlowframe-PhytopFilter-method | 0.516 | 0.029 | 0.551 | |
| fullFlowframe | 0.272 | 0.021 | 0.296 | |
| gateFunc | 8.960 | 0.397 | 7.430 | |
| ggpairsDens | 2.485 | 0.123 | 2.619 | |
| ggplotDens | 0.516 | 0.027 | 0.545 | |
| ggplotDens2 | 0.806 | 0.052 | 0.866 | |
| goodfcs | 0.053 | 0.008 | 0.062 | |
| is.DebrisFilter | 0.000 | 0.000 | 0.001 | |
| is.MarginEvents | 0 | 0 | 0 | |
| is.PhytopFilter | 0.001 | 0.000 | 0.000 | |
| is.flowFrame | 0 | 0 | 0 | |
| is.flowSet | 0 | 0 | 0 | |
| lnTrans | 0.555 | 0.046 | 0.603 | |
| newFlowframe | 0.183 | 0.045 | 0.229 | |
| nona | 0.09 | 0.01 | 0.10 | |
| noneg | 0.162 | 0.009 | 0.172 | |
| oneDgate | 0.201 | 0.044 | 0.247 | |
| pairsPlot | 1.377 | 0.150 | 1.551 | |
| pigmentGate | 0.256 | 0.049 | 0.308 | |
| reducedFlowframe-MarginEvents-method | 0.276 | 0.023 | 0.301 | |
| reducedFlowframe | 0.291 | 0.019 | 0.312 | |
| retain | 0.019 | 0.001 | 0.020 | |
| rowNumbers | 0.186 | 0.043 | 0.234 | |
| summaries-DebrisFilter-method | 0.278 | 0.020 | 0.302 | |
| summaries-MarginEvents-method | 0.305 | 0.021 | 0.329 | |
| summaries-PhytopFilter-method | 0.884 | 0.039 | 0.929 | |
| summaries | 0.294 | 0.021 | 0.318 | |