| Back to Multiple platform build/check report for BioC 3.16: simplified long |
|
This page was generated on 2023-04-12 11:05:01 -0400 (Wed, 12 Apr 2023).
| Hostname | OS | Arch (*) | R version | Installed pkgs |
|---|---|---|---|---|
| nebbiolo2 | Linux (Ubuntu 20.04.5 LTS) | x86_64 | 4.2.3 (2023-03-15) -- "Shortstop Beagle" | 4502 |
| palomino4 | Windows Server 2022 Datacenter | x64 | 4.2.3 (2023-03-15 ucrt) -- "Shortstop Beagle" | 4282 |
| lconway | macOS 12.5.1 Monterey | x86_64 | 4.2.3 (2023-03-15) -- "Shortstop Beagle" | 4310 |
| Click on any hostname to see more info about the system (e.g. compilers) (*) as reported by 'uname -p', except on Windows and Mac OS X | ||||
|
To the developers/maintainers of the crisprBwa package: - Please allow up to 24 hours (and sometimes 48 hours) for your latest push to git@git.bioconductor.org:packages/crisprBwa.git to reflect on this report. See How and When does the builder pull? When will my changes propagate? for more information. - Make sure to use the following settings in order to reproduce any error or warning you see on this page. |
| Package 435/2183 | Hostname | OS / Arch | INSTALL | BUILD | CHECK | BUILD BIN | ||||||||
| crisprBwa 1.2.0 (landing page) Jean-Philippe Fortin
| nebbiolo2 | Linux (Ubuntu 20.04.5 LTS) / x86_64 | OK | OK | OK | |||||||||
| palomino4 | Windows Server 2022 Datacenter / x64 | ... NOT SUPPORTED ... | ||||||||||||
| lconway | macOS 12.5.1 Monterey / x86_64 | OK | OK | OK | OK | |||||||||
| Package: crisprBwa |
| Version: 1.2.0 |
| Command: /home/biocbuild/bbs-3.16-bioc/R/bin/R CMD check --install=check:crisprBwa.install-out.txt --library=/home/biocbuild/bbs-3.16-bioc/R/site-library --timings crisprBwa_1.2.0.tar.gz |
| StartedAt: 2023-04-10 20:00:51 -0400 (Mon, 10 Apr 2023) |
| EndedAt: 2023-04-10 20:04:52 -0400 (Mon, 10 Apr 2023) |
| EllapsedTime: 241.1 seconds |
| RetCode: 0 |
| Status: OK |
| CheckDir: crisprBwa.Rcheck |
| Warnings: 0 |
############################################################################## ############################################################################## ### ### Running command: ### ### /home/biocbuild/bbs-3.16-bioc/R/bin/R CMD check --install=check:crisprBwa.install-out.txt --library=/home/biocbuild/bbs-3.16-bioc/R/site-library --timings crisprBwa_1.2.0.tar.gz ### ############################################################################## ############################################################################## * using log directory ‘/home/biocbuild/bbs-3.16-bioc/meat/crisprBwa.Rcheck’ * using R version 4.2.3 (2023-03-15) * using platform: x86_64-pc-linux-gnu (64-bit) * using session charset: UTF-8 * checking for file ‘crisprBwa/DESCRIPTION’ ... OK * this is package ‘crisprBwa’ version ‘1.2.0’ * package encoding: UTF-8 * checking package namespace information ... OK * checking package dependencies ... OK * checking if this is a source package ... OK * checking if there is a namespace ... OK * checking for hidden files and directories ... NOTE Found the following hidden files and directories: .BBSoptions These were most likely included in error. See section ‘Package structure’ in the ‘Writing R Extensions’ manual. * checking for portable file names ... OK * checking for sufficient/correct file permissions ... OK * checking whether package ‘crisprBwa’ can be installed ... OK * checking installed package size ... OK * checking package directory ... OK * checking ‘build’ directory ... OK * checking DESCRIPTION meta-information ... OK * checking top-level files ... OK * checking for left-over files ... OK * checking index information ... OK * checking package subdirectories ... OK * checking R files for non-ASCII characters ... OK * checking R files for syntax errors ... OK * checking whether the package can be loaded ... OK * checking whether the package can be loaded with stated dependencies ... OK * checking whether the package can be unloaded cleanly ... OK * checking whether the namespace can be loaded with stated dependencies ... OK * checking whether the namespace can be unloaded cleanly ... OK * checking loading without being on the library search path ... OK * checking dependencies in R code ... OK * checking S3 generic/method consistency ... OK * checking replacement functions ... OK * checking foreign function calls ... OK * checking R code for possible problems ... OK * checking Rd files ... OK * checking Rd metadata ... OK * checking Rd cross-references ... OK * checking for missing documentation entries ... OK * checking for code/documentation mismatches ... OK * checking Rd \usage sections ... OK * checking Rd contents ... OK * checking for unstated dependencies in examples ... OK * checking files in ‘vignettes’ ... OK * checking examples ... OK * checking for unstated dependencies in ‘tests’ ... OK * checking tests ... Running ‘testthat.R’ OK * checking for unstated dependencies in vignettes ... OK * checking package vignettes in ‘inst/doc’ ... OK * checking running R code from vignettes ... ‘crisprBwa.Rmd’ using ‘UTF-8’... OK NONE * checking re-building of vignette outputs ... OK * checking PDF version of manual ... OK * DONE Status: 1 NOTE See ‘/home/biocbuild/bbs-3.16-bioc/meat/crisprBwa.Rcheck/00check.log’ for details.
crisprBwa.Rcheck/00install.out
############################################################################## ############################################################################## ### ### Running command: ### ### /home/biocbuild/bbs-3.16-bioc/R/bin/R CMD INSTALL crisprBwa ### ############################################################################## ############################################################################## * installing to library ‘/home/biocbuild/bbs-3.16-bioc/R/site-library’ * installing *source* package ‘crisprBwa’ ... ** using staged installation ** R ** inst ** byte-compile and prepare package for lazy loading ** help *** installing help indices ** building package indices ** installing vignettes ** testing if installed package can be loaded from temporary location ** testing if installed package can be loaded from final location ** testing if installed package keeps a record of temporary installation path * DONE (crisprBwa)
crisprBwa.Rcheck/tests/testthat.Rout
R version 4.2.3 (2023-03-15) -- "Shortstop Beagle"
Copyright (C) 2023 The R Foundation for Statistical Computing
Platform: x86_64-pc-linux-gnu (64-bit)
R is free software and comes with ABSOLUTELY NO WARRANTY.
You are welcome to redistribute it under certain conditions.
Type 'license()' or 'licence()' for distribution details.
R is a collaborative project with many contributors.
Type 'contributors()' for more information and
'citation()' on how to cite R or R packages in publications.
Type 'demo()' for some demos, 'help()' for on-line help, or
'help.start()' for an HTML browser interface to help.
Type 'q()' to quit R.
> library(testthat)
> library(crisprBwa)
>
> test_check("crisprBwa")
[bwa_index] Pack FASTA... 0.00 sec
[bwa_index] Construct BWT for the packed sequence...
[bwa_index] 0.03 seconds elapse.
[bwa_index] Update BWT... 0.00 sec
[bwa_index] Pack forward-only FASTA... 0.00 sec
[bwa_index] Construct SA from BWT and Occ... 0.02 sec
[main] Version: 0.7.17-r1198-dirty
[main] CMD: /home/biocbuild/bbs-3.16-bioc/R/site-library/Rbwa/bwa index -p /tmp/RtmpszgdhV/chr12 /home/biocbuild/bbs-3.16-bioc/R/site-library/crisprBwa/example/chr12.fa
[main] Real time: 0.067 sec; CPU: 0.059 sec
[bwa_aln_core] calculate SA coordinate... 0.00 sec
[bwa_aln_core] write to the disk... 0.00 sec
[bwa_aln_core] 3 sequences have been processed.
[main] Version: 0.7.17-r1198-dirty
[main] CMD: /home/biocbuild/bbs-3.16-bioc/R/site-library/Rbwa/bwa aln -N -n 0 -l 36 -o 0 /tmp/RtmpszgdhV/chr12 /tmp/RtmpszgdhV/file18c4852ce17693
[main] Real time: 0.001 sec; CPU: 0.003 sec
[bwa_aln_core] convert to sequence coordinate... 0.00 sec
[bwa_aln_core] refine gapped alignments... 0.00 sec
[bwa_aln_core] print alignments... 0.00 sec
[bwa_aln_core] 3 sequences have been processed.
[main] Version: 0.7.17-r1198-dirty
[main] CMD: /home/biocbuild/bbs-3.16-bioc/R/site-library/Rbwa/bwa samse -n 1000000000 /tmp/RtmpszgdhV/chr12 /tmp/RtmpszgdhV/file18c4852ce17693.sai /tmp/RtmpszgdhV/file18c4852ce17693
[main] Real time: 0.001 sec; CPU: 0.002 sec
[bwa_aln_core] calculate SA coordinate... 0.00 sec
[bwa_aln_core] write to the disk... 0.00 sec
[bwa_aln_core] 3 sequences have been processed.
[main] Version: 0.7.17-r1198-dirty
[main] CMD: /home/biocbuild/bbs-3.16-bioc/R/site-library/Rbwa/bwa aln -N -n 1 -l 36 -o 0 /tmp/RtmpszgdhV/chr12 /tmp/RtmpszgdhV/file18c4854a35da22
[main] Real time: 0.001 sec; CPU: 0.002 sec
[bwa_aln_core] convert to sequence coordinate... 0.00 sec
[bwa_aln_core] refine gapped alignments... 0.00 sec
[bwa_aln_core] print alignments... 0.00 sec
[bwa_aln_core] 3 sequences have been processed.
[main] Version: 0.7.17-r1198-dirty
[main] CMD: /home/biocbuild/bbs-3.16-bioc/R/site-library/Rbwa/bwa samse -n 1000000000 /tmp/RtmpszgdhV/chr12 /tmp/RtmpszgdhV/file18c4854a35da22.sai /tmp/RtmpszgdhV/file18c4854a35da22
[main] Real time: 0.002 sec; CPU: 0.002 sec
[bwa_aln_core] calculate SA coordinate... 0.00 sec
[bwa_aln_core] write to the disk... 0.00 sec
[bwa_aln_core] 3 sequences have been processed.
[main] Version: 0.7.17-r1198-dirty
[main] CMD: /home/biocbuild/bbs-3.16-bioc/R/site-library/Rbwa/bwa aln -N -n 2 -l 36 -o 0 /tmp/RtmpszgdhV/chr12 /tmp/RtmpszgdhV/file18c4853fea92fa
[main] Real time: 0.002 sec; CPU: 0.003 sec
[bwa_aln_core] convert to sequence coordinate... 0.00 sec
[bwa_aln_core] refine gapped alignments... 0.00 sec
[bwa_aln_core] print alignments... 0.00 sec
[bwa_aln_core] 3 sequences have been processed.
[main] Version: 0.7.17-r1198-dirty
[main] CMD: /home/biocbuild/bbs-3.16-bioc/R/site-library/Rbwa/bwa samse -n 1000000000 /tmp/RtmpszgdhV/chr12 /tmp/RtmpszgdhV/file18c4853fea92fa.sai /tmp/RtmpszgdhV/file18c4853fea92fa
[main] Real time: 0.002 sec; CPU: 0.002 sec
[bwa_aln_core] calculate SA coordinate... 0.00 sec
[bwa_aln_core] write to the disk... 0.00 sec
[bwa_aln_core] 3 sequences have been processed.
[main] Version: 0.7.17-r1198-dirty
[main] CMD: /home/biocbuild/bbs-3.16-bioc/R/site-library/Rbwa/bwa aln -N -n 3 -l 36 -o 0 /tmp/RtmpszgdhV/chr12 /tmp/RtmpszgdhV/file18c4856b15abe6
[main] Real time: 0.003 sec; CPU: 0.003 sec
[bwa_aln_core] convert to sequence coordinate... 0.00 sec
[bwa_aln_core] refine gapped alignments... 0.00 sec
[bwa_aln_core] print alignments... 0.00 sec
[bwa_aln_core] 3 sequences have been processed.
[main] Version: 0.7.17-r1198-dirty
[main] CMD: /home/biocbuild/bbs-3.16-bioc/R/site-library/Rbwa/bwa samse -n 1000000000 /tmp/RtmpszgdhV/chr12 /tmp/RtmpszgdhV/file18c4856b15abe6.sai /tmp/RtmpszgdhV/file18c4856b15abe6
[main] Real time: 0.002 sec; CPU: 0.002 sec
[bwa_aln_core] calculate SA coordinate... 0.00 sec
[bwa_aln_core] write to the disk... 0.00 sec
[bwa_aln_core] 1 sequences have been processed.
[main] Version: 0.7.17-r1198-dirty
[main] CMD: /home/biocbuild/bbs-3.16-bioc/R/site-library/Rbwa/bwa aln -N -n 0 -l 144 -o 0 /tmp/RtmpszgdhV/chr12 /tmp/RtmpszgdhV/file18c4853c733c34
[main] Real time: 0.002 sec; CPU: 0.003 sec
[bwa_aln_core] convert to sequence coordinate... 0.00 sec
[bwa_aln_core] refine gapped alignments... 0.00 sec
[bwa_aln_core] print alignments... 0.00 sec
[bwa_aln_core] 1 sequences have been processed.
[main] Version: 0.7.17-r1198-dirty
[main] CMD: /home/biocbuild/bbs-3.16-bioc/R/site-library/Rbwa/bwa samse -n 1000000000 /tmp/RtmpszgdhV/chr12 /tmp/RtmpszgdhV/file18c4853c733c34.sai /tmp/RtmpszgdhV/file18c4853c733c34
[main] Real time: 0.002 sec; CPU: 0.003 sec
[bwa_index] Pack FASTA... 0.00 sec
[bwa_index] Construct BWT for the packed sequence...
[bwa_index] 0.04 seconds elapse.
[bwa_index] Update BWT... 0.00 sec
[bwa_index] Pack forward-only FASTA... 0.00 sec
[bwa_index] Construct SA from BWT and Occ... 0.02 sec
[main] Version: 0.7.17-r1198-dirty
[main] CMD: /home/biocbuild/bbs-3.16-bioc/R/site-library/Rbwa/bwa index -p /tmp/RtmpszgdhV/chr12 /home/biocbuild/bbs-3.16-bioc/R/site-library/crisprBwa/example/chr12.fa
[main] Real time: 0.067 sec; CPU: 0.062 sec
[runCrisprBwa] Using BSgenome.Hsapiens.UCSC.hg38
[runCrisprBwa] Searching for SpCas9 protospacers
[bwa_aln_core] calculate SA coordinate... 0.00 sec
[bwa_aln_core] write to the disk... 0.00 sec
[bwa_aln_core] 5 sequences have been processed.
[main] Version: 0.7.17-r1198-dirty
[main] CMD: /home/biocbuild/bbs-3.16-bioc/R/site-library/Rbwa/bwa aln -N -n 0 -l 60 -o 0 /tmp/RtmpszgdhV/chr12 /tmp/RtmpszgdhV/file18c4854df8b321
[main] Real time: 0.001 sec; CPU: 0.002 sec
[bwa_aln_core] convert to sequence coordinate... 0.00 sec
[bwa_aln_core] refine gapped alignments... 0.00 sec
[bwa_aln_core] print alignments... 0.00 sec
[bwa_aln_core] 5 sequences have been processed.
[main] Version: 0.7.17-r1198-dirty
[main] CMD: /home/biocbuild/bbs-3.16-bioc/R/site-library/Rbwa/bwa samse -n 1000000000 /tmp/RtmpszgdhV/chr12 /tmp/RtmpszgdhV/file18c4854df8b321.sai /tmp/RtmpszgdhV/file18c4854df8b321
[main] Real time: 0.001 sec; CPU: 0.002 sec
[runCrisprBwa] Using BSgenome.Hsapiens.UCSC.hg38
[runCrisprBwa] Searching for SpCas9 protospacers
[bwa_aln_core] calculate SA coordinate... 0.00 sec
[bwa_aln_core] write to the disk... 0.00 sec
[bwa_aln_core] 5 sequences have been processed.
[main] Version: 0.7.17-r1198-dirty
[main] CMD: /home/biocbuild/bbs-3.16-bioc/R/site-library/Rbwa/bwa aln -N -n 1 -l 60 -o 0 /tmp/RtmpszgdhV/chr12 /tmp/RtmpszgdhV/file18c4855e2717da
[main] Real time: 0.002 sec; CPU: 0.003 sec
[bwa_aln_core] convert to sequence coordinate... 0.00 sec
[bwa_aln_core] refine gapped alignments... 0.00 sec
[bwa_aln_core] print alignments... 0.00 sec
[bwa_aln_core] 5 sequences have been processed.
[main] Version: 0.7.17-r1198-dirty
[main] CMD: /home/biocbuild/bbs-3.16-bioc/R/site-library/Rbwa/bwa samse -n 1000000000 /tmp/RtmpszgdhV/chr12 /tmp/RtmpszgdhV/file18c4855e2717da.sai /tmp/RtmpszgdhV/file18c4855e2717da
[main] Real time: 0.002 sec; CPU: 0.003 sec
[runCrisprBwa] Using BSgenome.Hsapiens.UCSC.hg38
[runCrisprBwa] Searching for SpCas9 protospacers
[bwa_aln_core] calculate SA coordinate... 0.00 sec
[bwa_aln_core] write to the disk... 0.00 sec
[bwa_aln_core] 5 sequences have been processed.
[main] Version: 0.7.17-r1198-dirty
[main] CMD: /home/biocbuild/bbs-3.16-bioc/R/site-library/Rbwa/bwa aln -N -n 2 -l 60 -o 0 /tmp/RtmpszgdhV/chr12 /tmp/RtmpszgdhV/file18c4854659bca7
[main] Real time: 0.002 sec; CPU: 0.003 sec
[bwa_aln_core] convert to sequence coordinate... 0.00 sec
[bwa_aln_core] refine gapped alignments... 0.00 sec
[bwa_aln_core] print alignments... 0.00 sec
[bwa_aln_core] 5 sequences have been processed.
[main] Version: 0.7.17-r1198-dirty
[main] CMD: /home/biocbuild/bbs-3.16-bioc/R/site-library/Rbwa/bwa samse -n 1000000000 /tmp/RtmpszgdhV/chr12 /tmp/RtmpszgdhV/file18c4854659bca7.sai /tmp/RtmpszgdhV/file18c4854659bca7
[main] Real time: 0.002 sec; CPU: 0.002 sec
[runCrisprBwa] Using BSgenome.Hsapiens.UCSC.hg38
[runCrisprBwa] Searching for SpCas9 protospacers
[bwa_aln_core] calculate SA coordinate... 0.00 sec
[bwa_aln_core] write to the disk... 0.00 sec
[bwa_aln_core] 5 sequences have been processed.
[main] Version: 0.7.17-r1198-dirty
[main] CMD: /home/biocbuild/bbs-3.16-bioc/R/site-library/Rbwa/bwa aln -N -n 3 -l 60 -o 0 /tmp/RtmpszgdhV/chr12 /tmp/RtmpszgdhV/file18c485d233d40
[main] Real time: 0.006 sec; CPU: 0.005 sec
[bwa_aln_core] convert to sequence coordinate... 0.00 sec
[bwa_aln_core] refine gapped alignments... 0.00 sec
[bwa_aln_core] print alignments... 0.00 sec
[bwa_aln_core] 5 sequences have been processed.
[main] Version: 0.7.17-r1198-dirty
[main] CMD: /home/biocbuild/bbs-3.16-bioc/R/site-library/Rbwa/bwa samse -n 1000000000 /tmp/RtmpszgdhV/chr12 /tmp/RtmpszgdhV/file18c485d233d40.sai /tmp/RtmpszgdhV/file18c485d233d40
[main] Real time: 0.001 sec; CPU: 0.002 sec
[runCrisprBwa] Using BSgenome.Hsapiens.UCSC.hg38
[runCrisprBwa] Searching for SpCas9 protospacers
[bwa_aln_core] calculate SA coordinate... 0.00 sec
[bwa_aln_core] write to the disk... 0.00 sec
[bwa_aln_core] 5 sequences have been processed.
[main] Version: 0.7.17-r1198-dirty
[main] CMD: /home/biocbuild/bbs-3.16-bioc/R/site-library/Rbwa/bwa aln -N -n 0 -l 60 -o 0 /tmp/RtmpszgdhV/chr12 /tmp/RtmpszgdhV/file18c4856206c07e
[main] Real time: 0.002 sec; CPU: 0.002 sec
[bwa_aln_core] convert to sequence coordinate... 0.00 sec
[bwa_aln_core] refine gapped alignments... 0.00 sec
[bwa_aln_core] print alignments... 0.00 sec
[bwa_aln_core] 5 sequences have been processed.
[main] Version: 0.7.17-r1198-dirty
[main] CMD: /home/biocbuild/bbs-3.16-bioc/R/site-library/Rbwa/bwa samse -n 1000000000 /tmp/RtmpszgdhV/chr12 /tmp/RtmpszgdhV/file18c4856206c07e.sai /tmp/RtmpszgdhV/file18c4856206c07e
[main] Real time: 0.001 sec; CPU: 0.002 sec
[runCrisprBwa] Using BSgenome.Hsapiens.UCSC.hg38
[runCrisprBwa] Searching for SpCas9 protospacers
[bwa_aln_core] calculate SA coordinate... 0.00 sec
[bwa_aln_core] write to the disk... 0.00 sec
[bwa_aln_core] 5 sequences have been processed.
[main] Version: 0.7.17-r1198-dirty
[main] CMD: /home/biocbuild/bbs-3.16-bioc/R/site-library/Rbwa/bwa aln -N -n 1 -l 60 -o 0 /tmp/RtmpszgdhV/chr12 /tmp/RtmpszgdhV/file18c4854dfcbaf
[main] Real time: 0.001 sec; CPU: 0.002 sec
[bwa_aln_core] convert to sequence coordinate... 0.00 sec
[bwa_aln_core] refine gapped alignments... 0.00 sec
[bwa_aln_core] print alignments... 0.00 sec
[bwa_aln_core] 5 sequences have been processed.
[main] Version: 0.7.17-r1198-dirty
[main] CMD: /home/biocbuild/bbs-3.16-bioc/R/site-library/Rbwa/bwa samse -n 1000000000 /tmp/RtmpszgdhV/chr12 /tmp/RtmpszgdhV/file18c4854dfcbaf.sai /tmp/RtmpszgdhV/file18c4854dfcbaf
[main] Real time: 0.001 sec; CPU: 0.002 sec
[runCrisprBwa] Using BSgenome.Hsapiens.UCSC.hg38
[runCrisprBwa] Searching for SpCas9 protospacers
[bwa_aln_core] calculate SA coordinate... 0.00 sec
[bwa_aln_core] write to the disk... 0.00 sec
[bwa_aln_core] 5 sequences have been processed.
[main] Version: 0.7.17-r1198-dirty
[main] CMD: /home/biocbuild/bbs-3.16-bioc/R/site-library/Rbwa/bwa aln -N -n 2 -l 60 -o 0 /tmp/RtmpszgdhV/chr12 /tmp/RtmpszgdhV/file18c48543c1cf12
[main] Real time: 0.002 sec; CPU: 0.003 sec
[bwa_aln_core] convert to sequence coordinate... 0.00 sec
[bwa_aln_core] refine gapped alignments... 0.00 sec
[bwa_aln_core] print alignments... 0.00 sec
[bwa_aln_core] 5 sequences have been processed.
[main] Version: 0.7.17-r1198-dirty
[main] CMD: /home/biocbuild/bbs-3.16-bioc/R/site-library/Rbwa/bwa samse -n 1000000000 /tmp/RtmpszgdhV/chr12 /tmp/RtmpszgdhV/file18c48543c1cf12.sai /tmp/RtmpszgdhV/file18c48543c1cf12
[main] Real time: 0.002 sec; CPU: 0.003 sec
[runCrisprBwa] Using BSgenome.Hsapiens.UCSC.hg38
[runCrisprBwa] Searching for SpCas9 protospacers
[bwa_aln_core] calculate SA coordinate... 0.00 sec
[bwa_aln_core] write to the disk... 0.00 sec
[bwa_aln_core] 5 sequences have been processed.
[main] Version: 0.7.17-r1198-dirty
[main] CMD: /home/biocbuild/bbs-3.16-bioc/R/site-library/Rbwa/bwa aln -N -n 3 -l 60 -o 0 /tmp/RtmpszgdhV/chr12 /tmp/RtmpszgdhV/file18c4854766950d
[main] Real time: 0.002 sec; CPU: 0.002 sec
[bwa_aln_core] convert to sequence coordinate... 0.00 sec
[bwa_aln_core] refine gapped alignments... 0.00 sec
[bwa_aln_core] print alignments... 0.00 sec
[bwa_aln_core] 5 sequences have been processed.
[main] Version: 0.7.17-r1198-dirty
[main] CMD: /home/biocbuild/bbs-3.16-bioc/R/site-library/Rbwa/bwa samse -n 1000000000 /tmp/RtmpszgdhV/chr12 /tmp/RtmpszgdhV/file18c4854766950d.sai /tmp/RtmpszgdhV/file18c4854766950d
[main] Real time: 0.001 sec; CPU: 0.001 sec
[runCrisprBwa] Using BSgenome.Hsapiens.UCSC.hg38
[runCrisprBwa] Searching for SpCas9 protospacers
[runCrisprBwa] Using BSgenome.Hsapiens.UCSC.hg38
[runCrisprBwa] Searching for SpCas9 protospacers
[bwa_aln_core] calculate SA coordinate... 0.00 sec
[bwa_aln_core] write to the disk... 0.00 sec
[bwa_aln_core] 5 sequences have been processed.
[main] Version: 0.7.17-r1198-dirty
[main] CMD: /home/biocbuild/bbs-3.16-bioc/R/site-library/Rbwa/bwa aln -N -n 3 -l 51 -o 0 /tmp/RtmpszgdhV/chr12 /tmp/RtmpszgdhV/file18c48530bf0482
[main] Real time: 0.004 sec; CPU: 0.005 sec
[bwa_aln_core] convert to sequence coordinate... 0.00 sec
[bwa_aln_core] refine gapped alignments... 0.00 sec
[bwa_aln_core] print alignments... 0.00 sec
[bwa_aln_core] 5 sequences have been processed.
[main] Version: 0.7.17-r1198-dirty
[main] CMD: /home/biocbuild/bbs-3.16-bioc/R/site-library/Rbwa/bwa samse -n 1000000000 /tmp/RtmpszgdhV/chr12 /tmp/RtmpszgdhV/file18c48530bf0482.sai /tmp/RtmpszgdhV/file18c48530bf0482
[main] Real time: 0.002 sec; CPU: 0.003 sec
[runCrisprBwa] Using BSgenome.Hsapiens.UCSC.hg38
[runCrisprBwa] Searching for AsCas12a protospacers
[bwa_aln_core] calculate SA coordinate... 0.00 sec
[bwa_aln_core] write to the disk... 0.00 sec
[bwa_aln_core] 4 sequences have been processed.
[main] Version: 0.7.17-r1198-dirty
[main] CMD: /home/biocbuild/bbs-3.16-bioc/R/site-library/Rbwa/bwa aln -N -n 0 -l 69 -o 0 /tmp/RtmpszgdhV/chr12 /tmp/RtmpszgdhV/file18c4851f6829c4
[main] Real time: 0.002 sec; CPU: 0.002 sec
[bwa_aln_core] convert to sequence coordinate... 0.00 sec
[bwa_aln_core] refine gapped alignments... 0.00 sec
[bwa_aln_core] print alignments... 0.00 sec
[bwa_aln_core] 4 sequences have been processed.
[main] Version: 0.7.17-r1198-dirty
[main] CMD: /home/biocbuild/bbs-3.16-bioc/R/site-library/Rbwa/bwa samse -n 1000000000 /tmp/RtmpszgdhV/chr12 /tmp/RtmpszgdhV/file18c4851f6829c4.sai /tmp/RtmpszgdhV/file18c4851f6829c4
[main] Real time: 0.002 sec; CPU: 0.003 sec
[runCrisprBwa] Using BSgenome.Hsapiens.UCSC.hg38
[runCrisprBwa] Searching for AsCas12a protospacers
[bwa_aln_core] calculate SA coordinate... 0.00 sec
[bwa_aln_core] write to the disk... 0.00 sec
[bwa_aln_core] 4 sequences have been processed.
[main] Version: 0.7.17-r1198-dirty
[main] CMD: /home/biocbuild/bbs-3.16-bioc/R/site-library/Rbwa/bwa aln -N -n 1 -l 69 -o 0 /tmp/RtmpszgdhV/chr12 /tmp/RtmpszgdhV/file18c4857ceb1042
[main] Real time: 0.002 sec; CPU: 0.002 sec
[bwa_aln_core] convert to sequence coordinate... 0.00 sec
[bwa_aln_core] refine gapped alignments... 0.00 sec
[bwa_aln_core] print alignments... 0.00 sec
[bwa_aln_core] 4 sequences have been processed.
[main] Version: 0.7.17-r1198-dirty
[main] CMD: /home/biocbuild/bbs-3.16-bioc/R/site-library/Rbwa/bwa samse -n 1000000000 /tmp/RtmpszgdhV/chr12 /tmp/RtmpszgdhV/file18c4857ceb1042.sai /tmp/RtmpszgdhV/file18c4857ceb1042
[main] Real time: 0.001 sec; CPU: 0.001 sec
[runCrisprBwa] Using BSgenome.Hsapiens.UCSC.hg38
[runCrisprBwa] Searching for AsCas12a protospacers
[bwa_aln_core] calculate SA coordinate... 0.00 sec
[bwa_aln_core] write to the disk... 0.00 sec
[bwa_aln_core] 4 sequences have been processed.
[main] Version: 0.7.17-r1198-dirty
[main] CMD: /home/biocbuild/bbs-3.16-bioc/R/site-library/Rbwa/bwa aln -N -n 2 -l 69 -o 0 /tmp/RtmpszgdhV/chr12 /tmp/RtmpszgdhV/file18c48552c9e7e9
[main] Real time: 0.002 sec; CPU: 0.003 sec
[bwa_aln_core] convert to sequence coordinate... 0.00 sec
[bwa_aln_core] refine gapped alignments... 0.00 sec
[bwa_aln_core] print alignments... 0.00 sec
[bwa_aln_core] 4 sequences have been processed.
[main] Version: 0.7.17-r1198-dirty
[main] CMD: /home/biocbuild/bbs-3.16-bioc/R/site-library/Rbwa/bwa samse -n 1000000000 /tmp/RtmpszgdhV/chr12 /tmp/RtmpszgdhV/file18c48552c9e7e9.sai /tmp/RtmpszgdhV/file18c48552c9e7e9
[main] Real time: 0.002 sec; CPU: 0.002 sec
[runCrisprBwa] Using BSgenome.Hsapiens.UCSC.hg38
[runCrisprBwa] Searching for AsCas12a protospacers
[bwa_aln_core] calculate SA coordinate... 0.00 sec
[bwa_aln_core] write to the disk... 0.00 sec
[bwa_aln_core] 4 sequences have been processed.
[main] Version: 0.7.17-r1198-dirty
[main] CMD: /home/biocbuild/bbs-3.16-bioc/R/site-library/Rbwa/bwa aln -N -n 3 -l 69 -o 0 /tmp/RtmpszgdhV/chr12 /tmp/RtmpszgdhV/file18c48523bb223a
[main] Real time: 0.002 sec; CPU: 0.003 sec
[bwa_aln_core] convert to sequence coordinate... 0.00 sec
[bwa_aln_core] refine gapped alignments... 0.00 sec
[bwa_aln_core] print alignments... 0.00 sec
[bwa_aln_core] 4 sequences have been processed.
[main] Version: 0.7.17-r1198-dirty
[main] CMD: /home/biocbuild/bbs-3.16-bioc/R/site-library/Rbwa/bwa samse -n 1000000000 /tmp/RtmpszgdhV/chr12 /tmp/RtmpszgdhV/file18c48523bb223a.sai /tmp/RtmpszgdhV/file18c48523bb223a
[main] Real time: 0.002 sec; CPU: 0.003 sec
[ FAIL 0 | WARN 0 | SKIP 0 | PASS 19 ]
>
> proc.time()
user system elapsed
16.727 1.388 18.092
crisprBwa.Rcheck/crisprBwa-Ex.timings
| name | user | system | elapsed | |
| runBwa | 0.286 | 0.077 | 0.379 | |
| runCrisprBwa | 0.884 | 0.039 | 0.924 | |