| Back to Multiple platform build/check report for BioC 3.16: simplified long | 
  | 
This page was generated on 2023-04-12 11:06:04 -0400 (Wed, 12 Apr 2023).
| Hostname | OS | Arch (*) | R version | Installed pkgs | 
|---|---|---|---|---|
| nebbiolo2 | Linux (Ubuntu 20.04.5 LTS) | x86_64 | 4.2.3 (2023-03-15) -- "Shortstop Beagle" | 4502 | 
| palomino4 | Windows Server 2022 Datacenter | x64 | 4.2.3 (2023-03-15 ucrt) -- "Shortstop Beagle" | 4282 | 
| lconway | macOS 12.5.1 Monterey | x86_64 | 4.2.3 (2023-03-15) -- "Shortstop Beagle" | 4310 | 
| Click on any hostname to see more info about the system (e.g. compilers) (*) as reported by 'uname -p', except on Windows and Mac OS X | ||||
| 
To the developers/maintainers of the crisprBwa package: - Please allow up to 24 hours (and sometimes 48 hours) for your latest push to git@git.bioconductor.org:packages/crisprBwa.git to reflect on this report. See How and When does the builder pull? When will my changes propagate? for more information. - Make sure to use the following settings in order to reproduce any error or warning you see on this page.  | 
| Package 435/2183 | Hostname | OS / Arch | INSTALL | BUILD | CHECK | BUILD BIN | ||||||||
| crisprBwa 1.2.0  (landing page) Jean-Philippe Fortin 
  | nebbiolo2 | Linux (Ubuntu 20.04.5 LTS) / x86_64 | OK | OK | OK | |||||||||
| palomino4 | Windows Server 2022 Datacenter / x64 | ... NOT SUPPORTED ... | ||||||||||||
| lconway | macOS 12.5.1 Monterey / x86_64 | OK | OK | OK | OK | |||||||||
| Package: crisprBwa | 
| Version: 1.2.0 | 
| Command: /Library/Frameworks/R.framework/Resources/bin/R CMD check --install=check:crisprBwa.install-out.txt --library=/Library/Frameworks/R.framework/Resources/library --no-vignettes --timings crisprBwa_1.2.0.tar.gz | 
| StartedAt: 2023-04-10 19:39:14 -0400 (Mon, 10 Apr 2023) | 
| EndedAt: 2023-04-10 19:42:49 -0400 (Mon, 10 Apr 2023) | 
| EllapsedTime: 215.3 seconds | 
| RetCode: 0 | 
| Status: OK | 
| CheckDir: crisprBwa.Rcheck | 
| Warnings: 0 | 
############################################################################## ############################################################################## ### ### Running command: ### ### /Library/Frameworks/R.framework/Resources/bin/R CMD check --install=check:crisprBwa.install-out.txt --library=/Library/Frameworks/R.framework/Resources/library --no-vignettes --timings crisprBwa_1.2.0.tar.gz ### ############################################################################## ############################################################################## * using log directory ‘/Users/biocbuild/bbs-3.16-bioc/meat/crisprBwa.Rcheck’ * using R version 4.2.3 (2023-03-15) * using platform: x86_64-apple-darwin17.0 (64-bit) * using session charset: UTF-8 * using option ‘--no-vignettes’ * checking for file ‘crisprBwa/DESCRIPTION’ ... OK * this is package ‘crisprBwa’ version ‘1.2.0’ * package encoding: UTF-8 * checking package namespace information ... OK * checking package dependencies ... OK * checking if this is a source package ... OK * checking if there is a namespace ... OK * checking for hidden files and directories ... NOTE Found the following hidden files and directories: .BBSoptions These were most likely included in error. See section ‘Package structure’ in the ‘Writing R Extensions’ manual. * checking for portable file names ... OK * checking for sufficient/correct file permissions ... OK * checking whether package ‘crisprBwa’ can be installed ... OK * checking installed package size ... OK * checking package directory ... OK * checking ‘build’ directory ... OK * checking DESCRIPTION meta-information ... OK * checking top-level files ... OK * checking for left-over files ... OK * checking index information ... OK * checking package subdirectories ... OK * checking R files for non-ASCII characters ... OK * checking R files for syntax errors ... OK * checking whether the package can be loaded ... OK * checking whether the package can be loaded with stated dependencies ... OK * checking whether the package can be unloaded cleanly ... OK * checking whether the namespace can be loaded with stated dependencies ... OK * checking whether the namespace can be unloaded cleanly ... OK * checking dependencies in R code ... OK * checking S3 generic/method consistency ... OK * checking replacement functions ... OK * checking foreign function calls ... OK * checking R code for possible problems ... OK * checking Rd files ... OK * checking Rd metadata ... OK * checking Rd cross-references ... OK * checking for missing documentation entries ... OK * checking for code/documentation mismatches ... OK * checking Rd \usage sections ... OK * checking Rd contents ... OK * checking for unstated dependencies in examples ... OK * checking files in ‘vignettes’ ... OK * checking examples ... OK * checking for unstated dependencies in ‘tests’ ... OK * checking tests ... Running ‘testthat.R’ OK * checking for unstated dependencies in vignettes ... OK * checking package vignettes in ‘inst/doc’ ... OK * checking running R code from vignettes ... SKIPPED * checking re-building of vignette outputs ... SKIPPED * checking PDF version of manual ... OK * DONE Status: 1 NOTE See ‘/Users/biocbuild/bbs-3.16-bioc/meat/crisprBwa.Rcheck/00check.log’ for details.
crisprBwa.Rcheck/00install.out
############################################################################## ############################################################################## ### ### Running command: ### ### /Library/Frameworks/R.framework/Resources/bin/R CMD INSTALL crisprBwa ### ############################################################################## ############################################################################## * installing to library ‘/Library/Frameworks/R.framework/Versions/4.2/Resources/library’ * installing *source* package ‘crisprBwa’ ... ** using staged installation ** R ** inst ** byte-compile and prepare package for lazy loading ** help *** installing help indices ** building package indices ** installing vignettes ** testing if installed package can be loaded from temporary location ** testing if installed package can be loaded from final location ** testing if installed package keeps a record of temporary installation path * DONE (crisprBwa)
crisprBwa.Rcheck/tests/testthat.Rout
R version 4.2.3 (2023-03-15) -- "Shortstop Beagle"
Copyright (C) 2023 The R Foundation for Statistical Computing
Platform: x86_64-apple-darwin17.0 (64-bit)
R is free software and comes with ABSOLUTELY NO WARRANTY.
You are welcome to redistribute it under certain conditions.
Type 'license()' or 'licence()' for distribution details.
R is a collaborative project with many contributors.
Type 'contributors()' for more information and
'citation()' on how to cite R or R packages in publications.
Type 'demo()' for some demos, 'help()' for on-line help, or
'help.start()' for an HTML browser interface to help.
Type 'q()' to quit R.
> library(testthat)
> library(crisprBwa)
> 
> test_check("crisprBwa")
[bwa_index] Pack FASTA... 0.00 sec
[bwa_index] Construct BWT for the packed sequence...
[bwa_index] 0.03 seconds elapse.
[bwa_index] Update BWT... 0.00 sec
[bwa_index] Pack forward-only FASTA... 0.00 sec
[bwa_index] Construct SA from BWT and Occ... 0.01 sec
[main] Version: 0.7.17-r1198-dirty
[main] CMD: /Library/Frameworks/R.framework/Versions/4.2/Resources/library/Rbwa/bwa index -p /tmp/RtmplInObv/chr12 /Library/Frameworks/R.framework/Versions/4.2/Resources/library/crisprBwa/example/chr12.fa
[main] Real time: 0.055 sec; CPU: 0.060 sec
[bwa_aln_core] calculate SA coordinate... 0.00 sec
[bwa_aln_core] write to the disk... 0.00 sec
[bwa_aln_core] 3 sequences have been processed.
[main] Version: 0.7.17-r1198-dirty
[main] CMD: /Library/Frameworks/R.framework/Versions/4.2/Resources/library/Rbwa/bwa aln -N -n 0 -l 36 -o 0 /tmp/RtmplInObv/chr12 /tmp/RtmplInObv/file172e01e7e0303
[main] Real time: 0.029 sec; CPU: 0.032 sec
[bwa_aln_core] convert to sequence coordinate... 0.00 sec
[bwa_aln_core] refine gapped alignments... 0.00 sec
[bwa_aln_core] print alignments... 0.00 sec
[bwa_aln_core] 3 sequences have been processed.
[main] Version: 0.7.17-r1198-dirty
[main] CMD: /Library/Frameworks/R.framework/Versions/4.2/Resources/library/Rbwa/bwa samse -n 1000000000 /tmp/RtmplInObv/chr12 /tmp/RtmplInObv/file172e01e7e0303.sai /tmp/RtmplInObv/file172e01e7e0303
[main] Real time: 0.037 sec; CPU: 0.035 sec
[bwa_aln_core] calculate SA coordinate... 0.00 sec
[bwa_aln_core] write to the disk... 0.00 sec
[bwa_aln_core] 3 sequences have been processed.
[main] Version: 0.7.17-r1198-dirty
[main] CMD: /Library/Frameworks/R.framework/Versions/4.2/Resources/library/Rbwa/bwa aln -N -n 1 -l 36 -o 0 /tmp/RtmplInObv/chr12 /tmp/RtmplInObv/file172e062f7c998
[main] Real time: 0.031 sec; CPU: 0.034 sec
[bwa_aln_core] convert to sequence coordinate... 0.00 sec
[bwa_aln_core] refine gapped alignments... 0.00 sec
[bwa_aln_core] print alignments... 0.00 sec
[bwa_aln_core] 3 sequences have been processed.
[main] Version: 0.7.17-r1198-dirty
[main] CMD: /Library/Frameworks/R.framework/Versions/4.2/Resources/library/Rbwa/bwa samse -n 1000000000 /tmp/RtmplInObv/chr12 /tmp/RtmplInObv/file172e062f7c998.sai /tmp/RtmplInObv/file172e062f7c998
[main] Real time: 0.028 sec; CPU: 0.031 sec
[bwa_aln_core] calculate SA coordinate... 0.00 sec
[bwa_aln_core] write to the disk... 0.00 sec
[bwa_aln_core] 3 sequences have been processed.
[main] Version: 0.7.17-r1198-dirty
[main] CMD: /Library/Frameworks/R.framework/Versions/4.2/Resources/library/Rbwa/bwa aln -N -n 2 -l 36 -o 0 /tmp/RtmplInObv/chr12 /tmp/RtmplInObv/file172e079d44cea
[main] Real time: 0.030 sec; CPU: 0.034 sec
[bwa_aln_core] convert to sequence coordinate... 0.00 sec
[bwa_aln_core] refine gapped alignments... 0.00 sec
[bwa_aln_core] print alignments... 0.00 sec
[bwa_aln_core] 3 sequences have been processed.
[main] Version: 0.7.17-r1198-dirty
[main] CMD: /Library/Frameworks/R.framework/Versions/4.2/Resources/library/Rbwa/bwa samse -n 1000000000 /tmp/RtmplInObv/chr12 /tmp/RtmplInObv/file172e079d44cea.sai /tmp/RtmplInObv/file172e079d44cea
[main] Real time: 0.031 sec; CPU: 0.034 sec
[bwa_aln_core] calculate SA coordinate... 0.00 sec
[bwa_aln_core] write to the disk... 0.00 sec
[bwa_aln_core] 3 sequences have been processed.
[main] Version: 0.7.17-r1198-dirty
[main] CMD: /Library/Frameworks/R.framework/Versions/4.2/Resources/library/Rbwa/bwa aln -N -n 3 -l 36 -o 0 /tmp/RtmplInObv/chr12 /tmp/RtmplInObv/file172e06105d522
[main] Real time: 0.033 sec; CPU: 0.035 sec
[bwa_aln_core] convert to sequence coordinate... 0.00 sec
[bwa_aln_core] refine gapped alignments... 0.00 sec
[bwa_aln_core] print alignments... 0.00 sec
[bwa_aln_core] 3 sequences have been processed.
[main] Version: 0.7.17-r1198-dirty
[main] CMD: /Library/Frameworks/R.framework/Versions/4.2/Resources/library/Rbwa/bwa samse -n 1000000000 /tmp/RtmplInObv/chr12 /tmp/RtmplInObv/file172e06105d522.sai /tmp/RtmplInObv/file172e06105d522
[main] Real time: 0.032 sec; CPU: 0.035 sec
[bwa_aln_core] calculate SA coordinate... 0.00 sec
[bwa_aln_core] write to the disk... 0.00 sec
[bwa_aln_core] 1 sequences have been processed.
[main] Version: 0.7.17-r1198-dirty
[main] CMD: /Library/Frameworks/R.framework/Versions/4.2/Resources/library/Rbwa/bwa aln -N -n 0 -l 144 -o 0 /tmp/RtmplInObv/chr12 /tmp/RtmplInObv/file172e045ebdcf1
[main] Real time: 0.028 sec; CPU: 0.031 sec
[bwa_aln_core] convert to sequence coordinate... 0.00 sec
[bwa_aln_core] refine gapped alignments... 0.00 sec
[bwa_aln_core] print alignments... 0.00 sec
[bwa_aln_core] 1 sequences have been processed.
[main] Version: 0.7.17-r1198-dirty
[main] CMD: /Library/Frameworks/R.framework/Versions/4.2/Resources/library/Rbwa/bwa samse -n 1000000000 /tmp/RtmplInObv/chr12 /tmp/RtmplInObv/file172e045ebdcf1.sai /tmp/RtmplInObv/file172e045ebdcf1
[main] Real time: 0.029 sec; CPU: 0.032 sec
[bwa_index] Pack FASTA... 0.00 sec
[bwa_index] Construct BWT for the packed sequence...
[bwa_index] 0.03 seconds elapse.
[bwa_index] Update BWT... 0.00 sec
[bwa_index] Pack forward-only FASTA... 0.00 sec
[bwa_index] Construct SA from BWT and Occ... 0.01 sec
[main] Version: 0.7.17-r1198-dirty
[main] CMD: /Library/Frameworks/R.framework/Versions/4.2/Resources/library/Rbwa/bwa index -p /tmp/RtmplInObv/chr12 /Library/Frameworks/R.framework/Versions/4.2/Resources/library/crisprBwa/example/chr12.fa
[main] Real time: 0.054 sec; CPU: 0.059 sec
[runCrisprBwa] Using BSgenome.Hsapiens.UCSC.hg38 
[runCrisprBwa] Searching for SpCas9 protospacers 
[bwa_aln_core] calculate SA coordinate... 0.00 sec
[bwa_aln_core] write to the disk... 0.00 sec
[bwa_aln_core] 5 sequences have been processed.
[main] Version: 0.7.17-r1198-dirty
[main] CMD: /Library/Frameworks/R.framework/Versions/4.2/Resources/library/Rbwa/bwa aln -N -n 0 -l 60 -o 0 /tmp/RtmplInObv/chr12 /tmp/RtmplInObv/file172e07ff67613
[main] Real time: 0.028 sec; CPU: 0.031 sec
[bwa_aln_core] convert to sequence coordinate... 0.00 sec
[bwa_aln_core] refine gapped alignments... 0.00 sec
[bwa_aln_core] print alignments... 0.00 sec
[bwa_aln_core] 5 sequences have been processed.
[main] Version: 0.7.17-r1198-dirty
[main] CMD: /Library/Frameworks/R.framework/Versions/4.2/Resources/library/Rbwa/bwa samse -n 1000000000 /tmp/RtmplInObv/chr12 /tmp/RtmplInObv/file172e07ff67613.sai /tmp/RtmplInObv/file172e07ff67613
[main] Real time: 0.028 sec; CPU: 0.030 sec
[runCrisprBwa] Using BSgenome.Hsapiens.UCSC.hg38 
[runCrisprBwa] Searching for SpCas9 protospacers 
[bwa_aln_core] calculate SA coordinate... 0.00 sec
[bwa_aln_core] write to the disk... 0.00 sec
[bwa_aln_core] 5 sequences have been processed.
[main] Version: 0.7.17-r1198-dirty
[main] CMD: /Library/Frameworks/R.framework/Versions/4.2/Resources/library/Rbwa/bwa aln -N -n 1 -l 60 -o 0 /tmp/RtmplInObv/chr12 /tmp/RtmplInObv/file172e0dc21b07
[main] Real time: 0.031 sec; CPU: 0.033 sec
[bwa_aln_core] convert to sequence coordinate... 0.00 sec
[bwa_aln_core] refine gapped alignments... 0.00 sec
[bwa_aln_core] print alignments... 0.00 sec
[bwa_aln_core] 5 sequences have been processed.
[main] Version: 0.7.17-r1198-dirty
[main] CMD: /Library/Frameworks/R.framework/Versions/4.2/Resources/library/Rbwa/bwa samse -n 1000000000 /tmp/RtmplInObv/chr12 /tmp/RtmplInObv/file172e0dc21b07.sai /tmp/RtmplInObv/file172e0dc21b07
[main] Real time: 0.031 sec; CPU: 0.033 sec
[runCrisprBwa] Using BSgenome.Hsapiens.UCSC.hg38 
[runCrisprBwa] Searching for SpCas9 protospacers 
[bwa_aln_core] calculate SA coordinate... 0.00 sec
[bwa_aln_core] write to the disk... 0.00 sec
[bwa_aln_core] 5 sequences have been processed.
[main] Version: 0.7.17-r1198-dirty
[main] CMD: /Library/Frameworks/R.framework/Versions/4.2/Resources/library/Rbwa/bwa aln -N -n 2 -l 60 -o 0 /tmp/RtmplInObv/chr12 /tmp/RtmplInObv/file172e0427c6f9f
[main] Real time: 0.030 sec; CPU: 0.033 sec
[bwa_aln_core] convert to sequence coordinate... 0.00 sec
[bwa_aln_core] refine gapped alignments... 0.00 sec
[bwa_aln_core] print alignments... 0.00 sec
[bwa_aln_core] 5 sequences have been processed.
[main] Version: 0.7.17-r1198-dirty
[main] CMD: /Library/Frameworks/R.framework/Versions/4.2/Resources/library/Rbwa/bwa samse -n 1000000000 /tmp/RtmplInObv/chr12 /tmp/RtmplInObv/file172e0427c6f9f.sai /tmp/RtmplInObv/file172e0427c6f9f
[main] Real time: 0.027 sec; CPU: 0.030 sec
[runCrisprBwa] Using BSgenome.Hsapiens.UCSC.hg38 
[runCrisprBwa] Searching for SpCas9 protospacers 
[bwa_aln_core] calculate SA coordinate... 0.00 sec
[bwa_aln_core] write to the disk... 0.00 sec
[bwa_aln_core] 5 sequences have been processed.
[main] Version: 0.7.17-r1198-dirty
[main] CMD: /Library/Frameworks/R.framework/Versions/4.2/Resources/library/Rbwa/bwa aln -N -n 3 -l 60 -o 0 /tmp/RtmplInObv/chr12 /tmp/RtmplInObv/file172e0778451d2
[main] Real time: 0.027 sec; CPU: 0.030 sec
[bwa_aln_core] convert to sequence coordinate... 0.00 sec
[bwa_aln_core] refine gapped alignments... 0.00 sec
[bwa_aln_core] print alignments... 0.00 sec
[bwa_aln_core] 5 sequences have been processed.
[main] Version: 0.7.17-r1198-dirty
[main] CMD: /Library/Frameworks/R.framework/Versions/4.2/Resources/library/Rbwa/bwa samse -n 1000000000 /tmp/RtmplInObv/chr12 /tmp/RtmplInObv/file172e0778451d2.sai /tmp/RtmplInObv/file172e0778451d2
[main] Real time: 0.028 sec; CPU: 0.030 sec
[runCrisprBwa] Using BSgenome.Hsapiens.UCSC.hg38 
[runCrisprBwa] Searching for SpCas9 protospacers 
[bwa_aln_core] calculate SA coordinate... 0.00 sec
[bwa_aln_core] write to the disk... 0.00 sec
[bwa_aln_core] 5 sequences have been processed.
[main] Version: 0.7.17-r1198-dirty
[main] CMD: /Library/Frameworks/R.framework/Versions/4.2/Resources/library/Rbwa/bwa aln -N -n 0 -l 60 -o 0 /tmp/RtmplInObv/chr12 /tmp/RtmplInObv/file172e01017ef4b
[main] Real time: 0.028 sec; CPU: 0.031 sec
[bwa_aln_core] convert to sequence coordinate... 0.00 sec
[bwa_aln_core] refine gapped alignments... 0.00 sec
[bwa_aln_core] print alignments... 0.00 sec
[bwa_aln_core] 5 sequences have been processed.
[main] Version: 0.7.17-r1198-dirty
[main] CMD: /Library/Frameworks/R.framework/Versions/4.2/Resources/library/Rbwa/bwa samse -n 1000000000 /tmp/RtmplInObv/chr12 /tmp/RtmplInObv/file172e01017ef4b.sai /tmp/RtmplInObv/file172e01017ef4b
[main] Real time: 0.028 sec; CPU: 0.030 sec
[runCrisprBwa] Using BSgenome.Hsapiens.UCSC.hg38 
[runCrisprBwa] Searching for SpCas9 protospacers 
[bwa_aln_core] calculate SA coordinate... 0.00 sec
[bwa_aln_core] write to the disk... 0.00 sec
[bwa_aln_core] 5 sequences have been processed.
[main] Version: 0.7.17-r1198-dirty
[main] CMD: /Library/Frameworks/R.framework/Versions/4.2/Resources/library/Rbwa/bwa aln -N -n 1 -l 60 -o 0 /tmp/RtmplInObv/chr12 /tmp/RtmplInObv/file172e0135f2d2e
[main] Real time: 0.030 sec; CPU: 0.033 sec
[bwa_aln_core] convert to sequence coordinate... 0.00 sec
[bwa_aln_core] refine gapped alignments... 0.00 sec
[bwa_aln_core] print alignments... 0.00 sec
[bwa_aln_core] 5 sequences have been processed.
[main] Version: 0.7.17-r1198-dirty
[main] CMD: /Library/Frameworks/R.framework/Versions/4.2/Resources/library/Rbwa/bwa samse -n 1000000000 /tmp/RtmplInObv/chr12 /tmp/RtmplInObv/file172e0135f2d2e.sai /tmp/RtmplInObv/file172e0135f2d2e
[main] Real time: 0.030 sec; CPU: 0.032 sec
[runCrisprBwa] Using BSgenome.Hsapiens.UCSC.hg38 
[runCrisprBwa] Searching for SpCas9 protospacers 
[bwa_aln_core] calculate SA coordinate... 0.00 sec
[bwa_aln_core] write to the disk... 0.00 sec
[bwa_aln_core] 5 sequences have been processed.
[main] Version: 0.7.17-r1198-dirty
[main] CMD: /Library/Frameworks/R.framework/Versions/4.2/Resources/library/Rbwa/bwa aln -N -n 2 -l 60 -o 0 /tmp/RtmplInObv/chr12 /tmp/RtmplInObv/file172e04d8f30f1
[main] Real time: 0.031 sec; CPU: 0.034 sec
[bwa_aln_core] convert to sequence coordinate... 0.00 sec
[bwa_aln_core] refine gapped alignments... 0.00 sec
[bwa_aln_core] print alignments... 0.00 sec
[bwa_aln_core] 5 sequences have been processed.
[main] Version: 0.7.17-r1198-dirty
[main] CMD: /Library/Frameworks/R.framework/Versions/4.2/Resources/library/Rbwa/bwa samse -n 1000000000 /tmp/RtmplInObv/chr12 /tmp/RtmplInObv/file172e04d8f30f1.sai /tmp/RtmplInObv/file172e04d8f30f1
[main] Real time: 0.033 sec; CPU: 0.037 sec
[runCrisprBwa] Using BSgenome.Hsapiens.UCSC.hg38 
[runCrisprBwa] Searching for SpCas9 protospacers 
[bwa_aln_core] calculate SA coordinate... 0.00 sec
[bwa_aln_core] write to the disk... 0.00 sec
[bwa_aln_core] 5 sequences have been processed.
[main] Version: 0.7.17-r1198-dirty
[main] CMD: /Library/Frameworks/R.framework/Versions/4.2/Resources/library/Rbwa/bwa aln -N -n 3 -l 60 -o 0 /tmp/RtmplInObv/chr12 /tmp/RtmplInObv/file172e073d645fe
[main] Real time: 0.031 sec; CPU: 0.033 sec
[bwa_aln_core] convert to sequence coordinate... 0.00 sec
[bwa_aln_core] refine gapped alignments... 0.00 sec
[bwa_aln_core] print alignments... 0.00 sec
[bwa_aln_core] 5 sequences have been processed.
[main] Version: 0.7.17-r1198-dirty
[main] CMD: /Library/Frameworks/R.framework/Versions/4.2/Resources/library/Rbwa/bwa samse -n 1000000000 /tmp/RtmplInObv/chr12 /tmp/RtmplInObv/file172e073d645fe.sai /tmp/RtmplInObv/file172e073d645fe
[main] Real time: 0.030 sec; CPU: 0.033 sec
[runCrisprBwa] Using BSgenome.Hsapiens.UCSC.hg38 
[runCrisprBwa] Searching for SpCas9 protospacers 
[runCrisprBwa] Using BSgenome.Hsapiens.UCSC.hg38 
[runCrisprBwa] Searching for SpCas9 protospacers 
[bwa_aln_core] calculate SA coordinate... 0.00 sec
[bwa_aln_core] write to the disk... 0.00 sec
[bwa_aln_core] 5 sequences have been processed.
[main] Version: 0.7.17-r1198-dirty
[main] CMD: /Library/Frameworks/R.framework/Versions/4.2/Resources/library/Rbwa/bwa aln -N -n 3 -l 51 -o 0 /tmp/RtmplInObv/chr12 /tmp/RtmplInObv/file172e0788d621b
[main] Real time: 0.030 sec; CPU: 0.033 sec
[bwa_aln_core] convert to sequence coordinate... 0.00 sec
[bwa_aln_core] refine gapped alignments... 0.00 sec
[bwa_aln_core] print alignments... 0.00 sec
[bwa_aln_core] 5 sequences have been processed.
[main] Version: 0.7.17-r1198-dirty
[main] CMD: /Library/Frameworks/R.framework/Versions/4.2/Resources/library/Rbwa/bwa samse -n 1000000000 /tmp/RtmplInObv/chr12 /tmp/RtmplInObv/file172e0788d621b.sai /tmp/RtmplInObv/file172e0788d621b
[main] Real time: 0.028 sec; CPU: 0.031 sec
[runCrisprBwa] Using BSgenome.Hsapiens.UCSC.hg38 
[runCrisprBwa] Searching for AsCas12a protospacers 
[bwa_aln_core] calculate SA coordinate... 0.00 sec
[bwa_aln_core] write to the disk... 0.00 sec
[bwa_aln_core] 4 sequences have been processed.
[main] Version: 0.7.17-r1198-dirty
[main] CMD: /Library/Frameworks/R.framework/Versions/4.2/Resources/library/Rbwa/bwa aln -N -n 0 -l 69 -o 0 /tmp/RtmplInObv/chr12 /tmp/RtmplInObv/file172e0a241872
[main] Real time: 0.030 sec; CPU: 0.033 sec
[bwa_aln_core] convert to sequence coordinate... 0.00 sec
[bwa_aln_core] refine gapped alignments... 0.00 sec
[bwa_aln_core] print alignments... 0.00 sec
[bwa_aln_core] 4 sequences have been processed.
[main] Version: 0.7.17-r1198-dirty
[main] CMD: /Library/Frameworks/R.framework/Versions/4.2/Resources/library/Rbwa/bwa samse -n 1000000000 /tmp/RtmplInObv/chr12 /tmp/RtmplInObv/file172e0a241872.sai /tmp/RtmplInObv/file172e0a241872
[main] Real time: 0.030 sec; CPU: 0.031 sec
[runCrisprBwa] Using BSgenome.Hsapiens.UCSC.hg38 
[runCrisprBwa] Searching for AsCas12a protospacers 
[bwa_aln_core] calculate SA coordinate... 0.00 sec
[bwa_aln_core] write to the disk... 0.00 sec
[bwa_aln_core] 4 sequences have been processed.
[main] Version: 0.7.17-r1198-dirty
[main] CMD: /Library/Frameworks/R.framework/Versions/4.2/Resources/library/Rbwa/bwa aln -N -n 1 -l 69 -o 0 /tmp/RtmplInObv/chr12 /tmp/RtmplInObv/file172e047c0e991
[main] Real time: 0.028 sec; CPU: 0.030 sec
[bwa_aln_core] convert to sequence coordinate... 0.00 sec
[bwa_aln_core] refine gapped alignments... 0.00 sec
[bwa_aln_core] print alignments... 0.00 sec
[bwa_aln_core] 4 sequences have been processed.
[main] Version: 0.7.17-r1198-dirty
[main] CMD: /Library/Frameworks/R.framework/Versions/4.2/Resources/library/Rbwa/bwa samse -n 1000000000 /tmp/RtmplInObv/chr12 /tmp/RtmplInObv/file172e047c0e991.sai /tmp/RtmplInObv/file172e047c0e991
[main] Real time: 0.030 sec; CPU: 0.034 sec
[runCrisprBwa] Using BSgenome.Hsapiens.UCSC.hg38 
[runCrisprBwa] Searching for AsCas12a protospacers 
[bwa_aln_core] calculate SA coordinate... 0.00 sec
[bwa_aln_core] write to the disk... 0.00 sec
[bwa_aln_core] 4 sequences have been processed.
[main] Version: 0.7.17-r1198-dirty
[main] CMD: /Library/Frameworks/R.framework/Versions/4.2/Resources/library/Rbwa/bwa aln -N -n 2 -l 69 -o 0 /tmp/RtmplInObv/chr12 /tmp/RtmplInObv/file172e04a265364
[main] Real time: 0.027 sec; CPU: 0.030 sec
[bwa_aln_core] convert to sequence coordinate... 0.00 sec
[bwa_aln_core] refine gapped alignments... 0.00 sec
[bwa_aln_core] print alignments... 0.00 sec
[bwa_aln_core] 4 sequences have been processed.
[main] Version: 0.7.17-r1198-dirty
[main] CMD: /Library/Frameworks/R.framework/Versions/4.2/Resources/library/Rbwa/bwa samse -n 1000000000 /tmp/RtmplInObv/chr12 /tmp/RtmplInObv/file172e04a265364.sai /tmp/RtmplInObv/file172e04a265364
[main] Real time: 0.027 sec; CPU: 0.030 sec
[runCrisprBwa] Using BSgenome.Hsapiens.UCSC.hg38 
[runCrisprBwa] Searching for AsCas12a protospacers 
[bwa_aln_core] calculate SA coordinate... 0.00 sec
[bwa_aln_core] write to the disk... 0.00 sec
[bwa_aln_core] 4 sequences have been processed.
[main] Version: 0.7.17-r1198-dirty
[main] CMD: /Library/Frameworks/R.framework/Versions/4.2/Resources/library/Rbwa/bwa aln -N -n 3 -l 69 -o 0 /tmp/RtmplInObv/chr12 /tmp/RtmplInObv/file172e01a2cf044
[main] Real time: 0.030 sec; CPU: 0.033 sec
[bwa_aln_core] convert to sequence coordinate... 0.00 sec
[bwa_aln_core] refine gapped alignments... 0.00 sec
[bwa_aln_core] print alignments... 0.00 sec
[bwa_aln_core] 4 sequences have been processed.
[main] Version: 0.7.17-r1198-dirty
[main] CMD: /Library/Frameworks/R.framework/Versions/4.2/Resources/library/Rbwa/bwa samse -n 1000000000 /tmp/RtmplInObv/chr12 /tmp/RtmplInObv/file172e01a2cf044.sai /tmp/RtmplInObv/file172e01a2cf044
[main] Real time: 0.032 sec; CPU: 0.036 sec
[ FAIL 0 | WARN 0 | SKIP 0 | PASS 19 ]
> 
> proc.time()
   user  system elapsed 
 15.648   2.058  18.479 
crisprBwa.Rcheck/crisprBwa-Ex.timings
| name | user | system | elapsed | |
| runBwa | 0.359 | 0.135 | 0.600 | |
| runCrisprBwa | 0.895 | 0.149 | 1.094 | |