| Back to Multiple platform build/check report for BioC 3.16: simplified long |
|
This page was generated on 2023-04-12 11:04:58 -0400 (Wed, 12 Apr 2023).
| Hostname | OS | Arch (*) | R version | Installed pkgs |
|---|---|---|---|---|
| nebbiolo2 | Linux (Ubuntu 20.04.5 LTS) | x86_64 | 4.2.3 (2023-03-15) -- "Shortstop Beagle" | 4502 |
| palomino4 | Windows Server 2022 Datacenter | x64 | 4.2.3 (2023-03-15 ucrt) -- "Shortstop Beagle" | 4282 |
| lconway | macOS 12.5.1 Monterey | x86_64 | 4.2.3 (2023-03-15) -- "Shortstop Beagle" | 4310 |
| Click on any hostname to see more info about the system (e.g. compilers) (*) as reported by 'uname -p', except on Windows and Mac OS X | ||||
|
To the developers/maintainers of the benchdamic package: - Please allow up to 24 hours (and sometimes 48 hours) for your latest push to git@git.bioconductor.org:packages/benchdamic.git to reflect on this report. See How and When does the builder pull? When will my changes propagate? for more information. - Make sure to use the following settings in order to reproduce any error or warning you see on this page. |
| Package 141/2183 | Hostname | OS / Arch | INSTALL | BUILD | CHECK | BUILD BIN | ||||||||
| benchdamic 1.4.0 (landing page) Matteo Calgaro
| nebbiolo2 | Linux (Ubuntu 20.04.5 LTS) / x86_64 | OK | OK | OK | |||||||||
| palomino4 | Windows Server 2022 Datacenter / x64 | OK | OK | OK | OK | |||||||||
| lconway | macOS 12.5.1 Monterey / x86_64 | OK | OK | OK | OK | |||||||||
| Package: benchdamic |
| Version: 1.4.0 |
| Command: /home/biocbuild/bbs-3.16-bioc/R/bin/R CMD check --install=check:benchdamic.install-out.txt --library=/home/biocbuild/bbs-3.16-bioc/R/site-library --timings benchdamic_1.4.0.tar.gz |
| StartedAt: 2023-04-10 19:11:42 -0400 (Mon, 10 Apr 2023) |
| EndedAt: 2023-04-10 19:30:09 -0400 (Mon, 10 Apr 2023) |
| EllapsedTime: 1106.7 seconds |
| RetCode: 0 |
| Status: OK |
| CheckDir: benchdamic.Rcheck |
| Warnings: 0 |
##############################################################################
##############################################################################
###
### Running command:
###
### /home/biocbuild/bbs-3.16-bioc/R/bin/R CMD check --install=check:benchdamic.install-out.txt --library=/home/biocbuild/bbs-3.16-bioc/R/site-library --timings benchdamic_1.4.0.tar.gz
###
##############################################################################
##############################################################################
* using log directory ‘/home/biocbuild/bbs-3.16-bioc/meat/benchdamic.Rcheck’
* using R version 4.2.3 (2023-03-15)
* using platform: x86_64-pc-linux-gnu (64-bit)
* using session charset: UTF-8
* checking for file ‘benchdamic/DESCRIPTION’ ... OK
* checking extension type ... Package
* this is package ‘benchdamic’ version ‘1.4.0’
* package encoding: UTF-8
* checking package namespace information ... OK
* checking package dependencies ... OK
* checking if this is a source package ... OK
* checking if there is a namespace ... OK
* checking for hidden files and directories ... OK
* checking for portable file names ... OK
* checking for sufficient/correct file permissions ... OK
* checking whether package ‘benchdamic’ can be installed ... OK
* checking installed package size ... OK
* checking package directory ... OK
* checking ‘build’ directory ... OK
* checking DESCRIPTION meta-information ... OK
* checking top-level files ... OK
* checking for left-over files ... OK
* checking index information ... OK
* checking package subdirectories ... OK
* checking R files for non-ASCII characters ... OK
* checking R files for syntax errors ... OK
* checking whether the package can be loaded ... OK
* checking whether the package can be loaded with stated dependencies ... OK
* checking whether the package can be unloaded cleanly ... OK
* checking whether the namespace can be loaded with stated dependencies ... OK
* checking whether the namespace can be unloaded cleanly ... OK
* checking loading without being on the library search path ... OK
* checking dependencies in R code ... OK
* checking S3 generic/method consistency ... OK
* checking replacement functions ... OK
* checking foreign function calls ... OK
* checking R code for possible problems ... OK
* checking Rd files ... OK
* checking Rd metadata ... OK
* checking Rd cross-references ... OK
* checking for missing documentation entries ... OK
* checking for code/documentation mismatches ... OK
* checking Rd \usage sections ... OK
* checking Rd contents ... OK
* checking for unstated dependencies in examples ... OK
* checking contents of ‘data’ directory ... OK
* checking data for non-ASCII characters ... OK
* checking LazyData ... OK
* checking data for ASCII and uncompressed saves ... OK
* checking files in ‘vignettes’ ... OK
* checking examples ... OK
Examples with CPU (user + system) or elapsed time > 5s
user system elapsed
DA_ALDEx2 4.93 0.3 5.231
* checking for unstated dependencies in ‘tests’ ... OK
* checking tests ...
Running ‘testthat.R’
OK
* checking for unstated dependencies in vignettes ... OK
* checking package vignettes in ‘inst/doc’ ... OK
* checking running R code from vignettes ...
‘intro.Rmd’ using ‘UTF-8’... OK
NONE
* checking re-building of vignette outputs ... OK
* checking PDF version of manual ... OK
* DONE
Status: OK
benchdamic.Rcheck/00install.out
############################################################################## ############################################################################## ### ### Running command: ### ### /home/biocbuild/bbs-3.16-bioc/R/bin/R CMD INSTALL benchdamic ### ############################################################################## ############################################################################## * installing to library ‘/home/biocbuild/bbs-3.16-bioc/R/site-library’ * installing *source* package ‘benchdamic’ ... ** using staged installation ** R ** data *** moving datasets to lazyload DB ** byte-compile and prepare package for lazy loading ** help *** installing help indices ** building package indices ** installing vignettes ** testing if installed package can be loaded from temporary location ** testing if installed package can be loaded from final location ** testing if installed package keeps a record of temporary installation path * DONE (benchdamic)
benchdamic.Rcheck/tests/testthat.Rout
R version 4.2.3 (2023-03-15) -- "Shortstop Beagle"
Copyright (C) 2023 The R Foundation for Statistical Computing
Platform: x86_64-pc-linux-gnu (64-bit)
R is free software and comes with ABSOLUTELY NO WARRANTY.
You are welcome to redistribute it under certain conditions.
Type 'license()' or 'licence()' for distribution details.
R is a collaborative project with many contributors.
Type 'contributors()' for more information and
'citation()' on how to cite R or R packages in publications.
Type 'demo()' for some demos, 'help()' for on-line help, or
'help.start()' for an HTML browser interface to help.
Type 'q()' to quit R.
> library(testthat)
> library(benchdamic)
>
> test_check("benchdamic")
|------------(25%)----------(50%)----------(75%)----------|
|------------(25%)----------(50%)----------(75%)----------|
|------------(25%)----------(50%)----------(75%)----------|
|------------(25%)----------(50%)----------(75%)----------|
|------------(25%)----------(50%)----------(75%)----------|
[ FAIL 0 | WARN 0 | SKIP 0 | PASS 279 ]
>
> proc.time()
user system elapsed
53.760 1.961 55.689
benchdamic.Rcheck/benchdamic-Ex.timings
| name | user | system | elapsed | |
| CAT | 0.004 | 0.000 | 0.004 | |
| DA_ALDEx2 | 4.930 | 0.300 | 5.231 | |
| DA_ANCOM | 1.345 | 0.040 | 1.386 | |
| DA_DESeq2 | 2.655 | 0.040 | 2.695 | |
| DA_MAST | 0.623 | 0.028 | 0.651 | |
| DA_NOISeq | 1.545 | 0.064 | 1.608 | |
| DA_Seurat | 0.698 | 0.016 | 0.714 | |
| DA_basic | 0.029 | 0.000 | 0.029 | |
| DA_corncob | 2.811 | 0.065 | 2.883 | |
| DA_dearseq | 0.053 | 0.004 | 0.056 | |
| DA_edgeR | 0.175 | 0.000 | 0.175 | |
| DA_limma | 0.071 | 0.000 | 0.072 | |
| DA_metagenomeSeq | 0.277 | 0.004 | 0.280 | |
| RMSE | 0.001 | 0.000 | 0.001 | |
| addKnowledge | 0.175 | 0.004 | 0.180 | |
| areaCAT | 3.631 | 0.036 | 3.666 | |
| checkNormalization | 0 | 0 | 0 | |
| createColors | 0.004 | 0.000 | 0.005 | |
| createConcordance | 3.965 | 0.044 | 4.008 | |
| createEnrichment | 0.195 | 0.016 | 0.211 | |
| createMocks | 0.000 | 0.002 | 0.002 | |
| createPositives | 0.723 | 0.018 | 0.740 | |
| createSplits | 0.024 | 0.004 | 0.029 | |
| createTIEC | 2.038 | 0.028 | 2.065 | |
| enrichmentTest | 0.179 | 0.000 | 0.179 | |
| extractDA | 0.166 | 0.000 | 0.166 | |
| extractStatistics | 0.163 | 0.000 | 0.163 | |
| fitDM | 0.028 | 0.000 | 0.028 | |
| fitHURDLE | 0.331 | 0.000 | 0.330 | |
| fitModels | 1.247 | 0.008 | 1.256 | |
| fitNB | 0.043 | 0.000 | 0.043 | |
| fitZIG | 0.052 | 0.000 | 0.053 | |
| fitZINB | 0.388 | 0.000 | 0.389 | |
| getDA | 0.073 | 0.000 | 0.073 | |
| getPositives | 0.067 | 0.004 | 0.070 | |
| getStatistics | 0.062 | 0.000 | 0.061 | |
| get_counts_metadata | 0.163 | 0.000 | 0.162 | |
| iterative_ordering | 0.009 | 0.000 | 0.009 | |
| meanDifferences | 0.001 | 0.000 | 0.002 | |
| norm_CSS | 0.062 | 0.000 | 0.062 | |
| norm_DESeq2 | 0.424 | 0.000 | 0.423 | |
| norm_TSS | 0.030 | 0.000 | 0.029 | |
| norm_edgeR | 0.033 | 0.000 | 0.032 | |
| plotConcordance | 4.395 | 0.032 | 4.428 | |
| plotContingency | 1.098 | 0.012 | 1.110 | |
| plotEnrichment | 1.058 | 0.012 | 1.070 | |
| plotFPR | 1.827 | 0.016 | 1.843 | |
| plotKS | 1.882 | 0.016 | 1.898 | |
| plotLogP | 1.793 | 0.008 | 1.801 | |
| plotMD | 2.222 | 0.032 | 2.254 | |
| plotMutualFindings | 1.060 | 0.028 | 1.089 | |
| plotPositives | 0.734 | 0.000 | 0.734 | |
| plotQQ | 1.846 | 0.016 | 1.862 | |
| plotRMSE | 1.795 | 0.048 | 1.842 | |
| prepareObserved | 0.001 | 0.000 | 0.001 | |
| runDA | 0.442 | 0.000 | 0.441 | |
| runMocks | 0.594 | 0.000 | 0.593 | |
| runNormalizations | 0.481 | 0.000 | 0.481 | |
| runSplits | 3.358 | 0.048 | 3.407 | |
| setNormalizations | 0.000 | 0.000 | 0.001 | |
| set_ALDEx2 | 0.006 | 0.000 | 0.006 | |
| set_ANCOM | 0.005 | 0.000 | 0.004 | |
| set_DESeq2 | 0.007 | 0.000 | 0.007 | |
| set_MAST | 0.003 | 0.000 | 0.003 | |
| set_NOISeq | 0.003 | 0.000 | 0.004 | |
| set_Seurat | 0.005 | 0.000 | 0.006 | |
| set_basic | 0.001 | 0.000 | 0.002 | |
| set_corncob | 0.003 | 0.000 | 0.004 | |
| set_dearseq | 0.043 | 0.000 | 0.044 | |
| set_edgeR | 0.016 | 0.000 | 0.016 | |
| set_limma | 0.011 | 0.000 | 0.010 | |
| set_metagenomeSeq | 0.005 | 0.000 | 0.005 | |
| weights_ZINB | 0.386 | 0.004 | 0.389 | |