| Back to Multiple platform build/check report for BioC 3.16: simplified long |
|
This page was generated on 2023-04-12 11:06:00 -0400 (Wed, 12 Apr 2023).
| Hostname | OS | Arch (*) | R version | Installed pkgs |
|---|---|---|---|---|
| nebbiolo2 | Linux (Ubuntu 20.04.5 LTS) | x86_64 | 4.2.3 (2023-03-15) -- "Shortstop Beagle" | 4502 |
| palomino4 | Windows Server 2022 Datacenter | x64 | 4.2.3 (2023-03-15 ucrt) -- "Shortstop Beagle" | 4282 |
| lconway | macOS 12.5.1 Monterey | x86_64 | 4.2.3 (2023-03-15) -- "Shortstop Beagle" | 4310 |
| Click on any hostname to see more info about the system (e.g. compilers) (*) as reported by 'uname -p', except on Windows and Mac OS X | ||||
|
To the developers/maintainers of the benchdamic package: - Please allow up to 24 hours (and sometimes 48 hours) for your latest push to git@git.bioconductor.org:packages/benchdamic.git to reflect on this report. See How and When does the builder pull? When will my changes propagate? for more information. - Make sure to use the following settings in order to reproduce any error or warning you see on this page. |
| Package 141/2183 | Hostname | OS / Arch | INSTALL | BUILD | CHECK | BUILD BIN | ||||||||
| benchdamic 1.4.0 (landing page) Matteo Calgaro
| nebbiolo2 | Linux (Ubuntu 20.04.5 LTS) / x86_64 | OK | OK | OK | |||||||||
| palomino4 | Windows Server 2022 Datacenter / x64 | OK | OK | OK | OK | |||||||||
| lconway | macOS 12.5.1 Monterey / x86_64 | OK | OK | OK | OK | |||||||||
| Package: benchdamic |
| Version: 1.4.0 |
| Command: /Library/Frameworks/R.framework/Resources/bin/R CMD check --install=check:benchdamic.install-out.txt --library=/Library/Frameworks/R.framework/Resources/library --no-vignettes --timings benchdamic_1.4.0.tar.gz |
| StartedAt: 2023-04-10 18:57:53 -0400 (Mon, 10 Apr 2023) |
| EndedAt: 2023-04-10 19:06:18 -0400 (Mon, 10 Apr 2023) |
| EllapsedTime: 504.4 seconds |
| RetCode: 0 |
| Status: OK |
| CheckDir: benchdamic.Rcheck |
| Warnings: 0 |
##############################################################################
##############################################################################
###
### Running command:
###
### /Library/Frameworks/R.framework/Resources/bin/R CMD check --install=check:benchdamic.install-out.txt --library=/Library/Frameworks/R.framework/Resources/library --no-vignettes --timings benchdamic_1.4.0.tar.gz
###
##############################################################################
##############################################################################
* using log directory ‘/Users/biocbuild/bbs-3.16-bioc/meat/benchdamic.Rcheck’
* using R version 4.2.3 (2023-03-15)
* using platform: x86_64-apple-darwin17.0 (64-bit)
* using session charset: UTF-8
* using option ‘--no-vignettes’
* checking for file ‘benchdamic/DESCRIPTION’ ... OK
* checking extension type ... Package
* this is package ‘benchdamic’ version ‘1.4.0’
* package encoding: UTF-8
* checking package namespace information ... OK
* checking package dependencies ... OK
* checking if this is a source package ... OK
* checking if there is a namespace ... OK
* checking for hidden files and directories ... OK
* checking for portable file names ... OK
* checking for sufficient/correct file permissions ... OK
* checking whether package ‘benchdamic’ can be installed ... OK
* checking installed package size ... OK
* checking package directory ... OK
* checking ‘build’ directory ... OK
* checking DESCRIPTION meta-information ... OK
* checking top-level files ... OK
* checking for left-over files ... OK
* checking index information ... OK
* checking package subdirectories ... OK
* checking R files for non-ASCII characters ... OK
* checking R files for syntax errors ... OK
* checking whether the package can be loaded ... OK
* checking whether the package can be loaded with stated dependencies ... OK
* checking whether the package can be unloaded cleanly ... OK
* checking whether the namespace can be loaded with stated dependencies ... OK
* checking whether the namespace can be unloaded cleanly ... OK
* checking dependencies in R code ... OK
* checking S3 generic/method consistency ... OK
* checking replacement functions ... OK
* checking foreign function calls ... OK
* checking R code for possible problems ... OK
* checking Rd files ... OK
* checking Rd metadata ... OK
* checking Rd cross-references ... OK
* checking for missing documentation entries ... OK
* checking for code/documentation mismatches ... OK
* checking Rd \usage sections ... OK
* checking Rd contents ... OK
* checking for unstated dependencies in examples ... OK
* checking contents of ‘data’ directory ... OK
* checking data for non-ASCII characters ... OK
* checking LazyData ... OK
* checking data for ASCII and uncompressed saves ... OK
* checking files in ‘vignettes’ ... OK
* checking examples ... OK
Examples with CPU (user + system) or elapsed time > 5s
user system elapsed
DA_ALDEx2 5.011 0.783 5.835
areaCAT 5.050 0.126 5.221
* checking for unstated dependencies in ‘tests’ ... OK
* checking tests ...
Running ‘testthat.R’
OK
* checking for unstated dependencies in vignettes ... OK
* checking package vignettes in ‘inst/doc’ ... OK
* checking running R code from vignettes ... SKIPPED
* checking re-building of vignette outputs ... SKIPPED
* checking PDF version of manual ... OK
* DONE
Status: OK
benchdamic.Rcheck/00install.out
############################################################################## ############################################################################## ### ### Running command: ### ### /Library/Frameworks/R.framework/Resources/bin/R CMD INSTALL benchdamic ### ############################################################################## ############################################################################## * installing to library ‘/Library/Frameworks/R.framework/Versions/4.2/Resources/library’ * installing *source* package ‘benchdamic’ ... ** using staged installation ** R ** data *** moving datasets to lazyload DB ** byte-compile and prepare package for lazy loading ** help *** installing help indices ** building package indices ** installing vignettes ** testing if installed package can be loaded from temporary location ** testing if installed package can be loaded from final location ** testing if installed package keeps a record of temporary installation path * DONE (benchdamic)
benchdamic.Rcheck/tests/testthat.Rout
R version 4.2.3 (2023-03-15) -- "Shortstop Beagle"
Copyright (C) 2023 The R Foundation for Statistical Computing
Platform: x86_64-apple-darwin17.0 (64-bit)
R is free software and comes with ABSOLUTELY NO WARRANTY.
You are welcome to redistribute it under certain conditions.
Type 'license()' or 'licence()' for distribution details.
R is a collaborative project with many contributors.
Type 'contributors()' for more information and
'citation()' on how to cite R or R packages in publications.
Type 'demo()' for some demos, 'help()' for on-line help, or
'help.start()' for an HTML browser interface to help.
Type 'q()' to quit R.
> library(testthat)
> library(benchdamic)
>
> test_check("benchdamic")
|------------(25%)----------(50%)----------(75%)----------|
|------------(25%)----------(50%)----------(75%)----------|
|------------(25%)----------(50%)----------(75%)----------|
|------------(25%)----------(50%)----------(75%)----------|
|------------(25%)----------(50%)----------(75%)----------|
[ FAIL 0 | WARN 0 | SKIP 0 | PASS 279 ]
>
> proc.time()
user system elapsed
54.843 3.120 58.537
benchdamic.Rcheck/benchdamic-Ex.timings
| name | user | system | elapsed | |
| CAT | 0.003 | 0.000 | 0.004 | |
| DA_ALDEx2 | 5.011 | 0.783 | 5.835 | |
| DA_ANCOM | 1.463 | 0.041 | 1.509 | |
| DA_DESeq2 | 2.522 | 0.018 | 2.548 | |
| DA_MAST | 0.537 | 0.015 | 0.553 | |
| DA_NOISeq | 1.214 | 0.007 | 1.223 | |
| DA_Seurat | 0.608 | 0.017 | 0.667 | |
| DA_basic | 0.029 | 0.001 | 0.058 | |
| DA_corncob | 1.111 | 0.097 | 1.669 | |
| DA_dearseq | 0.161 | 0.011 | 0.172 | |
| DA_edgeR | 0.146 | 0.005 | 0.152 | |
| DA_limma | 0.067 | 0.003 | 0.070 | |
| DA_metagenomeSeq | 0.326 | 0.007 | 0.340 | |
| RMSE | 0.001 | 0.000 | 0.001 | |
| addKnowledge | 0.152 | 0.005 | 0.161 | |
| areaCAT | 5.050 | 0.126 | 5.221 | |
| checkNormalization | 0.001 | 0.001 | 0.000 | |
| createColors | 0.005 | 0.001 | 0.005 | |
| createConcordance | 4.227 | 0.106 | 4.405 | |
| createEnrichment | 0.231 | 0.006 | 0.238 | |
| createMocks | 0.002 | 0.001 | 0.003 | |
| createPositives | 0.743 | 0.015 | 0.763 | |
| createSplits | 0.022 | 0.002 | 0.024 | |
| createTIEC | 2.069 | 0.051 | 2.146 | |
| enrichmentTest | 0.114 | 0.005 | 0.118 | |
| extractDA | 0.173 | 0.004 | 0.178 | |
| extractStatistics | 0.146 | 0.002 | 0.149 | |
| fitDM | 0.033 | 0.001 | 0.035 | |
| fitHURDLE | 0.326 | 0.003 | 0.331 | |
| fitModels | 1.256 | 0.022 | 1.290 | |
| fitNB | 0.041 | 0.000 | 0.042 | |
| fitZIG | 0.049 | 0.001 | 0.050 | |
| fitZINB | 0.357 | 0.003 | 0.362 | |
| getDA | 0.061 | 0.008 | 0.069 | |
| getPositives | 0.064 | 0.003 | 0.066 | |
| getStatistics | 0.054 | 0.004 | 0.058 | |
| get_counts_metadata | 0.146 | 0.002 | 0.148 | |
| iterative_ordering | 0.007 | 0.001 | 0.009 | |
| meanDifferences | 0.001 | 0.000 | 0.001 | |
| norm_CSS | 0.070 | 0.001 | 0.073 | |
| norm_DESeq2 | 0.402 | 0.005 | 0.409 | |
| norm_TSS | 0.030 | 0.001 | 0.031 | |
| norm_edgeR | 0.038 | 0.001 | 0.039 | |
| plotConcordance | 4.042 | 0.057 | 4.282 | |
| plotContingency | 0.958 | 0.011 | 0.977 | |
| plotEnrichment | 0.988 | 0.016 | 1.013 | |
| plotFPR | 1.691 | 0.034 | 1.743 | |
| plotKS | 1.640 | 0.032 | 1.726 | |
| plotLogP | 1.668 | 0.027 | 1.706 | |
| plotMD | 2.109 | 0.019 | 2.140 | |
| plotMutualFindings | 0.969 | 0.008 | 0.981 | |
| plotPositives | 0.630 | 0.006 | 0.639 | |
| plotQQ | 1.596 | 0.022 | 1.629 | |
| plotRMSE | 1.563 | 0.022 | 1.634 | |
| prepareObserved | 0.001 | 0.000 | 0.002 | |
| runDA | 0.417 | 0.002 | 0.421 | |
| runMocks | 0.578 | 0.009 | 0.605 | |
| runNormalizations | 0.447 | 0.003 | 0.453 | |
| runSplits | 3.153 | 0.042 | 3.341 | |
| setNormalizations | 0.000 | 0.000 | 0.001 | |
| set_ALDEx2 | 0.006 | 0.000 | 0.008 | |
| set_ANCOM | 0.005 | 0.000 | 0.005 | |
| set_DESeq2 | 0.007 | 0.001 | 0.006 | |
| set_MAST | 0.003 | 0.000 | 0.003 | |
| set_NOISeq | 0.004 | 0.000 | 0.004 | |
| set_Seurat | 0.006 | 0.000 | 0.007 | |
| set_basic | 0.001 | 0.000 | 0.002 | |
| set_corncob | 0.005 | 0.001 | 0.005 | |
| set_dearseq | 0.002 | 0.000 | 0.002 | |
| set_edgeR | 0.012 | 0.000 | 0.011 | |
| set_limma | 0.007 | 0.000 | 0.007 | |
| set_metagenomeSeq | 0.005 | 0.001 | 0.006 | |
| weights_ZINB | 0.331 | 0.002 | 0.333 | |