| Back to Multiple platform build/check report for BioC 3.16: simplified long |
|
This page was generated on 2023-04-12 11:04:57 -0400 (Wed, 12 Apr 2023).
| Hostname | OS | Arch (*) | R version | Installed pkgs |
|---|---|---|---|---|
| nebbiolo2 | Linux (Ubuntu 20.04.5 LTS) | x86_64 | 4.2.3 (2023-03-15) -- "Shortstop Beagle" | 4502 |
| palomino4 | Windows Server 2022 Datacenter | x64 | 4.2.3 (2023-03-15 ucrt) -- "Shortstop Beagle" | 4282 |
| lconway | macOS 12.5.1 Monterey | x86_64 | 4.2.3 (2023-03-15) -- "Shortstop Beagle" | 4310 |
| Click on any hostname to see more info about the system (e.g. compilers) (*) as reported by 'uname -p', except on Windows and Mac OS X | ||||
|
To the developers/maintainers of the annotate package: - Please allow up to 24 hours (and sometimes 48 hours) for your latest push to git@git.bioconductor.org:packages/annotate.git to reflect on this report. See How and When does the builder pull? When will my changes propagate? for more information. - Make sure to use the following settings in order to reproduce any error or warning you see on this page. |
| Package 55/2183 | Hostname | OS / Arch | INSTALL | BUILD | CHECK | BUILD BIN | ||||||||
| annotate 1.76.0 (landing page) Bioconductor Package Maintainer
| nebbiolo2 | Linux (Ubuntu 20.04.5 LTS) / x86_64 | OK | OK | OK | |||||||||
| palomino4 | Windows Server 2022 Datacenter / x64 | OK | OK | ERROR | OK | |||||||||
| lconway | macOS 12.5.1 Monterey / x86_64 | OK | OK | OK | OK | |||||||||
| Package: annotate |
| Version: 1.76.0 |
| Command: /home/biocbuild/bbs-3.16-bioc/R/bin/R CMD check --install=check:annotate.install-out.txt --library=/home/biocbuild/bbs-3.16-bioc/R/site-library --timings annotate_1.76.0.tar.gz |
| StartedAt: 2023-04-10 18:58:12 -0400 (Mon, 10 Apr 2023) |
| EndedAt: 2023-04-10 19:03:22 -0400 (Mon, 10 Apr 2023) |
| EllapsedTime: 309.3 seconds |
| RetCode: 0 |
| Status: OK |
| CheckDir: annotate.Rcheck |
| Warnings: 0 |
##############################################################################
##############################################################################
###
### Running command:
###
### /home/biocbuild/bbs-3.16-bioc/R/bin/R CMD check --install=check:annotate.install-out.txt --library=/home/biocbuild/bbs-3.16-bioc/R/site-library --timings annotate_1.76.0.tar.gz
###
##############################################################################
##############################################################################
* using log directory ‘/home/biocbuild/bbs-3.16-bioc/meat/annotate.Rcheck’
* using R version 4.2.3 (2023-03-15)
* using platform: x86_64-pc-linux-gnu (64-bit)
* using session charset: UTF-8
* checking for file ‘annotate/DESCRIPTION’ ... OK
* this is package ‘annotate’ version ‘1.76.0’
* checking package namespace information ... OK
* checking package dependencies ... OK
* checking if this is a source package ... OK
* checking if there is a namespace ... OK
* checking for hidden files and directories ... OK
* checking for portable file names ... OK
* checking for sufficient/correct file permissions ... OK
* checking whether package ‘annotate’ can be installed ... OK
* checking installed package size ... OK
* checking package directory ... OK
* checking ‘build’ directory ... OK
* checking DESCRIPTION meta-information ... OK
* checking top-level files ... OK
* checking for left-over files ... OK
* checking index information ... OK
* checking package subdirectories ... OK
* checking R files for non-ASCII characters ... OK
* checking R files for syntax errors ... OK
* checking whether the package can be loaded ... OK
* checking whether the package can be loaded with stated dependencies ... OK
* checking whether the package can be unloaded cleanly ... OK
* checking whether the namespace can be loaded with stated dependencies ... OK
* checking whether the namespace can be unloaded cleanly ... OK
* checking loading without being on the library search path ... OK
* checking dependencies in R code ... NOTE
Unexported object imported by a ':::' call: ‘BiocGenerics:::testPackage’
See the note in ?`:::` about the use of this operator.
* checking S3 generic/method consistency ... OK
* checking replacement functions ... OK
* checking foreign function calls ... OK
* checking R code for possible problems ... OK
* checking Rd files ... OK
* checking Rd metadata ... OK
* checking Rd cross-references ... OK
* checking for missing documentation entries ... OK
* checking for code/documentation mismatches ... OK
* checking Rd \usage sections ... OK
* checking Rd contents ... OK
* checking for unstated dependencies in examples ... OK
* checking contents of ‘data’ directory ... OK
* checking data for non-ASCII characters ... OK
* checking data for ASCII and uncompressed saves ... OK
* checking files in ‘vignettes’ ... OK
* checking examples ... OK
Examples with CPU (user + system) or elapsed time > 5s
user system elapsed
chrCats 8.355 0.336 8.690
blastSequences 0.165 0.012 42.127
* checking for unstated dependencies in ‘tests’ ... OK
* checking tests ...
Running ‘annotate_unit_tests.R’
OK
* checking for unstated dependencies in vignettes ... OK
* checking package vignettes in ‘inst/doc’ ... OK
* checking running R code from vignettes ...
‘GOusage.Rnw’... OK
‘annotate.Rnw’... OK
‘chromLoc.Rnw’... OK
‘prettyOutput.Rnw’... OK
‘query.Rnw’... OK
‘useDataPkgs.Rnw’... OK
‘useProbeInfo.Rnw’... OK
OK
* checking re-building of vignette outputs ... OK
* checking PDF version of manual ... OK
* DONE
Status: 1 NOTE
See
‘/home/biocbuild/bbs-3.16-bioc/meat/annotate.Rcheck/00check.log’
for details.
annotate.Rcheck/00install.out
############################################################################## ############################################################################## ### ### Running command: ### ### /home/biocbuild/bbs-3.16-bioc/R/bin/R CMD INSTALL annotate ### ############################################################################## ############################################################################## * installing to library ‘/home/biocbuild/bbs-3.16-bioc/R/site-library’ * installing *source* package ‘annotate’ ... ** using staged installation ** R ** data ** inst ** byte-compile and prepare package for lazy loading ** help *** installing help indices ** building package indices ** installing vignettes ** testing if installed package can be loaded from temporary location ** testing if installed package can be loaded from final location ** testing if installed package keeps a record of temporary installation path * DONE (annotate)
annotate.Rcheck/tests/annotate_unit_tests.Rout
R version 4.2.3 (2023-03-15) -- "Shortstop Beagle"
Copyright (C) 2023 The R Foundation for Statistical Computing
Platform: x86_64-pc-linux-gnu (64-bit)
R is free software and comes with ABSOLUTELY NO WARRANTY.
You are welcome to redistribute it under certain conditions.
Type 'license()' or 'licence()' for distribution details.
R is a collaborative project with many contributors.
Type 'contributors()' for more information and
'citation()' on how to cite R or R packages in publications.
Type 'demo()' for some demos, 'help()' for on-line help, or
'help.start()' for an HTML browser interface to help.
Type 'q()' to quit R.
> BiocGenerics:::testPackage("annotate")
Attaching package: 'BiocGenerics'
The following objects are masked from 'package:stats':
IQR, mad, sd, var, xtabs
The following objects are masked from 'package:base':
Filter, Find, Map, Position, Reduce, anyDuplicated, aperm, append,
as.data.frame, basename, cbind, colnames, dirname, do.call,
duplicated, eval, evalq, get, grep, grepl, intersect, is.unsorted,
lapply, mapply, match, mget, order, paste, pmax, pmax.int, pmin,
pmin.int, rank, rbind, rownames, sapply, setdiff, sort, table,
tapply, union, unique, unsplit, which.max, which.min
Welcome to Bioconductor
Vignettes contain introductory material; view with
'browseVignettes()'. To cite Bioconductor, see
'citation("Biobase")', and for packages 'citation("pkgname")'.
Attaching package: 'S4Vectors'
The following objects are masked from 'package:base':
I, expand.grid, unname
Loading required package: org.Hs.eg.db
'select()' returned 1:many mapping between keys and columns
RUNIT TEST PROTOCOL -- Mon Apr 10 19:01:08 2023
***********************************************
Number of test functions: 1
Number of errors: 0
Number of failures: 0
1 Test Suite :
annotate RUnit Tests - 1 test function, 0 errors, 0 failures
Number of test functions: 1
Number of errors: 0
Number of failures: 0
>
> proc.time()
user system elapsed
6.897 0.432 7.311
annotate.Rcheck/annotate-Ex.timings
| name | user | system | elapsed | |
| ACCNUMStats | 1.132 | 0.012 | 1.143 | |
| GO2heatmap | 0.128 | 0.008 | 0.136 | |
| GOmnplot | 0.046 | 0.004 | 0.051 | |
| HTMLPage-class | 0 | 0 | 0 | |
| LL2homology | 0.001 | 0.000 | 0.000 | |
| PMIDAmat | 0.083 | 0.004 | 0.088 | |
| PWAmat | 1.852 | 0.020 | 1.872 | |
| UniGeneQuery | 0.001 | 0.000 | 0.001 | |
| accessionToUID | 0.414 | 0.065 | 2.243 | |
| annPkgName | 0.000 | 0.000 | 0.001 | |
| aqListGOIDs | 0.161 | 0.032 | 0.193 | |
| blastSequences | 0.165 | 0.012 | 42.127 | |
| buildChromLocation | 0.570 | 0.036 | 0.607 | |
| buildPubMedAbst | 0.052 | 0.000 | 0.613 | |
| chrCats | 8.355 | 0.336 | 8.690 | |
| chromLocation-class | 0.517 | 0.016 | 0.532 | |
| compatibleVersions | 0.029 | 0.000 | 0.029 | |
| dropECode | 0.032 | 0.000 | 0.033 | |
| entrezGeneByID | 0.001 | 0.000 | 0.000 | |
| entrezGeneQuery | 0.001 | 0.000 | 0.000 | |
| filterGOByOntology | 0.034 | 0.008 | 0.041 | |
| findNeighbors | 0.018 | 0.000 | 0.022 | |
| genbank | 0.264 | 0.048 | 0.956 | |
| getAnnMap | 0.031 | 0.016 | 0.059 | |
| getEvidence | 0.043 | 0.004 | 0.047 | |
| getGOTerm | 0.172 | 0.004 | 0.177 | |
| getOntology | 0.033 | 0.000 | 0.033 | |
| getPMInfo | 0.327 | 0.024 | 0.717 | |
| getSYMBOL | 0.124 | 0.004 | 0.128 | |
| getSeq4Acc | 0.015 | 0.008 | 0.514 | |
| hasGOannote | 0.034 | 0.004 | 0.038 | |
| hgByChroms | 0.012 | 0.008 | 0.020 | |
| hgCLengths | 0.001 | 0.000 | 0.001 | |
| hgu95Achroloc | 0.082 | 0.000 | 0.083 | |
| hgu95Achrom | 0.046 | 0.000 | 0.046 | |
| hgu95All | 0.054 | 0.000 | 0.055 | |
| hgu95Asym | 0.051 | 0.000 | 0.052 | |
| homoData-class | 0.002 | 0.000 | 0.001 | |
| htmlpage | 0.014 | 0.000 | 0.014 | |
| isValidkey | 0.000 | 0.000 | 0.001 | |
| makeAnchor | 0.001 | 0.000 | 0.000 | |
| organism | 0.560 | 0.024 | 0.584 | |
| p2LL | 0 | 0 | 0 | |
| pm.abstGrep | 0.792 | 0.057 | 1.660 | |
| pm.getabst | 0.871 | 0.104 | 2.096 | |
| pm.titles | 0.753 | 0.072 | 1.714 | |
| pmAbst2HTML | 0.049 | 0.000 | 0.410 | |
| pmid2MIAME | 0.000 | 0.000 | 0.001 | |
| pmidQuery | 0 | 0 | 0 | |
| pubMedAbst-class | 0.042 | 0.004 | 0.393 | |
| pubmed | 0.031 | 0.005 | 0.419 | |
| readGEOAnn | 0 | 0 | 0 | |
| serializeEnv | 0.000 | 0.001 | 0.001 | |
| setRepository | 0.000 | 0.000 | 0.001 | |
| updateSymbolsToValidKeys | 0 | 0 | 0 | |
| usedChromGenes | 0.069 | 0.000 | 0.069 | |