| Back to Multiple platform build/check report for BioC 3.16: simplified long |
|
This page was generated on 2023-04-12 11:05:59 -0400 (Wed, 12 Apr 2023).
| Hostname | OS | Arch (*) | R version | Installed pkgs |
|---|---|---|---|---|
| nebbiolo2 | Linux (Ubuntu 20.04.5 LTS) | x86_64 | 4.2.3 (2023-03-15) -- "Shortstop Beagle" | 4502 |
| palomino4 | Windows Server 2022 Datacenter | x64 | 4.2.3 (2023-03-15 ucrt) -- "Shortstop Beagle" | 4282 |
| lconway | macOS 12.5.1 Monterey | x86_64 | 4.2.3 (2023-03-15) -- "Shortstop Beagle" | 4310 |
| Click on any hostname to see more info about the system (e.g. compilers) (*) as reported by 'uname -p', except on Windows and Mac OS X | ||||
|
To the developers/maintainers of the annotate package: - Please allow up to 24 hours (and sometimes 48 hours) for your latest push to git@git.bioconductor.org:packages/annotate.git to reflect on this report. See How and When does the builder pull? When will my changes propagate? for more information. - Make sure to use the following settings in order to reproduce any error or warning you see on this page. |
| Package 55/2183 | Hostname | OS / Arch | INSTALL | BUILD | CHECK | BUILD BIN | ||||||||
| annotate 1.76.0 (landing page) Bioconductor Package Maintainer
| nebbiolo2 | Linux (Ubuntu 20.04.5 LTS) / x86_64 | OK | OK | OK | |||||||||
| palomino4 | Windows Server 2022 Datacenter / x64 | OK | OK | ERROR | OK | |||||||||
| lconway | macOS 12.5.1 Monterey / x86_64 | OK | OK | OK | OK | |||||||||
| Package: annotate |
| Version: 1.76.0 |
| Command: /Library/Frameworks/R.framework/Resources/bin/R CMD check --install=check:annotate.install-out.txt --library=/Library/Frameworks/R.framework/Resources/library --no-vignettes --timings annotate_1.76.0.tar.gz |
| StartedAt: 2023-04-10 18:46:43 -0400 (Mon, 10 Apr 2023) |
| EndedAt: 2023-04-10 18:51:56 -0400 (Mon, 10 Apr 2023) |
| EllapsedTime: 313.6 seconds |
| RetCode: 0 |
| Status: OK |
| CheckDir: annotate.Rcheck |
| Warnings: 0 |
##############################################################################
##############################################################################
###
### Running command:
###
### /Library/Frameworks/R.framework/Resources/bin/R CMD check --install=check:annotate.install-out.txt --library=/Library/Frameworks/R.framework/Resources/library --no-vignettes --timings annotate_1.76.0.tar.gz
###
##############################################################################
##############################################################################
* using log directory ‘/Users/biocbuild/bbs-3.16-bioc/meat/annotate.Rcheck’
* using R version 4.2.3 (2023-03-15)
* using platform: x86_64-apple-darwin17.0 (64-bit)
* using session charset: UTF-8
* using option ‘--no-vignettes’
* checking for file ‘annotate/DESCRIPTION’ ... OK
* this is package ‘annotate’ version ‘1.76.0’
* checking package namespace information ... OK
* checking package dependencies ... OK
* checking if this is a source package ... OK
* checking if there is a namespace ... OK
* checking for hidden files and directories ... OK
* checking for portable file names ... OK
* checking for sufficient/correct file permissions ... OK
* checking whether package ‘annotate’ can be installed ... OK
* checking installed package size ... OK
* checking package directory ... OK
* checking ‘build’ directory ... OK
* checking DESCRIPTION meta-information ... OK
* checking top-level files ... OK
* checking for left-over files ... OK
* checking index information ... OK
* checking package subdirectories ... OK
* checking R files for non-ASCII characters ... OK
* checking R files for syntax errors ... OK
* checking whether the package can be loaded ... OK
* checking whether the package can be loaded with stated dependencies ... OK
* checking whether the package can be unloaded cleanly ... OK
* checking whether the namespace can be loaded with stated dependencies ... OK
* checking whether the namespace can be unloaded cleanly ... OK
* checking dependencies in R code ... NOTE
Unexported object imported by a ':::' call: ‘BiocGenerics:::testPackage’
See the note in ?`:::` about the use of this operator.
* checking S3 generic/method consistency ... OK
* checking replacement functions ... OK
* checking foreign function calls ... OK
* checking R code for possible problems ... OK
* checking Rd files ... OK
* checking Rd metadata ... OK
* checking Rd cross-references ... OK
* checking for missing documentation entries ... OK
* checking for code/documentation mismatches ... OK
* checking Rd \usage sections ... OK
* checking Rd contents ... OK
* checking for unstated dependencies in examples ... OK
* checking contents of ‘data’ directory ... OK
* checking data for non-ASCII characters ... OK
* checking data for ASCII and uncompressed saves ... OK
* checking sizes of PDF files under ‘inst/doc’ ... OK
* checking files in ‘vignettes’ ... OK
* checking examples ... OK
Examples with CPU (user + system) or elapsed time > 5s
user system elapsed
chrCats 8.052 0.068 8.133
blastSequences 0.572 0.045 168.997
* checking for unstated dependencies in ‘tests’ ... OK
* checking tests ...
Running ‘annotate_unit_tests.R’
OK
* checking for unstated dependencies in vignettes ... OK
* checking package vignettes in ‘inst/doc’ ... OK
* checking running R code from vignettes ... SKIPPED
* checking re-building of vignette outputs ... SKIPPED
* checking PDF version of manual ... OK
* DONE
Status: 1 NOTE
See
‘/Users/biocbuild/bbs-3.16-bioc/meat/annotate.Rcheck/00check.log’
for details.
annotate.Rcheck/00install.out
############################################################################## ############################################################################## ### ### Running command: ### ### /Library/Frameworks/R.framework/Resources/bin/R CMD INSTALL annotate ### ############################################################################## ############################################################################## * installing to library ‘/Library/Frameworks/R.framework/Versions/4.2/Resources/library’ * installing *source* package ‘annotate’ ... ** using staged installation ** R ** data ** inst ** byte-compile and prepare package for lazy loading ** help *** installing help indices ** building package indices ** installing vignettes ** testing if installed package can be loaded from temporary location ** testing if installed package can be loaded from final location ** testing if installed package keeps a record of temporary installation path * DONE (annotate)
annotate.Rcheck/tests/annotate_unit_tests.Rout
R version 4.2.3 (2023-03-15) -- "Shortstop Beagle"
Copyright (C) 2023 The R Foundation for Statistical Computing
Platform: x86_64-apple-darwin17.0 (64-bit)
R is free software and comes with ABSOLUTELY NO WARRANTY.
You are welcome to redistribute it under certain conditions.
Type 'license()' or 'licence()' for distribution details.
R is a collaborative project with many contributors.
Type 'contributors()' for more information and
'citation()' on how to cite R or R packages in publications.
Type 'demo()' for some demos, 'help()' for on-line help, or
'help.start()' for an HTML browser interface to help.
Type 'q()' to quit R.
> BiocGenerics:::testPackage("annotate")
Attaching package: 'BiocGenerics'
The following objects are masked from 'package:stats':
IQR, mad, sd, var, xtabs
The following objects are masked from 'package:base':
Filter, Find, Map, Position, Reduce, anyDuplicated, aperm, append,
as.data.frame, basename, cbind, colnames, dirname, do.call,
duplicated, eval, evalq, get, grep, grepl, intersect, is.unsorted,
lapply, mapply, match, mget, order, paste, pmax, pmax.int, pmin,
pmin.int, rank, rbind, rownames, sapply, setdiff, sort, table,
tapply, union, unique, unsplit, which.max, which.min
Welcome to Bioconductor
Vignettes contain introductory material; view with
'browseVignettes()'. To cite Bioconductor, see
'citation("Biobase")', and for packages 'citation("pkgname")'.
Attaching package: 'S4Vectors'
The following objects are masked from 'package:base':
I, expand.grid, unname
Loading required package: org.Hs.eg.db
'select()' returned 1:many mapping between keys and columns
RUNIT TEST PROTOCOL -- Mon Apr 10 18:51:46 2023
***********************************************
Number of test functions: 1
Number of errors: 0
Number of failures: 0
1 Test Suite :
annotate RUnit Tests - 1 test function, 0 errors, 0 failures
Number of test functions: 1
Number of errors: 0
Number of failures: 0
>
> proc.time()
user system elapsed
6.856 0.570 7.449
annotate.Rcheck/annotate-Ex.timings
| name | user | system | elapsed | |
| ACCNUMStats | 1.342 | 0.019 | 1.364 | |
| GO2heatmap | 0.128 | 0.007 | 0.135 | |
| GOmnplot | 0.048 | 0.004 | 0.052 | |
| HTMLPage-class | 0 | 0 | 0 | |
| LL2homology | 0 | 0 | 0 | |
| PMIDAmat | 0.095 | 0.004 | 0.101 | |
| PWAmat | 1.680 | 0.042 | 1.725 | |
| UniGeneQuery | 0.001 | 0.000 | 0.001 | |
| accessionToUID | 0.290 | 0.033 | 2.690 | |
| annPkgName | 0.001 | 0.000 | 0.001 | |
| aqListGOIDs | 0.150 | 0.014 | 0.166 | |
| blastSequences | 0.572 | 0.045 | 168.997 | |
| buildChromLocation | 0.665 | 0.045 | 0.713 | |
| buildPubMedAbst | 0.036 | 0.003 | 0.419 | |
| chrCats | 8.052 | 0.068 | 8.133 | |
| chromLocation-class | 0.611 | 0.042 | 0.656 | |
| compatibleVersions | 0.045 | 0.003 | 0.048 | |
| dropECode | 0.047 | 0.003 | 0.050 | |
| entrezGeneByID | 0.000 | 0.000 | 0.001 | |
| entrezGeneQuery | 0.001 | 0.001 | 0.001 | |
| filterGOByOntology | 0.055 | 0.002 | 0.057 | |
| findNeighbors | 0.024 | 0.003 | 0.031 | |
| genbank | 0.200 | 0.012 | 0.972 | |
| getAnnMap | 0.040 | 0.008 | 0.052 | |
| getEvidence | 0.056 | 0.002 | 0.059 | |
| getGOTerm | 0.194 | 0.005 | 0.202 | |
| getOntology | 0.041 | 0.003 | 0.043 | |
| getPMInfo | 0.247 | 0.004 | 0.767 | |
| getSYMBOL | 0.113 | 0.013 | 0.127 | |
| getSeq4Acc | 0.014 | 0.002 | 0.739 | |
| hasGOannote | 0.025 | 0.001 | 0.026 | |
| hgByChroms | 0.012 | 0.001 | 0.013 | |
| hgCLengths | 0.001 | 0.001 | 0.003 | |
| hgu95Achroloc | 0.059 | 0.004 | 0.063 | |
| hgu95Achrom | 0.044 | 0.003 | 0.047 | |
| hgu95All | 0.047 | 0.003 | 0.049 | |
| hgu95Asym | 0.050 | 0.003 | 0.053 | |
| homoData-class | 0.001 | 0.000 | 0.001 | |
| htmlpage | 0.014 | 0.002 | 0.017 | |
| isValidkey | 0 | 0 | 0 | |
| makeAnchor | 0.001 | 0.000 | 0.001 | |
| organism | 0.576 | 0.031 | 0.607 | |
| p2LL | 0 | 0 | 0 | |
| pm.abstGrep | 0.715 | 0.018 | 2.184 | |
| pm.getabst | 1.122 | 0.035 | 2.112 | |
| pm.titles | 0.637 | 0.018 | 1.622 | |
| pmAbst2HTML | 0.048 | 0.005 | 0.515 | |
| pmid2MIAME | 0.000 | 0.001 | 0.000 | |
| pmidQuery | 0.001 | 0.000 | 0.001 | |
| pubMedAbst-class | 0.028 | 0.003 | 0.391 | |
| pubmed | 0.022 | 0.003 | 0.734 | |
| readGEOAnn | 0 | 0 | 0 | |
| serializeEnv | 0.001 | 0.001 | 0.001 | |
| setRepository | 0.001 | 0.000 | 0.001 | |
| updateSymbolsToValidKeys | 0.001 | 0.000 | 0.000 | |
| usedChromGenes | 0.077 | 0.004 | 0.082 | |