| Back to Multiple platform build/check report for BioC 3.16: simplified long |
|
This page was generated on 2023-04-12 11:05:21 -0400 (Wed, 12 Apr 2023).
| Hostname | OS | Arch (*) | R version | Installed pkgs |
|---|---|---|---|---|
| nebbiolo2 | Linux (Ubuntu 20.04.5 LTS) | x86_64 | 4.2.3 (2023-03-15) -- "Shortstop Beagle" | 4502 |
| palomino4 | Windows Server 2022 Datacenter | x64 | 4.2.3 (2023-03-15 ucrt) -- "Shortstop Beagle" | 4282 |
| lconway | macOS 12.5.1 Monterey | x86_64 | 4.2.3 (2023-03-15) -- "Shortstop Beagle" | 4310 |
| Click on any hostname to see more info about the system (e.g. compilers) (*) as reported by 'uname -p', except on Windows and Mac OS X | ||||
|
To the developers/maintainers of the SWATH2stats package: - Please allow up to 24 hours (and sometimes 48 hours) for your latest push to git@git.bioconductor.org:packages/SWATH2stats.git to reflect on this report. See How and When does the builder pull? When will my changes propagate? for more information. - Make sure to use the following settings in order to reproduce any error or warning you see on this page. |
| Package 2002/2183 | Hostname | OS / Arch | INSTALL | BUILD | CHECK | BUILD BIN | ||||||||
| SWATH2stats 1.28.0 (landing page) Peter Blattmann
| nebbiolo2 | Linux (Ubuntu 20.04.5 LTS) / x86_64 | OK | OK | OK | |||||||||
| palomino4 | Windows Server 2022 Datacenter / x64 | OK | OK | OK | OK | |||||||||
| lconway | macOS 12.5.1 Monterey / x86_64 | OK | OK | OK | OK | |||||||||
| Package: SWATH2stats |
| Version: 1.28.0 |
| Command: /home/biocbuild/bbs-3.16-bioc/R/bin/R CMD check --install=check:SWATH2stats.install-out.txt --library=/home/biocbuild/bbs-3.16-bioc/R/site-library --timings SWATH2stats_1.28.0.tar.gz |
| StartedAt: 2023-04-11 00:26:56 -0400 (Tue, 11 Apr 2023) |
| EndedAt: 2023-04-11 00:29:59 -0400 (Tue, 11 Apr 2023) |
| EllapsedTime: 182.9 seconds |
| RetCode: 0 |
| Status: OK |
| CheckDir: SWATH2stats.Rcheck |
| Warnings: 0 |
##############################################################################
##############################################################################
###
### Running command:
###
### /home/biocbuild/bbs-3.16-bioc/R/bin/R CMD check --install=check:SWATH2stats.install-out.txt --library=/home/biocbuild/bbs-3.16-bioc/R/site-library --timings SWATH2stats_1.28.0.tar.gz
###
##############################################################################
##############################################################################
* using log directory ‘/home/biocbuild/bbs-3.16-bioc/meat/SWATH2stats.Rcheck’
* using R version 4.2.3 (2023-03-15)
* using platform: x86_64-pc-linux-gnu (64-bit)
* using session charset: UTF-8
* checking for file ‘SWATH2stats/DESCRIPTION’ ... OK
* checking extension type ... Package
* this is package ‘SWATH2stats’ version ‘1.28.0’
* package encoding: UTF-8
* checking package namespace information ... OK
* checking package dependencies ... NOTE
Package which this enhances but not available for checking: ‘aLFQ’
* checking if this is a source package ... OK
* checking if there is a namespace ... OK
* checking for hidden files and directories ... OK
* checking for portable file names ... OK
* checking for sufficient/correct file permissions ... OK
* checking whether package ‘SWATH2stats’ can be installed ... OK
* checking installed package size ... OK
* checking package directory ... OK
* checking ‘build’ directory ... OK
* checking DESCRIPTION meta-information ... OK
* checking top-level files ... OK
* checking for left-over files ... OK
* checking index information ... OK
* checking package subdirectories ... OK
* checking R files for non-ASCII characters ... OK
* checking R files for syntax errors ... OK
* checking whether the package can be loaded ... OK
* checking whether the package can be loaded with stated dependencies ... OK
* checking whether the package can be unloaded cleanly ... OK
* checking whether the namespace can be loaded with stated dependencies ... OK
* checking whether the namespace can be unloaded cleanly ... OK
* checking loading without being on the library search path ... OK
* checking dependencies in R code ... OK
* checking S3 generic/method consistency ... OK
* checking replacement functions ... OK
* checking foreign function calls ... OK
* checking R code for possible problems ... OK
* checking Rd files ... OK
* checking Rd metadata ... OK
* checking Rd cross-references ... OK
* checking for missing documentation entries ... OK
* checking for code/documentation mismatches ... OK
* checking Rd \usage sections ... OK
* checking Rd contents ... OK
* checking for unstated dependencies in examples ... OK
* checking contents of ‘data’ directory ... OK
* checking data for non-ASCII characters ... OK
* checking data for ASCII and uncompressed saves ... OK
* checking files in ‘vignettes’ ... OK
* checking examples ... OK
Examples with CPU (user + system) or elapsed time > 5s
user system elapsed
load_mart 0.586 0.051 5.986
* checking for unstated dependencies in ‘tests’ ... OK
* checking tests ...
Running ‘test-all.R’
OK
* checking for unstated dependencies in vignettes ... OK
* checking package vignettes in ‘inst/doc’ ... OK
* checking running R code from vignettes ...
‘SWATH2stats_example_script.Rmd’ using ‘UTF-8’... OK
‘SWATH2stats_vignette.Rnw’ using ‘UTF-8’... OK
OK
* checking re-building of vignette outputs ... OK
* checking PDF version of manual ... OK
* DONE
Status: 1 NOTE
See
‘/home/biocbuild/bbs-3.16-bioc/meat/SWATH2stats.Rcheck/00check.log’
for details.
SWATH2stats.Rcheck/00install.out
############################################################################## ############################################################################## ### ### Running command: ### ### /home/biocbuild/bbs-3.16-bioc/R/bin/R CMD INSTALL SWATH2stats ### ############################################################################## ############################################################################## * installing to library ‘/home/biocbuild/bbs-3.16-bioc/R/site-library’ * installing *source* package ‘SWATH2stats’ ... ** using staged installation ** R ** data ** inst ** byte-compile and prepare package for lazy loading ** help *** installing help indices ** building package indices ** installing vignettes ** testing if installed package can be loaded from temporary location ** testing if installed package can be loaded from final location ** testing if installed package keeps a record of temporary installation path * DONE (SWATH2stats)
SWATH2stats.Rcheck/tests/test-all.Rout
R version 4.2.3 (2023-03-15) -- "Shortstop Beagle"
Copyright (C) 2023 The R Foundation for Statistical Computing
Platform: x86_64-pc-linux-gnu (64-bit)
R is free software and comes with ABSOLUTELY NO WARRANTY.
You are welcome to redistribute it under certain conditions.
Type 'license()' or 'licence()' for distribution details.
R is a collaborative project with many contributors.
Type 'contributors()' for more information and
'citation()' on how to cite R or R packages in publications.
Type 'demo()' for some demos, 'help()' for on-line help, or
'help.start()' for an HTML browser interface to help.
Type 'q()' to quit R.
> library(testthat)
> test_check("SWATH2stats")
Loading required package: SWATH2stats
[1] "peterb_J131223_054"
[1] "peterb_L150425_011_SW"
[1] "peterb_L150514_002_SW"
[ FAIL 0 | WARN 74 | SKIP 0 | PASS 113 ]
[ FAIL 0 | WARN 74 | SKIP 0 | PASS 113 ]
>
> proc.time()
user system elapsed
11.675 0.629 18.268
SWATH2stats.Rcheck/SWATH2stats-Ex.timings
| name | user | system | elapsed | |
| JPP_update | 0.097 | 0.008 | 0.105 | |
| add_genesymbol | 0.006 | 0.000 | 0.007 | |
| assess_decoy_rate | 0.089 | 0.009 | 0.096 | |
| assess_fdr_byrun | 0.136 | 0.024 | 0.159 | |
| assess_fdr_overall | 0.124 | 0.007 | 0.132 | |
| convert4MSstats | 0.633 | 0.040 | 0.674 | |
| convert4PECA | 0.15 | 0.00 | 0.15 | |
| convert4aLFQ | 0.565 | 0.008 | 0.573 | |
| convert4mapDIA | 0.302 | 0.011 | 0.315 | |
| convert4pythonscript | 0.115 | 0.001 | 0.116 | |
| convert_protein_ids | 0 | 0 | 0 | |
| count_analytes | 0.119 | 0.003 | 0.122 | |
| disaggregate | 0.181 | 0.000 | 0.181 | |
| filter_all_peptides | 0.125 | 0.001 | 0.125 | |
| filter_mscore | 0.184 | 0.007 | 0.169 | |
| filter_mscore_condition | 0.167 | 0.004 | 0.154 | |
| filter_mscore_fdr | 0.301 | 0.000 | 0.297 | |
| filter_mscore_freqobs | 0.154 | 0.000 | 0.135 | |
| filter_on_max_peptides | 0.154 | 0.000 | 0.140 | |
| filter_on_min_peptides | 0.149 | 0.000 | 0.135 | |
| filter_proteotypic_peptides | 0.11 | 0.00 | 0.11 | |
| import_data | 0.428 | 0.012 | 0.440 | |
| load_mart | 0.586 | 0.051 | 5.986 | |
| mscore4assayfdr | 0.284 | 0.020 | 0.303 | |
| mscore4pepfdr | 0.237 | 0.028 | 0.265 | |
| mscore4protfdr | 0.187 | 0.000 | 0.187 | |
| plot.fdr_cube | 0.131 | 0.000 | 0.131 | |
| plot.fdr_table | 0.126 | 0.004 | 0.130 | |
| plot_correlation_between_samples | 0.391 | 0.024 | 0.415 | |
| plot_variation | 0.794 | 0.072 | 0.867 | |
| plot_variation_vs_total | 0.329 | 0.016 | 0.346 | |
| reduce_OpenSWATH_output | 0.102 | 0.004 | 0.106 | |
| removeDecoyProteins | 0.102 | 0.004 | 0.106 | |
| sample_annotation | 0.128 | 0.004 | 0.131 | |
| transform_MSstats_OpenSWATH | 0.003 | 0.000 | 0.003 | |
| unifyProteinGroupLabels | 0.128 | 0.020 | 0.148 | |
| validate_columns | 0.001 | 0.000 | 0.001 | |
| write_matrix_peptides | 0.11 | 0.00 | 0.11 | |
| write_matrix_proteins | 0.099 | 0.004 | 0.103 | |