| Back to Multiple platform build/check report for BioC 3.16: simplified long |
|
This page was generated on 2023-04-12 11:06:29 -0400 (Wed, 12 Apr 2023).
| Hostname | OS | Arch (*) | R version | Installed pkgs |
|---|---|---|---|---|
| nebbiolo2 | Linux (Ubuntu 20.04.5 LTS) | x86_64 | 4.2.3 (2023-03-15) -- "Shortstop Beagle" | 4502 |
| palomino4 | Windows Server 2022 Datacenter | x64 | 4.2.3 (2023-03-15 ucrt) -- "Shortstop Beagle" | 4282 |
| lconway | macOS 12.5.1 Monterey | x86_64 | 4.2.3 (2023-03-15) -- "Shortstop Beagle" | 4310 |
| Click on any hostname to see more info about the system (e.g. compilers) (*) as reported by 'uname -p', except on Windows and Mac OS X | ||||
|
To the developers/maintainers of the SWATH2stats package: - Please allow up to 24 hours (and sometimes 48 hours) for your latest push to git@git.bioconductor.org:packages/SWATH2stats.git to reflect on this report. See How and When does the builder pull? When will my changes propagate? for more information. - Make sure to use the following settings in order to reproduce any error or warning you see on this page. |
| Package 2002/2183 | Hostname | OS / Arch | INSTALL | BUILD | CHECK | BUILD BIN | ||||||||
| SWATH2stats 1.28.0 (landing page) Peter Blattmann
| nebbiolo2 | Linux (Ubuntu 20.04.5 LTS) / x86_64 | OK | OK | OK | |||||||||
| palomino4 | Windows Server 2022 Datacenter / x64 | OK | OK | OK | OK | |||||||||
| lconway | macOS 12.5.1 Monterey / x86_64 | OK | OK | OK | OK | |||||||||
| Package: SWATH2stats |
| Version: 1.28.0 |
| Command: /Library/Frameworks/R.framework/Resources/bin/R CMD check --install=check:SWATH2stats.install-out.txt --library=/Library/Frameworks/R.framework/Resources/library --no-vignettes --timings SWATH2stats_1.28.0.tar.gz |
| StartedAt: 2023-04-10 23:00:47 -0400 (Mon, 10 Apr 2023) |
| EndedAt: 2023-04-10 23:03:22 -0400 (Mon, 10 Apr 2023) |
| EllapsedTime: 154.4 seconds |
| RetCode: 0 |
| Status: OK |
| CheckDir: SWATH2stats.Rcheck |
| Warnings: 0 |
##############################################################################
##############################################################################
###
### Running command:
###
### /Library/Frameworks/R.framework/Resources/bin/R CMD check --install=check:SWATH2stats.install-out.txt --library=/Library/Frameworks/R.framework/Resources/library --no-vignettes --timings SWATH2stats_1.28.0.tar.gz
###
##############################################################################
##############################################################################
* using log directory ‘/Users/biocbuild/bbs-3.16-bioc/meat/SWATH2stats.Rcheck’
* using R version 4.2.3 (2023-03-15)
* using platform: x86_64-apple-darwin17.0 (64-bit)
* using session charset: UTF-8
* using option ‘--no-vignettes’
* checking for file ‘SWATH2stats/DESCRIPTION’ ... OK
* checking extension type ... Package
* this is package ‘SWATH2stats’ version ‘1.28.0’
* package encoding: UTF-8
* checking package namespace information ... OK
* checking package dependencies ... NOTE
Package which this enhances but not available for checking: ‘aLFQ’
* checking if this is a source package ... OK
* checking if there is a namespace ... OK
* checking for hidden files and directories ... OK
* checking for portable file names ... OK
* checking for sufficient/correct file permissions ... OK
* checking whether package ‘SWATH2stats’ can be installed ... OK
* checking installed package size ... OK
* checking package directory ... OK
* checking ‘build’ directory ... OK
* checking DESCRIPTION meta-information ... OK
* checking top-level files ... OK
* checking for left-over files ... OK
* checking index information ... OK
* checking package subdirectories ... OK
* checking R files for non-ASCII characters ... OK
* checking R files for syntax errors ... OK
* checking whether the package can be loaded ... OK
* checking whether the package can be loaded with stated dependencies ... OK
* checking whether the package can be unloaded cleanly ... OK
* checking whether the namespace can be loaded with stated dependencies ... OK
* checking whether the namespace can be unloaded cleanly ... OK
* checking dependencies in R code ... OK
* checking S3 generic/method consistency ... OK
* checking replacement functions ... OK
* checking foreign function calls ... OK
* checking R code for possible problems ... OK
* checking Rd files ... OK
* checking Rd metadata ... OK
* checking Rd cross-references ... OK
* checking for missing documentation entries ... OK
* checking for code/documentation mismatches ... OK
* checking Rd \usage sections ... OK
* checking Rd contents ... OK
* checking for unstated dependencies in examples ... OK
* checking contents of ‘data’ directory ... OK
* checking data for non-ASCII characters ... OK
* checking data for ASCII and uncompressed saves ... OK
* checking sizes of PDF files under ‘inst/doc’ ... OK
* checking files in ‘vignettes’ ... OK
* checking examples ... OK
Examples with CPU (user + system) or elapsed time > 5s
user system elapsed
load_mart 0.518 0.048 12.184
* checking for unstated dependencies in ‘tests’ ... OK
* checking tests ...
Running ‘test-all.R’
OK
* checking for unstated dependencies in vignettes ... OK
* checking package vignettes in ‘inst/doc’ ... OK
* checking running R code from vignettes ... SKIPPED
* checking re-building of vignette outputs ... SKIPPED
* checking PDF version of manual ... OK
* DONE
Status: 1 NOTE
See
‘/Users/biocbuild/bbs-3.16-bioc/meat/SWATH2stats.Rcheck/00check.log’
for details.
SWATH2stats.Rcheck/00install.out
############################################################################## ############################################################################## ### ### Running command: ### ### /Library/Frameworks/R.framework/Resources/bin/R CMD INSTALL SWATH2stats ### ############################################################################## ############################################################################## * installing to library ‘/Library/Frameworks/R.framework/Versions/4.2/Resources/library’ * installing *source* package ‘SWATH2stats’ ... ** using staged installation ** R ** data ** inst ** byte-compile and prepare package for lazy loading ** help *** installing help indices ** building package indices ** installing vignettes ** testing if installed package can be loaded from temporary location ** testing if installed package can be loaded from final location ** testing if installed package keeps a record of temporary installation path * DONE (SWATH2stats)
SWATH2stats.Rcheck/tests/test-all.Rout
R version 4.2.3 (2023-03-15) -- "Shortstop Beagle"
Copyright (C) 2023 The R Foundation for Statistical Computing
Platform: x86_64-apple-darwin17.0 (64-bit)
R is free software and comes with ABSOLUTELY NO WARRANTY.
You are welcome to redistribute it under certain conditions.
Type 'license()' or 'licence()' for distribution details.
R is a collaborative project with many contributors.
Type 'contributors()' for more information and
'citation()' on how to cite R or R packages in publications.
Type 'demo()' for some demos, 'help()' for on-line help, or
'help.start()' for an HTML browser interface to help.
Type 'q()' to quit R.
> library(testthat)
> test_check("SWATH2stats")
Loading required package: SWATH2stats
[1] "peterb_J131223_054"
[1] "peterb_L150425_011_SW"
[1] "peterb_L150514_002_SW"
[ FAIL 0 | WARN 74 | SKIP 0 | PASS 113 ]
[ FAIL 0 | WARN 74 | SKIP 0 | PASS 113 ]
>
> proc.time()
user system elapsed
11.137 0.585 18.009
SWATH2stats.Rcheck/SWATH2stats-Ex.timings
| name | user | system | elapsed | |
| JPP_update | 0.117 | 0.005 | 0.122 | |
| add_genesymbol | 0.006 | 0.001 | 0.008 | |
| assess_decoy_rate | 0.114 | 0.004 | 0.118 | |
| assess_fdr_byrun | 0.181 | 0.012 | 0.198 | |
| assess_fdr_overall | 0.162 | 0.011 | 0.175 | |
| convert4MSstats | 0.565 | 0.015 | 0.583 | |
| convert4PECA | 0.149 | 0.004 | 0.154 | |
| convert4aLFQ | 0.585 | 0.025 | 0.611 | |
| convert4mapDIA | 0.367 | 0.012 | 0.382 | |
| convert4pythonscript | 0.127 | 0.003 | 0.132 | |
| convert_protein_ids | 0.000 | 0.000 | 0.001 | |
| count_analytes | 0.155 | 0.014 | 0.170 | |
| disaggregate | 0.222 | 0.013 | 0.238 | |
| filter_all_peptides | 0.147 | 0.011 | 0.159 | |
| filter_mscore | 0.170 | 0.007 | 0.179 | |
| filter_mscore_condition | 0.179 | 0.006 | 0.191 | |
| filter_mscore_fdr | 0.285 | 0.029 | 0.317 | |
| filter_mscore_freqobs | 0.134 | 0.005 | 0.139 | |
| filter_on_max_peptides | 0.148 | 0.004 | 0.152 | |
| filter_on_min_peptides | 0.150 | 0.003 | 0.156 | |
| filter_proteotypic_peptides | 0.105 | 0.003 | 0.108 | |
| import_data | 0.390 | 0.013 | 0.404 | |
| load_mart | 0.518 | 0.048 | 12.184 | |
| mscore4assayfdr | 0.310 | 0.015 | 0.325 | |
| mscore4pepfdr | 0.262 | 0.021 | 0.284 | |
| mscore4protfdr | 0.198 | 0.011 | 0.210 | |
| plot.fdr_cube | 0.118 | 0.006 | 0.125 | |
| plot.fdr_table | 0.129 | 0.006 | 0.135 | |
| plot_correlation_between_samples | 0.368 | 0.012 | 0.383 | |
| plot_variation | 0.363 | 0.010 | 0.374 | |
| plot_variation_vs_total | 0.314 | 0.005 | 0.319 | |
| reduce_OpenSWATH_output | 0.120 | 0.004 | 0.123 | |
| removeDecoyProteins | 0.134 | 0.006 | 0.140 | |
| sample_annotation | 0.147 | 0.006 | 0.153 | |
| transform_MSstats_OpenSWATH | 0.003 | 0.001 | 0.003 | |
| unifyProteinGroupLabels | 0.112 | 0.001 | 0.114 | |
| validate_columns | 0.000 | 0.000 | 0.001 | |
| write_matrix_peptides | 0.116 | 0.002 | 0.117 | |
| write_matrix_proteins | 0.104 | 0.002 | 0.105 | |